Workbook

Sheet summary
A2: GOVERNMENT OF PAKISTAN
A3: PAKISTAN BUREAU OF STATISTICS
A6: TRADE IN SERVICES (SUMMARY)
A7: July, 2026
F8: Rs. In Million
F9: Dollars in Thousands
B10: July, 2026 (P ) | D10: June, 2026 (P ) | F10: % Change in July, 2026
A11: Description | F11: over June, 2026
B12: Rs | C12: $ | D12: Rs | E12: $ | F12: Rs | G12: $
A14: Export of Services (TOTAL) | B14: =detail!B7 -> 257881.59 | C14: =detail!C7 -> 926837.9 | D14: =detail!D7 -> 262701.12 | E14: =detail!E7 -> 943002.15 | F14: =IFERROR(B14/D14*100-100,"0.00") -> -1.834607 | G14: =IFERROR(C14/E14*100-100,"0.00") -> -1.7141271
A15: 1.Manufacturing services on physical inputs owned by others | B15: =detail!$B$8 -> 0 | C15: =detail!$C$8 -> 0 | D15: =detail!$D$8 -> 0 | E15: =detail!$E$8 -> 0 | F15: - | G15: -
A16: 2.Maintenance and repair services n.i.e. | B16: =detail!$B$11 -> 121.50886 | C16: =detail!$C$11 -> 436.70826 | D16: =detail!$D$11 -> 106.04745 | E16: =detail!$E$11 -> 380.67206 | F16: =IFERROR(B16/D16*100-100,"0.00") -> 14.579709 | G16: =IFERROR(C16/E16*100-100,"0.00") -> 14.720334
A17: 3. Transport | B17: =detail!$B$12 -> 20654.409 | C17: =detail!$C$12 -> 74232.866 | D17: =detail!$D$12 -> 19813.74 | E17: =detail!$E$12 -> 71124.172 | F17: =IFERROR(B17/D17*100-100,"0.00") -> 4.2428595 | G17: =IFERROR(C17/E17*100-100,"0.00") -> 4.3707985
A18: 4. Travel | B18: =detail!$B$32 -> 31255.848 | C18: =detail!$C$32 -> 112334.91 | D18: =detail!$D$32 -> 35741.246 | E18: =detail!$E$32 -> 128298.17 | F18: =IFERROR(B18/D18*100-100,"0.00") -> -12.549641 | G18: =IFERROR(C18/E18*100-100,"0.00") -> -12.442312
A19: 5.Construction services | B19: =detail!$B$42 -> 1060.0308 | C19: =detail!$C$42 -> 3809.798 | D19: =detail!$D$42 -> 1799.7859 | E19: =detail!$E$42 -> 6460.5815 | F19: =IFERROR(B19/D19*100-100,"0.00") -> -41.102393 | G19: =IFERROR(C19/E19*100-100,"0.00") -> -41.030107
A20: 6. Insurance and Pension services | B20: =detail!$B$45 -> 2235.2267 | C20: =detail!$C$45 -> 8033.5043 | D20: =detail!$D$45 -> 1109.1693 | E20: =detail!$E$45 -> 3981.5171 | F20: =IFERROR(B20/D20*100-100,"0.00") -> 101.5226 | G20: =IFERROR(C20/E20*100-100,"0.00") -> 101.76993
A21: 7. Financial services | B21: =detail!$B$60 -> 2328.918 | C21: =detail!$C$60 -> 8370.2351 | D21: =detail!$D$60 -> 1103.9081 | E21: =detail!$E$60 -> 3962.6314 | F21: =IFERROR(B21/D21*100-100,"0.00") -> 110.97028 | G21: =IFERROR(C21/E21*100-100,"0.00") -> 111.22921
A22: 8. Charges for the use of intellectual services | B22: =detail!$B$63 -> 271.56239 | C22: =detail!$C$63 -> 976.0073 | D22: =detail!$D$63 -> 659.80069 | E22: =detail!$E$63 -> 2368.4462 | F22: =IFERROR(B22/D22*100-100,"0.00") -> -58.841755 | G22: =IFERROR(C22/E22*100-100,"0.00") -> -58.79124
A23: 9. Telecommunication, Computer and information services | B23: =detail!$B$64 -> 116139.18 | C23: =detail!$C$64 -> 417409.37 | D23: =detail!$D$64 -> 115831.73 | E23: =detail!$E$64 -> 415794.09 | F23: =IFERROR(B23/D23*100-100,"0.00") -> 0.26542184 | G23: =IFERROR(C23/E23*100-100,"0.00") -> 0.38847918
A24: 10. Other business services | B24: =detail!$B$78 -> 60465.349 | C24: =detail!$C$78 -> 217315.15 | D24: =detail!$D$78 -> 61391.898 | E24: =detail!$E$78 -> 220374.75 | F24: =IFERROR(B24/D24*100-100,"0.00") -> -1.5092378 | G24: =IFERROR(C24/E24*100-100,"0.00") -> -1.3883585
A25: 11. Personal, cultural, and recreational services | B25: =detail!$B$93 -> 4517.1489 | C25: =detail!$C$93 -> 16234.834 | D25: =detail!$D$93 -> 1328.7998 | E25: =detail!$E$93 -> 4769.9114 | F25: =IFERROR(B25/D25*100-100,"0.00") -> 239.94202 | G25: =IFERROR(C25/E25*100-100,"0.00") -> 240.35924
A26: 12. Government services, n.i.e. | B26: =detail!$B$98 -> 18832.408 | C26: =detail!$C$98 -> 67684.511 | D26: =detail!$D$98 -> 23814.989 | E26: =detail!$E$98 -> 85487.212 | F26: =IFERROR(B26/D26*100-100,"0.00") -> -20.92204 | G26: =IFERROR(C26/E26*100-100,"0.00") -> -20.824987
A27: Import of Services (TOTAL) | B27: =detail!B110 -> 321480.61 | C27: =detail!C110 -> 1155415.6 | D27: =detail!D110 -> 285979.25 | E27: =detail!E110 -> 1026562.2 | F27: =IFERROR(B27/D27*100-100,"0.00") -> 12.413964 | G27: =IFERROR(C27/E27*100-100,"0.00") -> 12.551931
A28: 1.Manufacturing services on physical inputs owned by others | B28: =detail!B111 -> 0 | C28: =detail!C111 -> 0 | D28: =detail!D111 -> 0 | E28: =detail!E111 -> 0 | F28: - | G28: -
A29: 2.Maintenance and repair services n.i.e. | B29: =detail!B114 -> 3378.9152 | C29: =detail!C114 -> 12143.971 | D29: =detail!D114 -> 864.04003 | E29: =detail!E114 -> 3101.5917 | F29: =IFERROR(B29/D29*100-100,"0.00") -> 291.06003 | G29: =IFERROR(C29/E29*100-100,"0.00") -> 291.53998
A30: 3. Transport | B30: =detail!B115 -> 122158.26 | C30: =detail!C115 -> 439042.21 | D30: =detail!D115 -> 117355.38 | E30: =detail!E115 -> 421263.44 | F30: =IFERROR(B30/D30*100-100,"0.00") -> 4.0925894 | G30: =IFERROR(C30/E30*100-100,"0.00") -> 4.2203438
A31: 4. Travel | B31: =detail!B135 -> 80769.814 | C31: =detail!C135 -> 290290.31 | D31: =detail!D135 -> 48137.326 | E31: =detail!E135 -> 172795.62 | F31: =IFERROR(B31/D31*100-100,"0.00") -> 67.790406 | G31: =IFERROR(C31/E31*100-100,"0.00") -> 67.996338
A32: 5.Construction services | B32: =detail!B145 -> 765.08309 | C32: =detail!C145 -> 2749.7427 | D32: =detail!D145 -> 2966.5536 | E32: =detail!E145 -> 10648.856 | F32: =IFERROR(B32/D32*100-100,"0.00") -> -74.209699 | G32: =IFERROR(C32/E32*100-100,"0.00") -> -74.178047
A33: 6. Insurance and Pension services | B33: =detail!B148 -> 9623.3259 | C33: =detail!C148 -> 34586.662 | D33: =detail!D148 -> 6681.7083 | E33: =detail!E148 -> 23984.92 | F33: =IFERROR(B33/D33*100-100,"0.00") -> 44.024933 | G33: =IFERROR(C33/E33*100-100,"0.00") -> 44.201697
A34: 7. Financial services | B34: =detail!B163 -> 15955.056 | C34: =detail!C163 -> 57343.182 | D34: =detail!D163 -> 14978.373 | E34: =detail!E163 -> 53766.949 | F34: =IFERROR(B34/D34*100-100,"0.00") -> 6.5206248 | G34: =IFERROR(C34/E34*100-100,"0.00") -> 6.6513593
A35: 8. Charges for the use of intellectual services | B35: =detail!B166 -> 8164.2625 | C35: =detail!C166 -> 29342.723 | D35: =detail!D166 -> 5151.5194 | E35: =detail!E166 -> 18492.094 | F35: =IFERROR(B35/D35*100-100,"0.00") -> 58.482612 | G35: =IFERROR(C35/E35*100-100,"0.00") -> 58.67712
A36: 9. Telecommunication, Computer and information services | B36: =detail!B167 -> 20237.491 | C36: =detail!C167 -> 72734.444 | D36: =detail!D167 -> 20355.023 | E36: =detail!E167 -> 73067.181 | F36: =IFERROR(B36/D36*100-100,"0.00") -> -0.57740761 | G36: =IFERROR(C36/E36*100-100,"0.00") -> -0.45538468
A37: 10. Other business services | B37: =detail!B181 -> 41612.052 | C37: =detail!C181 -> 149555.57 | D37: =detail!D181 -> 45710.913 | E37: =detail!E181 -> 164085.67 | F37: =IFERROR(B37/D37*100-100,"0.00") -> -8.9669202 | G37: =IFERROR(C37/E37*100-100,"0.00") -> -8.8551939
A38: 11. Personal, cultural, and recreational services | B38: =detail!B196 -> 3572.4656 | C38: =detail!C196 -> 12839.6 | D38: =detail!D196 -> 2388.1409 | E38: =detail!E196 -> 8572.5634 | F38: =IFERROR(B38/D38*100-100,"0.00") -> 49.591912 | G38: =IFERROR(C38/E38*100-100,"0.00") -> 49.775508
A39: 12. Government services, n.i.e. | B39: =detail!B201 -> 15243.892 | C39: =detail!C201 -> 54787.226 | D39: =detail!D201 -> 21390.275 | E39: =detail!E201 -> 76783.362 | F39: =IFERROR(B39/D39*100-100,"0.00") -> -28.734474 | G39: =IFERROR(C39/E39*100-100,"0.00") -> -28.647009
A41: Provisional figures based on figures provided by the State Bank of Pakistan.
A42: Revised by SBP
A43: Note:- SBP has swiched over from BPM-5 to BPM 6th addition from June, 2014.
A44: Dollar value converted into Rupees on the basis of monthly Banks' Floating Average exchange rate provided by SBP.
A45: July, 2026 (1$=Rs.278.238068) , June, 2026 (1$=Rs.278.579554) and July, 2025 (1$=Rs.284.213295)

Sheet detail
B1: EXPORTS OF SERVICES | I1: Rs. in Millions
I2: Dollars in Thousands
H3: % Change in July, 2026
B4: July, 2026 (P ) | D4: June, 2026 (R ) | F4: July, 2025 | H4: over
A5: Description | H5: June, 2026 | J5: July, 2025
B6: Rs | C6: $ | D6: Rs | E6: $ | F6: Rs | G6: $ | H6: Rs | I6: $ | J6: Rs | K6: $
A7: Services | B7: =B8+B11+B12+B32+B42+B45+B60+B63+B64+B78+B93+B98 -> 257881.59 | C7: =C8+C11+C12+C32+C42+C45+C60+C63+C64+C78+C93+C98 -> 926837.9 | D7: =D8+D11+D12+D32+D42+D45+D60+D63+D64+D78+D93+D98 -> 262701.12 | E7: =E8+E11+E12+E32+E42+E45+E60+E63+E64+E78+E93+E98 -> 943002.15 | F7: =F8+F11+F12+F32+F42+F45+F60+F63+F64+F78+F93+F98 -> 206949.5 | G7: =G8+G11+G12+G32+G42+G45+G60+G63+G64+G78+G93+G98 -> 728148.57 | H7: =IFERROR(B7/D7*100-100,"0.00") -> -1.834607 | I7: =IFERROR(C7/E7*100-100,"0.00") -> -1.7141271 | J7: =IFERROR(B7/F7*100-100,"0.00") -> 24.610874 | K7: =IFERROR(C7/G7*100-100,"0.00") -> 27.286921
A8: 1.Manufacturing services on physical inputs owned by others | B8: =SUM(B9:B10) -> 0 | C8: =SUM(C9:C10) -> 0 | D8: =SUM(D9:D10) -> 0 | E8: =SUM(E9:E10) -> 0 | F8: =SUM(F9:F10) -> 0 | G8: =SUM(G9:G10) -> 0 | H8: - | I8: - | J8: - | K8: -
A9: 1.1 Goods for processing in reporting economy | B9: 0 | C9: 0 | D9: 0 | E9: 0 | F9: 0 | G9: 0 | H9: - | I9: - | J9: - | K9: -
A10: 1.2 Goods for processing abroad | B10: 0 | C10: 0 | D10: 0 | E10: 0 | F10: 0 | G10: 0 | H10: - | I10: - | J10: - | K10: -
A11: 2.Maintenance and repair services n.i.e. | B11: 121.50886 | C11: 436.70826 | D11: 106.04745 | E11: 380.67206 | F11: 103.12884 | G11: 362.8572 | H11: =IFERROR(B11/D11*100-100,"0.00") -> 14.579709 | I11: =IFERROR(C11/E11*100-100,"0.00") -> 14.720334 | J11: =IFERROR(B11/F11*100-100,"0.00") -> 17.822388 | K11: =IFERROR(C11/G11*100-100,"0.00") -> 20.352651
A12: 3. Transport | B12: =B13+B17+B21+B25+B29+B30+B31 -> 20654.409 | C12: =C13+C17+C21+C25+C29+C30+C31 -> 74232.866 | D12: =D13+D17+D21+D25+D29+D30+D31 -> 19813.74 | E12: =E13+E17+E21+E25+E29+E30+E31 -> 71124.172 | F12: =F13+F17+F21+F25+F29+F30+F31 -> 18052.248 | G12: =G13+G17+G21+G25+G29+G30+G31 -> 63516.55 | H12: =IFERROR(B12/D12*100-100,"0.00") -> 4.2428595 | I12: =IFERROR(C12/E12*100-100,"0.00") -> 4.3707985 | J12: =IFERROR(B12/F12*100-100,"0.00") -> 14.414611 | K12: =IFERROR(C12/G12*100-100,"0.00") -> 16.871691
A13: 3.1 Sea transport | B13: =SUM(B14:B16) -> 5370.1836 | C13: =SUM(C14:C16) -> 19300.679 | D13: =SUM(D14:D16) -> 4692.5002 | E13: =SUM(E14:E16) -> 16844.381 | F13: =SUM(F14:F16) -> 2577.4631 | G13: =SUM(G14:G16) -> 9068.7631 | H13: =IFERROR(B13/D13*100-100,"0.00") -> 14.441841 | I13: =IFERROR(C13/E13*100-100,"0.00") -> 14.582298 | J13: =IFERROR(B13/F13*100-100,"0.00") -> 108.35153 | K13: =IFERROR(C13/G13*100-100,"0.00") -> 112.82592
A14: 3.1.1 Passenger | B14: 0 | C14: 0 | D14: 0 | E14: 0 | F14: 0 | G14: 0 | H14: - | I14: - | J14: - | K14: -
A15: 3.1.2 Freight | B15: 5079.3737 | C15: 18255.495 | D15: 4448.2883 | E15: 15967.749 | F15: 2112.9884 | G15: 7434.5165 | H15: =IFERROR(B15/D15*100-100,"0.00") -> 14.187154 | I15: =IFERROR(C15/E15*100-100,"0.00") -> 14.327297 | J15: =IFERROR(B15/F15*100-100,"0.00") -> 140.38815 | K15: =IFERROR(C15/G15*100-100,"0.00") -> 145.55054
A16: 3.1.3 Other | B16: 290.80987 | C16: 1045.1836 | D16: 244.21193 | E16: 876.63263 | F16: 464.47462 | G16: 1634.2466 | H16: =IFERROR(B16/D16*100-100,"0.00") -> 19.080946 | I16: =IFERROR(C16/E16*100-100,"0.00") -> 19.227096 | J16: =IFERROR(B16/F16*100-100,"0.00") -> -37.389501 | K16: =IFERROR(C16/G16*100-100,"0.00") -> -36.044926
A17: 3.2 Air transport | B17: =SUM(B18:B20) -> 13747.753 | C17: =SUM(C18:C20) -> 49410.037 | D17: =SUM(D18:D20) -> 14005.042 | E17: =SUM(E18:E20) -> 50273.042 | F17: =SUM(F18:F20) -> 14602.402 | G17: =SUM(G18:G20) -> 51378.323 | H17: =IFERROR(B17/D17*100-100,"0.00") -> -1.8371128 | I17: =IFERROR(C17/E17*100-100,"0.00") -> -1.7166359 | J17: =IFERROR(B17/F17*100-100,"0.00") -> -5.8527988 | K17: =IFERROR(C17/G17*100-100,"0.00") -> -3.8309658
A18: 3.1.1 Passenger | B18: 7525.2813 | C18: 27046.196 | D18: 7548.8185 | E18: 27097.533 | F18: 9678.5335 | G18: 34053.768 | H18: =IFERROR(B18/D18*100-100,"0.00") -> -0.31180085 | I18: =IFERROR(C18/E18*100-100,"0.00") -> -0.18945194 | J18: =IFERROR(B18/F18*100-100,"0.00") -> -22.247712 | K18: =IFERROR(C18/G18*100-100,"0.00") -> -20.577964
A19: 3.1.2 Freight | B19: 2589.5581 | C19: 9306.9869 | D19: 2818.8505 | E19: 10118.655 | F19: 889.88484 | G19: 3131.0458 | H19: =IFERROR(B19/D19*100-100,"0.00") -> -8.134252 | I19: =IFERROR(C19/E19*100-100,"0.00") -> -8.0215037 | J19: =IFERROR(B19/F19*100-100,"0.00") -> 190.99923 | K19: =IFERROR(C19/G19*100-100,"0.00") -> 197.24851
A20: 3.1.3 Other | B20: 3632.9139 | C20: 13056.854 | D20: 3637.3727 | E20: 13056.854 | F20: 4033.9841 | G20: 14193.51 | H20: =IFERROR(B20/D20*100-100,"0.00") -> -0.12258114 | I20: =IFERROR(C20/E20*100-100,"0.00") -> 0 | J20: =IFERROR(B20/F20*100-100,"0.00") -> -9.9422846 | K20: =IFERROR(C20/G20*100-100,"0.00") -> -8.0082743
A21: 3.3 Road transport | B21: =SUM(B22:B24) -> 1367.9685 | C21: =SUM(C22:C24) -> 4916.5397 | D21: =SUM(D22:D24) -> 983.60913 | E21: =SUM(E22:E24) -> 3530.8016 | F21: =SUM(F22:F24) -> 699.15749 | G21: =SUM(G22:G24) -> 2459.9746 | H21: =IFERROR(B21/D21*100-100,"0.00") -> 39.076434 | I21: =IFERROR(C21/E21*100-100,"0.00") -> 39.247125 | J21: =IFERROR(B21/F21*100-100,"0.00") -> 95.659566 | K21: =IFERROR(C21/G21*100-100,"0.00") -> 99.861401
A22: 3.3.1 Passenger | B22: 0 | C22: 0 | D22: 0 | E22: 0 | F22: 0 | G22: 0 | H22: - | I22: - | J22: - | K22: -
A23: 3.3.2 Freight | B23: 37.226028 | C23: 133.792 | D23: 51.501671 | E23: 184.8724 | F23: 79.540302 | G23: 279.8613 | H23: =IFERROR(B23/D23*100-100,"0.00") -> -27.718796 | I23: =IFERROR(C23/E23*100-100,"0.00") -> -27.630084 | J23: =IFERROR(B23/F23*100-100,"0.00") -> -53.198534 | K23: =IFERROR(C23/G23*100-100,"0.00") -> -52.193462
A24: 3.3.3 Other | B24: 1330.7425 | C24: 4782.7477 | D24: 932.10746 | E24: 3345.9292 | F24: 619.61718 | G24: 2180.1133 | H24: =IFERROR(B24/D24*100-100,"0.00") -> 42.767066 | I24: =IFERROR(C24/E24*100-100,"0.00") -> 42.942286 | J24: =IFERROR(B24/F24*100-100,"0.00") -> 114.76849 | K24: =IFERROR(C24/G24*100-100,"0.00") -> 119.38069
A25: 3.4 Rail transport | B25: =SUM(B26:B28) -> 0 | C25: =SUM(C26:C28) -> 0 | D25: =SUM(D26:D28) -> 0 | E25: =SUM(E26:E28) -> 0 | F25: =SUM(F26:F28) -> 0 | G25: =SUM(G26:G28) -> 0 | H25: - | I25: - | J25: - | K25: -
A26: 3.4.1 Passenger | B26: 0 | C26: 0 | D26: 0 | E26: 0 | F26: 0 | G26: 0 | H26: - | I26: - | J26: - | K26: -
A27: 3.4.2 Freight | B27: 0 | C27: 0 | D27: 0 | E27: 0 | F27: 0 | G27: 0 | H27: - | I27: - | J27: - | K27: -
A28: 3.4.3 Other | B28: 0 | C28: 0 | D28: 0 | E28: 0 | F28: 0 | G28: 0 | H28: - | I28: - | J28: - | K28: -
A29: 3.5 Postal and courier services | B29: 168.50381 | C29: 605.6102 | D29: 132.58905 | E29: 475.9468 | F29: 173.22485 | G29: 609.4889 | H29: =IFERROR(B29/D29*100-100,"0.00") -> 27.087279 | I29: =IFERROR(C29/E29*100-100,"0.00") -> 27.243255 | J29: =IFERROR(B29/F29*100-100,"0.00") -> -2.7253807 | K29: =IFERROR(C29/G29*100-100,"0.00") -> -0.63638567
A30: 3.6 Electricity transmission | B30: 0 | C30: 0 | D30: 0 | E30: 0 | F30: 0 | G30: 0 | H30: - | I30: - | J30: - | K30: -
A31: 3.7 Other supporting and auxiliary transport service | B31: 0 | C31: 0 | D31: 0 | E31: 0 | F31: 0 | G31: 0 | H31: - | I31: - | J31: - | K31: -
A32: 4. Travel | B32: =B33+B36 -> 31255.848 | C32: =C33+C36 -> 112334.91 | D32: =D33+D36 -> 35741.246 | E32: =E33+E36 -> 128298.17 | F32: =F33+F36 -> 13246.425 | G32: =G33+G36 -> 46607.337 | H32: =IFERROR(B32/D32*100-100,"0.00") -> -12.549641 | I32: =IFERROR(C32/E32*100-100,"0.00") -> -12.442312 | J32: =IFERROR(B32/F32*100-100,"0.00") -> 135.95686 | K32: =IFERROR(C32/G32*100-100,"0.00") -> 141.02409
A33: 4.1 Business | B33: =SUM(B34:B35) -> 293.96003 | C33: =SUM(C34:C35) -> 1056.5054 | D33: =SUM(D34:D35) -> 206.27488 | E33: =SUM(E34:E35) -> 740.45234 | F33: =SUM(F34:F35) -> 182.42959 | G33: =SUM(G34:G35) -> 641.87563 | H33: =IFERROR(B33/D33*100-100,"0.00") -> 42.508884 | I33: =IFERROR(C33/E33*100-100,"0.00") -> 42.683788 | J33: =IFERROR(B33/F33*100-100,"0.00") -> 61.136161 | K33: =IFERROR(C33/G33*100-100,"0.00") -> 64.596597
A34: 4.1.1 Acquisition of goods and services by border, seasonal, and other short-term workers | B34: 0 | C34: 0 | D34: 0 | E34: 0 | F34: 0 | G34: 0 | H34: - | I34: - | J34: - | K34: -
A35: 4.1.2 Other | B35: 293.96003 | C35: 1056.5054 | D35: 206.27488 | E35: 740.45234 | F35: 182.42959 | G35: 641.87563 | H35: =IFERROR(B35/D35*100-100,"0.00") -> 42.508884 | I35: =IFERROR(C35/E35*100-100,"0.00") -> 42.683788 | J35: =IFERROR(B35/F35*100-100,"0.00") -> 61.136161 | K35: =IFERROR(C35/G35*100-100,"0.00") -> 64.596597
A36: 4.2 Personal | B36: =SUM(B37:B39) -> 30961.888 | C36: =SUM(C37:C39) -> 111278.4 | D36: =SUM(D37:D39) -> 35534.971 | E36: =SUM(E37:E39) -> 127557.71 | F36: =SUM(F37:F39) -> 13063.995 | G36: =SUM(G37:G39) -> 45965.461 | H36: =IFERROR(B36/D36*100-100,"0.00") -> -12.869247 | I36: =IFERROR(C36/E36*100-100,"0.00") -> -12.76231 | J36: =IFERROR(B36/F36*100-100,"0.00") -> 137.00168 | K36: =IFERROR(C36/G36*100-100,"0.00") -> 142.09135
A37: 4.2.1 Health-related expenditure | B37: 155.54694 | C37: 559.04262 | D37: 180.25647 | E37: 647.05564 | F37: 166.04291 | G37: 584.21936 | H37: =IFERROR(B37/D37*100-100,"0.00") -> -13.707988 | I37: =IFERROR(C37/E37*100-100,"0.00") -> -13.60208 | J37: =IFERROR(B37/F37*100-100,"0.00") -> -6.3212407 | K37: =IFERROR(C37/G37*100-100,"0.00") -> -4.3094676
A38: 4.2.2 Education-related expenditure | B38: 346.38253 | C38: 1244.9142 | D38: 980.4896 | E38: 3519.6036 | F38: 631.30169 | G38: 2221.2251 | H38: =IFERROR(B38/D38*100-100,"0.00") -> -64.672493 | I38: =IFERROR(C38/E38*100-100,"0.00") -> -64.629135 | J38: =IFERROR(B38/F38*100-100,"0.00") -> -45.132012 | K38: =IFERROR(C38/G38*100-100,"0.00") -> -43.953709
A39: 4.2.3 Other | B39: =SUM(B40:B41) -> 30459.958 | C39: =SUM(C40:C41) -> 109474.45 | D39: =SUM(D40:D41) -> 34374.225 | E39: =SUM(E40:E41) -> 123391.06 | F39: =SUM(F40:F41) -> 12266.651 | G39: =SUM(G40:G41) -> 43160.017 | H39: =IFERROR(B39/D39*100-100,"0.00") -> -11.387214 | I39: =IFERROR(C39/E39*100-100,"0.00") -> -11.278459 | J39: =IFERROR(B39/F39*100-100,"0.00") -> 148.3152 | K39: =IFERROR(C39/G39*100-100,"0.00") -> 153.64783
A40: 4.2.3.1 Religious travel | B40: 86.01892 | C40: 309.15583 | D40: 100.99286 | E40: 362.52791 | F40: 15.517298 | G40: 54.59737 | H40: =IFERROR(B40/D40*100-100,"0.00") -> -14.826736 | I40: =IFERROR(C40/E40*100-100,"0.00") -> -14.722201 | J40: =IFERROR(B40/F40*100-100,"0.00") -> 454.34211 | K40: =IFERROR(C40/G40*100-100,"0.00") -> 466.24674
...
