Workbook

Sheet summary
A2: GOVERNMENT OF PAKISTAN
A3: PAKISTAN BUREAU OF STATISTICS
A6: TRADE IN SERVICES (SUMMARY)
A7: July, 2026
F8: Rs. In Million
F9: Dollars in Thousands
B10: July, 2026 (P ) | D10: June, 2026 (P ) | F10: % Change in July, 2026
A11: Description | F11: over June, 2026
B12: Rs | C12: $ | D12: Rs | E12: $ | F12: Rs | G12: $
A14: Export of Services (TOTAL) | B14: =detail!B7 -> 257881.59 | C14: =detail!C7 -> 926837.9 | D14: =detail!D7 -> 262701.12 | E14: =detail!E7 -> 943002.15 | F14: =IFERROR(B14/D14*100-100,"0.00") -> -1.834607 | G14: =IFERROR(C14/E14*100-100,"0.00") -> -1.7141271
A15: 1.Manufacturing services on physical inputs owned by others | B15: =detail!$B$8 -> 0 | C15: =detail!$C$8 -> 0 | D15: =detail!$D$8 -> 0 | E15: =detail!$E$8 -> 0 | F15: - | G15: -
A16: 2.Maintenance and repair services n.i.e. | B16: =detail!$B$11 -> 121.50886 | C16: =detail!$C$11 -> 436.70826 | D16: =detail!$D$11 -> 106.04745 | E16: =detail!$E$11 -> 380.67206 | F16: =IFERROR(B16/D16*100-100,"0.00") -> 14.579709 | G16: =IFERROR(C16/E16*100-100,"0.00") -> 14.720334
A17: 3. Transport | B17: =detail!$B$12 -> 20654.409 | C17: =detail!$C$12 -> 74232.866 | D17: =detail!$D$12 -> 19813.74 | E17: =detail!$E$12 -> 71124.172 | F17: =IFERROR(B17/D17*100-100,"0.00") -> 4.2428595 | G17: =IFERROR(C17/E17*100-100,"0.00") -> 4.3707985
A18: 4. Travel | B18: =detail!$B$32 -> 31255.848 | C18: =detail!$C$32 -> 112334.91 | D18: =detail!$D$32 -> 35741.246 | E18: =detail!$E$32 -> 128298.17 | F18: =IFERROR(B18/D18*100-100,"0.00") -> -12.549641 | G18: =IFERROR(C18/E18*100-100,"0.00") -> -12.442312
A19: 5.Construction services | B19: =detail!$B$42 -> 1060.0308 | C19: =detail!$C$42 -> 3809.798 | D19: =detail!$D$42 -> 1799.7859 | E19: =detail!$E$42 -> 6460.5815 | F19: =IFERROR(B19/D19*100-100,"0.00") -> -41.102393 | G19: =IFERROR(C19/E19*100-100,"0.00") -> -41.030107
A20: 6. Insurance and Pension services | B20: =detail!$B$45 -> 2235.2267 | C20: =detail!$C$45 -> 8033.5043 | D20: =detail!$D$45 -> 1109.1693 | E20: =detail!$E$45 -> 3981.5171 | F20: =IFERROR(B20/D20*100-100,"0.00") -> 101.5226 | G20: =IFERROR(C20/E20*100-100,"0.00") -> 101.76993
A21: 7. Financial services | B21: =detail!$B$60 -> 2328.918 | C21: =detail!$C$60 -> 8370.2351 | D21: =detail!$D$60 -> 1103.9081 | E21: =detail!$E$60 -> 3962.6314 | F21: =IFERROR(B21/D21*100-100,"0.00") -> 110.97028 | G21: =IFERROR(C21/E21*100-100,"0.00") -> 111.22921
A22: 8. Charges for the use of intellectual services | B22: =detail!$B$63 -> 271.56239 | C22: =detail!$C$63 -> 976.0073 | D22: =detail!$D$63 -> 659.80069 | E22: =detail!$E$63 -> 2368.4462 | F22: =IFERROR(B22/D22*100-100,"0.00") -> -58.841755 | G22: =IFERROR(C22/E22*100-100,"0.00") -> -58.79124
A23: 9. Telecommunication, Computer and information services | B23: =detail!$B$64 -> 116139.18 | C23: =detail!$C$64 -> 417409.37 | D23: =detail!$D$64 -> 115831.73 | E23: =detail!$E$64 -> 415794.09 | F23: =IFERROR(B23/D23*100-100,"0.00") -> 0.26542184 | G23: =IFERROR(C23/E23*100-100,"0.00") -> 0.38847918
A24: 10. Other business services | B24: =detail!$B$78 -> 60465.349 | C24: =detail!$C$78 -> 217315.15 | D24: =detail!$D$78 -> 61391.898 | E24: =detail!$E$78 -> 220374.75 | F24: =IFERROR(B24/D24*100-100,"0.00") -> -1.5092378 | G24: =IFERROR(C24/E24*100-100,"0.00") -> -1.3883585
A25: 11. Personal, cultural, and recreational services | B25: =detail!$B$93 -> 4517.1489 | C25: =detail!$C$93 -> 16234.834 | D25: =detail!$D$93 -> 1328.7998 | E25: =detail!$E$93 -> 4769.9114 | F25: =IFERROR(B25/D25*100-100,"0.00") -> 239.94202 | G25: =IFERROR(C25/E25*100-100,"0.00") -> 240.35924
A26: 12. Government services, n.i.e. | B26: =detail!$B$98 -> 18832.408 | C26: =detail!$C$98 -> 67684.511 | D26: =detail!$D$98 -> 23814.989 | E26: =detail!$E$98 -> 85487.212 | F26: =IFERROR(B26/D26*100-100,"0.00") -> -20.92204 | G26: =IFERROR(C26/E26*100-100,"0.00") -> -20.824987
A27: Import of Services (TOTAL) | B27: =detail!B110 -> 321480.61 | C27: =detail!C110 -> 1155415.6 | D27: =detail!D110 -> 285979.25 | E27: =detail!E110 -> 1026562.2 | F27: =IFERROR(B27/D27*100-100,"0.00") -> 12.413964 | G27: =IFERROR(C27/E27*100-100,"0.00") -> 12.551931
A28: 1.Manufacturing services on physical inputs owned by others | B28: =detail!B111 -> 0 | C28: =detail!C111 -> 0 | D28: =detail!D111 -> 0 | E28: =detail!E111 -> 0 | F28: - | G28: -
A29: 2.Maintenance and repair services n.i.e. | B29: =detail!B114 -> 3378.9152 | C29: =detail!C114 -> 12143.971 | D29: =detail!D114 -> 864.04003 | E29: =detail!E114 -> 3101.5917 | F29: =IFERROR(B29/D29*100-100,"0.00") -> 291.06003 | G29: =IFERROR(C29/E29*100-100,"0.00") -> 291.53998
A30: 3. Transport | B30: =detail!B115 -> 122158.26 | C30: =detail!C115 -> 439042.21 | D30: =detail!D115 -> 117355.38 | E30: =detail!E115 -> 421263.44 | F30: =IFERROR(B30/D30*100-100,"0.00") -> 4.0925894 | G30: =IFERROR(C30/E30*100-100,"0.00") -> 4.2203438
A31: 4. Travel | B31: =detail!B135 -> 80769.814 | C31: =detail!C135 -> 290290.31 | D31: =detail!D135 -> 48137.326 | E31: =detail!E135 -> 172795.62 | F31: =IFERROR(B31/D31*100-100,"0.00") -> 67.790406 | G31: =IFERROR(C31/E31*100-100,"0.00") -> 67.996338
A32: 5.Construction services | B32: =detail!B145 -> 765.08309 | C32: =detail!C145 -> 2749.7427 | D32: =detail!D145 -> 2966.5536 | E32: =detail!E145 -> 10648.856 | F32: =IFERROR(B32/D32*100-100,"0.00") -> -74.209699 | G32: =IFERROR(C32/E32*100-100,"0.00") -> -74.178047
A33: 6. Insurance and Pension services | B33: =detail!B148 -> 9623.3259 | C33: =detail!C148 -> 34586.662 | D33: =detail!D148 -> 6681.7083 | E33: =detail!E148 -> 23984.92 | F33: =IFERROR(B33/D33*100-100,"0.00") -> 44.024933 | G33: =IFERROR(C33/E33*100-100,"0.00") -> 44.201697
A34: 7. Financial services | B34: =detail!B163 -> 15955.056 | C34: =detail!C163 -> 57343.182 | D34: =detail!D163 -> 14978.373 | E34: =detail!E163 -> 53766.949 | F34: =IFERROR(B34/D34*100-100,"0.00") -> 6.5206248 | G34: =IFERROR(C34/E34*100-100,"0.00") -> 6.6513593
A35: 8. Charges for the use of intellectual services | B35: =detail!B166 -> 8164.2625 | C35: =detail!C166 -> 29342.723 | D35: =detail!D166 -> 5151.5194 | E35: =detail!E166 -> 18492.094 | F35: =IFERROR(B35/D35*100-100,"0.00") -> 58.482612 | G35: =IFERROR(C35/E35*100-100,"0.00") -> 58.67712
A36: 9. Telecommunication, Computer and information services | B36: =detail!B167 -> 20237.491 | C36: =detail!C167 -> 72734.444 | D36: =detail!D167 -> 20355.023 | E36: =detail!E167 -> 73067.181 | F36: =IFERROR(B36/D36*100-100,"0.00") -> -0.57740761 | G36: =IFERROR(C36/E36*100-100,"0.00") -> -0.45538468
A37: 10. Other business services | B37: =detail!B181 -> 41612.052 | C37: =detail!C181 -> 149555.57 | D37: =detail!D181 -> 45710.913 | E37: =detail!E181 -> 164085.67 | F37: =IFERROR(B37/D37*100-100,"0.00") -> -8.9669202 | G37: =IFERROR(C37/E37*100-100,"0.00") -> -8.8551939
A38: 11. Personal, cultural, and recreational services | B38: =detail!B196 -> 3572.4656 | C38: =detail!C196 -> 12839.6 | D38: =detail!D196 -> 2388.1409 | E38: =detail!E196 -> 8572.5634 | F38: =IFERROR(B38/D38*100-100,"0.00") -> 49.591912 | G38: =IFERROR(C38/E38*100-100,"0.00") -> 49.775508
A39: 12. Government services, n.i.e. | B39: =detail!B201 -> 15243.892 | C39: =detail!C201 -> 54787.226 | D39: =detail!D201 -> 21390.275 | E39: =detail!E201 -> 76783.362 | F39: =IFERROR(B39/D39*100-100,"0.00") -> -28.734474 | G39: =IFERROR(C39/E39*100-100,"0.00") -> -28.647009
A41: Provisional figures based on figures provided by the State Bank of Pakistan.
A42: Revised by SBP
A43: Note:- SBP has swiched over from BPM-5 to BPM 6th addition from June, 2014.
A44: Dollar value converted into Rupees on the basis of monthly Banks' Floating Average exchange rate provided by SBP.
A45: July, 2026 (1$=Rs.278.238068) , June, 2026 (1$=Rs.278.579554) and July, 2025 (1$=Rs.284.213295)

Sheet detail
B1: EXPORTS OF SERVICES | I1: Rs. in Millions
I2: Dollars in Thousands
H3: % Change in July, 2026
B4: July, 2026 (P ) | D4: June, 2026 (R ) | F4: July, 2025 | H4: over
A5: Description | H5: June, 2026 | J5: July, 2025
B6: Rs | C6: $ | D6: Rs | E6: $ | F6: Rs | G6: $ | H6: Rs | I6: $ | J6: Rs | K6: $
A7: Services | B7: =B8+B11+B12+B32+B42+B45+B60+B63+B64+B78+B93+B98 -> 257881.59 | C7: =C8+C11+C12+C32+C42+C45+C60+C63+C64+C78+C93+C98 -> 926837.9 | D7: =D8+D11+D12+D32+D42+D45+D60+D63+D64+D78+D93+D98 -> 262701.12 | E7: =E8+E11+E12+E32+E42+E45+E60+E63+E64+E78+E93+E98 -> 943002.15 | F7: =F8+F11+F12+F32+F42+F45+F60+F63+F64+F78+F93+F98 -> 206949.5 | G7: =G8+G11+G12+G32+G42+G45+G60+G63+G64+G78+G93+G98 -> 728148.57 | H7: =IFERROR(B7/D7*100-100,"0.00") -> -1.834607 | I7: =IFERROR(C7/E7*100-100,"0.00") -> -1.7141271 | J7: =IFERROR(B7/F7*100-100,"0.00") -> 24.610874 | K7: =IFERROR(C7/G7*100-100,"0.00") -> 27.286921
A8: 1.Manufacturing services on physical inputs owned by others | B8: =SUM(B9:B10) -> 0 | C8: =SUM(C9:C10) -> 0 | D8: =SUM(D9:D10) -> 0 | E8: =SUM(E9:E10) -> 0 | F8: =SUM(F9:F10) -> 0 | G8: =SUM(G9:G10) -> 0 | H8: - | I8: - | J8: - | K8: -
A9: 1.1 Goods for processing in reporting economy | B9: 0 | C9: 0 | D9: 0 | E9: 0 | F9: 0 | G9: 0 | H9: - | I9: - | J9: - | K9: -
A10: 1.2 Goods for processing abroad | B10: 0 | C10: 0 | D10: 0 | E10: 0 | F10: 0 | G10: 0 | H10: - | I10: - | J10: - | K10: -
A11: 2.Maintenance and repair services n.i.e. | B11: 121.50886 | C11: 436.70826 | D11: 106.04745 | E11: 380.67206 | F11: 103.12884 | G11: 362.8572 | H11: =IFERROR(B11/D11*100-100,"0.00") -> 14.579709 | I11: =IFERROR(C11/E11*100-100,"0.00") -> 14.720334 | J11: =IFERROR(B11/F11*100-100,"0.00") -> 17.822388 | K11: =IFERROR(C11/G11*100-100,"0.00") -> 20.352651
A12: 3. Transport | B12: =B13+B17+B21+B25+B29+B30+B31 -> 20654.409 | C12: =C13+C17+C21+C25+C29+C30+C31 -> 74232.866 | D12: =D13+D17+D21+D25+D29+D30+D31 -> 19813.74 | E12: =E13+E17+E21+E25+E29+E30+E31 -> 71124.172 | F12: =F13+F17+F21+F25+F29+F30+F31 -> 18052.248 | G12: =G13+G17+G21+G25+G29+G30+G31 -> 63516.55 | H12: =IFERROR(B12/D12*100-100,"0.00") -> 4.2428595 | I12: =IFERROR(C12/E12*100-100,"0.00") -> 4.3707985 | J12: =IFERROR(B12/F12*100-100,"0.00") -> 14.414611 | K12: =IFERROR(C12/G12*100-100,"0.00") -> 16.871691
A13: 3.1 Sea transport | B13: =SUM(B14:B16) -> 5370.1836 | C13: =SUM(C14:C16) -> 19300.679 | D13: =SUM(D14:D16) -> 4692.5002 | E13: =SUM(E14:E16) -> 16844.381 | F13: =SUM(F14:F16) -> 2577.4631 | G13: =SUM(G14:G16) -> 9068.7631 | H13: =IFERROR(B13/D13*100-100,"0.00") -> 14.441841 | I13: =IFERROR(C13/E13*100-100,"0.00") -> 14.582298 | J13: =IFERROR(B13/F13*100-100,"0.00") -> 108.35153 | K13: =IFERROR(C13/G13*100-100,"0.00") -> 112.82592
A14: 3.1.1 Passenger | B14: 0 | C14: 0 | D14: 0 | E14: 0 | F14: 0 | G14: 0 | H14: - | I14: - | J14: - | K14: -
A15: 3.1.2 Freight | B15: 5079.3737 | C15: 18255.495 | D15: 4448.2883 | E15: 15967.749 | F15: 2112.9884 | G15: 7434.5165 | H15: =IFERROR(B15/D15*100-100,"0.00") -> 14.187154 | I15: =IFERROR(C15/E15*100-100,"0.00") -> 14.327297 | J15: =IFERROR(B15/F15*100-100,"0.00") -> 140.38815 | K15: =IFERROR(C15/G15*100-100,"0.00") -> 145.55054
A16: 3.1.3 Other | B16: 290.80987 | C16: 1045.1836 | D16: 244.21193 | E16: 876.63263 | F16: 464.47462 | G16: 1634.2466 | H16: =IFERROR(B16/D16*100-100,"0.00") -> 19.080946 | I16: =IFERROR(C16/E16*100-100,"0.00") -> 19.227096 | J16: =IFERROR(B16/F16*100-100,"0.00") -> -37.389501 | K16: =IFERROR(C16/G16*100-100,"0.00") -> -36.044926
A17: 3.2 Air transport | B17: =SUM(B18:B20) -> 13747.753 | C17: =SUM(C18:C20) -> 49410.037 | D17: =SUM(D18:D20) -> 14005.042 | E17: =SUM(E18:E20) -> 50273.042 | F17: =SUM(F18:F20) -> 14602.402 | G17: =SUM(G18:G20) -> 51378.323 | H17: =IFERROR(B17/D17*100-100,"0.00") -> -1.8371128 | I17: =IFERROR(C17/E17*100-100,"0.00") -> -1.7166359 | J17: =IFERROR(B17/F17*100-100,"0.00") -> -5.8527988 | K17: =IFERROR(C17/G17*100-100,"0.00") -> -3.8309658
A18: 3.1.1 Passenger | B18: 7525.2813 | C18: 27046.196 | D18: 7548.8185 | E18: 27097.533 | F18: 9678.5335 | G18: 34053.768 | H18: =IFERROR(B18/D18*100-100,"0.00") -> -0.31180085 | I18: =IFERROR(C18/E18*100-100,"0.00") -> -0.18945194 | J18: =IFERROR(B18/F18*100-100,"0.00") -> -22.247712 | K18: =IFERROR(C18/G18*100-100,"0.00") -> -20.577964
A19: 3.1.2 Freight | B19: 2589.5581 | C19: 9306.9869 | D19: 2818.8505 | E19: 10118.655 | F19: 889.88484 | G19: 3131.0458 | H19: =IFERROR(B19/D19*100-100,"0.00") -> -8.134252 | I19: =IFERROR(C19/E19*100-100,"0.00") -> -8.0215037 | J19: =IFERROR(B19/F19*100-100,"0.00") -> 190.99923 | K19: =IFERROR(C19/G19*100-100,"0.00") -> 197.24851
A20: 3.1.3 Other | B20: 3632.9139 | C20: 13056.854 | D20: 3637.3727 | E20: 13056.854 | F20: 4033.9841 | G20: 14193.51 | H20: =IFERROR(B20/D20*100-100,"0.00") -> -0.12258114 | I20: =IFERROR(C20/E20*100-100,"0.00") -> 0 | J20: =IFERROR(B20/F20*100-100,"0.00") -> -9.9422846 | K20: =IFERROR(C20/G20*100-100,"0.00") -> -8.0082743
A21: 3.3 Road transport | B21: =SUM(B22:B24) -> 1367.9685 | C21: =SUM(C22:C24) -> 4916.5397 | D21: =SUM(D22:D24) -> 983.60913 | E21: =SUM(E22:E24) -> 3530.8016 | F21: =SUM(F22:F24) -> 699.15749 | G21: =SUM(G22:G24) -> 2459.9746 | H21: =IFERROR(B21/D21*100-100,"0.00") -> 39.076434 | I21: =IFERROR(C21/E21*100-100,"0.00") -> 39.247125 | J21: =IFERROR(B21/F21*100-100,"0.00") -> 95.659566 | K21: =IFERROR(C21/G21*100-100,"0.00") -> 99.861401
A22: 3.3.1 Passenger | B22: 0 | C22: 0 | D22: 0 | E22: 0 | F22: 0 | G22: 0 | H22: - | I22: - | J22: - | K22: -
A23: 3.3.2 Freight | B23: 37.226028 | C23: 133.792 | D23: 51.501671 | E23: 184.8724 | F23: 79.540302 | G23: 279.8613 | H23: =IFERROR(B23/D23*100-100,"0.00") -> -27.718796 | I23: =IFERROR(C23/E23*100-100,"0.00") -> -27.630084 | J23: =IFERROR(B23/F23*100-100,"0.00") -> -53.198534 | K23: =IFERROR(C23/G23*100-100,"0.00") -> -52.193462
A24: 3.3.3 Other | B24: 1330.7425 | C24: 4782.7477 | D24: 932.10746 | E24: 3345.9292 | F24: 619.61718 | G24: 2180.1133 | H24: =IFERROR(B24/D24*100-100,"0.00") -> 42.767066 | I24: =IFERROR(C24/E24*100-100,"0.00") -> 42.942286 | J24: =IFERROR(B24/F24*100-100,"0.00") -> 114.76849 | K24: =IFERROR(C24/G24*100-100,"0.00") -> 119.38069
A25: 3.4 Rail transport | B25: =SUM(B26:B28) -> 0 | C25: =SUM(C26:C28) -> 0 | D25: =SUM(D26:D28) -> 0 | E25: =SUM(E26:E28) -> 0 | F25: =SUM(F26:F28) -> 0 | G25: =SUM(G26:G28) -> 0 | H25: - | I25: - | J25: - | K25: -
A26: 3.4.1 Passenger | B26: 0 | C26: 0 | D26: 0 | E26: 0 | F26: 0 | G26: 0 | H26: - | I26: - | J26: - | K26: -
A27: 3.4.2 Freight | B27: 0 | C27: 0 | D27: 0 | E27: 0 | F27: 0 | G27: 0 | H27: - | I27: - | J27: - | K27: -
A28: 3.4.3 Other | B28: 0 | C28: 0 | D28: 0 | E28: 0 | F28: 0 | G28: 0 | H28: - | I28: - | J28: - | K28: -
A29: 3.5 Postal and courier services | B29: 168.50381 | C29: 605.6102 | D29: 132.58905 | E29: 475.9468 | F29: 173.22485 | G29: 609.4889 | H29: =IFERROR(B29/D29*100-100,"0.00") -> 27.087279 | I29: =IFERROR(C29/E29*100-100,"0.00") -> 27.243255 | J29: =IFERROR(B29/F29*100-100,"0.00") -> -2.7253807 | K29: =IFERROR(C29/G29*100-100,"0.00") -> -0.63638567
A30: 3.6 Electricity transmission | B30: 0 | C30: 0 | D30: 0 | E30: 0 | F30: 0 | G30: 0 | H30: - | I30: - | J30: - | K30: -
A31: 3.7 Other supporting and auxiliary transport service | B31: 0 | C31: 0 | D31: 0 | E31: 0 | F31: 0 | G31: 0 | H31: - | I31: - | J31: - | K31: -
A32: 4. Travel | B32: =B33+B36 -> 31255.848 | C32: =C33+C36 -> 112334.91 | D32: =D33+D36 -> 35741.246 | E32: =E33+E36 -> 128298.17 | F32: =F33+F36 -> 13246.425 | G32: =G33+G36 -> 46607.337 | H32: =IFERROR(B32/D32*100-100,"0.00") -> -12.549641 | I32: =IFERROR(C32/E32*100-100,"0.00") -> -12.442312 | J32: =IFERROR(B32/F32*100-100,"0.00") -> 135.95686 | K32: =IFERROR(C32/G32*100-100,"0.00") -> 141.02409
A33: 4.1 Business | B33: =SUM(B34:B35) -> 293.96003 | C33: =SUM(C34:C35) -> 1056.5054 | D33: =SUM(D34:D35) -> 206.27488 | E33: =SUM(E34:E35) -> 740.45234 | F33: =SUM(F34:F35) -> 182.42959 | G33: =SUM(G34:G35) -> 641.87563 | H33: =IFERROR(B33/D33*100-100,"0.00") -> 42.508884 | I33: =IFERROR(C33/E33*100-100,"0.00") -> 42.683788 | J33: =IFERROR(B33/F33*100-100,"0.00") -> 61.136161 | K33: =IFERROR(C33/G33*100-100,"0.00") -> 64.596597
A34: 4.1.1 Acquisition of goods and services by border, seasonal, and other short-term workers | B34: 0 | C34: 0 | D34: 0 | E34: 0 | F34: 0 | G34: 0 | H34: - | I34: - | J34: - | K34: -
A35: 4.1.2 Other | B35: 293.96003 | C35: 1056.5054 | D35: 206.27488 | E35: 740.45234 | F35: 182.42959 | G35: 641.87563 | H35: =IFERROR(B35/D35*100-100,"0.00") -> 42.508884 | I35: =IFERROR(C35/E35*100-100,"0.00") -> 42.683788 | J35: =IFERROR(B35/F35*100-100,"0.00") -> 61.136161 | K35: =IFERROR(C35/G35*100-100,"0.00") -> 64.596597
A36: 4.2 Personal | B36: =SUM(B37:B39) -> 30961.888 | C36: =SUM(C37:C39) -> 111278.4 | D36: =SUM(D37:D39) -> 35534.971 | E36: =SUM(E37:E39) -> 127557.71 | F36: =SUM(F37:F39) -> 13063.995 | G36: =SUM(G37:G39) -> 45965.461 | H36: =IFERROR(B36/D36*100-100,"0.00") -> -12.869247 | I36: =IFERROR(C36/E36*100-100,"0.00") -> -12.76231 | J36: =IFERROR(B36/F36*100-100,"0.00") -> 137.00168 | K36: =IFERROR(C36/G36*100-100,"0.00") -> 142.09135
A37: 4.2.1 Health-related expenditure | B37: 155.54694 | C37: 559.04262 | D37: 180.25647 | E37: 647.05564 | F37: 166.04291 | G37: 584.21936 | H37: =IFERROR(B37/D37*100-100,"0.00") -> -13.707988 | I37: =IFERROR(C37/E37*100-100,"0.00") -> -13.60208 | J37: =IFERROR(B37/F37*100-100,"0.00") -> -6.3212407 | K37: =IFERROR(C37/G37*100-100,"0.00") -> -4.3094676
A38: 4.2.2 Education-related expenditure | B38: 346.38253 | C38: 1244.9142 | D38: 980.4896 | E38: 3519.6036 | F38: 631.30169 | G38: 2221.2251 | H38: =IFERROR(B38/D38*100-100,"0.00") -> -64.672493 | I38: =IFERROR(C38/E38*100-100,"0.00") -> -64.629135 | J38: =IFERROR(B38/F38*100-100,"0.00") -> -45.132012 | K38: =IFERROR(C38/G38*100-100,"0.00") -> -43.953709
A39: 4.2.3 Other | B39: =SUM(B40:B41) -> 30459.958 | C39: =SUM(C40:C41) -> 109474.45 | D39: =SUM(D40:D41) -> 34374.225 | E39: =SUM(E40:E41) -> 123391.06 | F39: =SUM(F40:F41) -> 12266.651 | G39: =SUM(G40:G41) -> 43160.017 | H39: =IFERROR(B39/D39*100-100,"0.00") -> -11.387214 | I39: =IFERROR(C39/E39*100-100,"0.00") -> -11.278459 | J39: =IFERROR(B39/F39*100-100,"0.00") -> 148.3152 | K39: =IFERROR(C39/G39*100-100,"0.00") -> 153.64783
A40: 4.2.3.1 Religious travel | B40: 86.01892 | C40: 309.15583 | D40: 100.99286 | E40: 362.52791 | F40: 15.517298 | G40: 54.59737 | H40: =IFERROR(B40/D40*100-100,"0.00") -> -14.826736 | I40: =IFERROR(C40/E40*100-100,"0.00") -> -14.722201 | J40: =IFERROR(B40/F40*100-100,"0.00") -> 454.34211 | K40: =IFERROR(C40/G40*100-100,"0.00") -> 466.24674
A41: 4.2.3.2 Other | B41: 30373.939 | C41: 109165.29 | D41: 34273.232 | E41: 123028.53 | F41: 12251.133 | G41: 43105.419 | H41: =IFERROR(B41/D41*100-100,"0.00") -> -11.377079 | I41: =IFERROR(C41/E41*100-100,"0.00") -> -11.268311 | J41: =IFERROR(B41/F41*100-100,"0.00") -> 147.92759 | K41: =IFERROR(C41/G41*100-100,"0.00") -> 153.25189
A42: 5.Construction services | B42: =SUM(B43:B44) -> 1060.0308 | C42: =SUM(C43:C44) -> 3809.798 | D42: =SUM(D43:D44) -> 1799.7859 | E42: =SUM(E43:E44) -> 6460.5815 | F42: =SUM(F43:F44) -> 2029.7936 | G42: =SUM(G43:G44) -> 7141.7968 | H42: =IFERROR(B42/D42*100-100,"0.00") -> -41.102393 | I42: =IFERROR(C42/E42*100-100,"0.00") -> -41.030107 | J42: =IFERROR(B42/F42*100-100,"0.00") -> -47.776422 | K42: =IFERROR(C42/G42*100-100,"0.00") -> -46.654909
A43: 5.1 Construction abroad | B43: 1060.0308 | C43: 3809.798 | D43: 1799.7859 | E43: 6460.5815 | F43: 2029.7936 | G43: 7141.7968 | H43: =IFERROR(B43/D43*100-100,"0.00") -> -41.102393 | I43: =IFERROR(C43/E43*100-100,"0.00") -> -41.030107 | J43: =IFERROR(B43/F43*100-100,"0.00") -> -47.776422 | K43: =IFERROR(C43/G43*100-100,"0.00") -> -46.654909
A44: 5.2 Construction in the compiling economy | B44: 0 | C44: 0 | D44: 0 | E44: 0 | F44: 0 | G44: 0 | H44: - | I44: - | J44: - | K44: -
A45: 6. Insurance and Pension services | B45: =B46+B50+B51+B52 -> 2235.2267 | C45: =C46+C50+C51+C52 -> 8033.5043 | D45: =D46+D50+D51+D52 -> 1109.1693 | E45: =E46+E50+E51+E52 -> 3981.5171 | F45: =F46+F50+F51+F52 -> 5236.7942 | G45: =G46+G50+G51+G52 -> 18425.578 | H45: =IFERROR(B45/D45*100-100,"0.00") -> 101.5226 | I45: =IFERROR(C45/E45*100-100,"0.00") -> 101.76993 | J45: =IFERROR(B45/F45*100-100,"0.00") -> -57.316888 | K45: =IFERROR(C45/G45*100-100,"0.00") -> -56.400258
A46: 6.1 Direct Insurance | B46: =SUM(B47:B49) -> 1351.5907 | C46: =SUM(C47:C49) -> 4857.6772 | D46: =SUM(D47:D49) -> 163.30091 | E46: =SUM(E47:E49) -> 586.1913 | F46: =SUM(F47:F49) -> 4043.3336 | G46: =SUM(G47:G49) -> 14226.405 | H46: =IFERROR(B46/D46*100-100,"0.00") -> 727.66882 | I46: =IFERROR(C46/E46*100-100,"0.00") -> 728.68463 | J46: =IFERROR(B46/F46*100-100,"0.00") -> -66.572367 | K46: =IFERROR(C46/G46*100-100,"0.00") -> -65.8545
A47: 6.1.1 Life insurance | B47: 44.426801 | C47: 159.6719 | D47: 66.67133 | E47: 239.326 | F47: 65.066939 | G47: 228.937 | H47: =IFERROR(B47/D47*100-100,"0.00") -> -33.36446 | I47: =IFERROR(C47/E47*100-100,"0.00") -> -33.282677 | J47: =IFERROR(B47/F47*100-100,"0.00") -> -31.721391 | K47: =IFERROR(C47/G47*100-100,"0.00") -> -30.255092
A48: 6.1.2 Freight insurance | B48: 0 | C48: 0 | D48: 0 | E48: 0 | F48: 0 | G48: 0 | H48: - | I48: - | J48: - | K48: -
A49: 6.1.3 Other direct insurance | B49: 1307.1639 | C49: 4698.0053 | D49: 96.629581 | E49: 346.8653 | F49: 3978.2666 | G49: 13997.468 | H49: =IFERROR(B49/D49*100-100,"0.00") -> 1252.7575 | I49: =IFERROR(C49/E49*100-100,"0.00") -> 1254.4178 | J49: =IFERROR(B49/F49*100-100,"0.00") -> -67.142375 | K49: =IFERROR(C49/G49*100-100,"0.00") -> -66.43675
A50: 6.2 Reinsurance | B50: 244.29091 | C50: 877.9924 | D50: 366.24873 | E50: 1314.7007 | F50: 451.9418 | G50: 1590.1501 | H50: =IFERROR(B50/D50*100-100,"0.00") -> -33.29918 | I50: =IFERROR(C50/E50*100-100,"0.00") -> -33.217317 | J50: =IFERROR(B50/F50*100-100,"0.00") -> -45.946379 | K50: =IFERROR(C50/G50*100-100,"0.00") -> -44.785565
A51: 6.3 Auxiliary insurance services | B51: 639.34509 | C51: 2297.8347 | D51: 579.61961 | E51: 2080.6251 | F51: 741.51882 | G51: 2609.0223 | H51: =IFERROR(B51/D51*100-100,"0.00") -> 10.304254 | I51: =IFERROR(C51/E51*100-100,"0.00") -> 10.439632 | J51: =IFERROR(B51/F51*100-100,"0.00") -> -13.778981 | K51: =IFERROR(C51/G51*100-100,"0.00") -> -11.927365
A52: 6.4 Pension and standardized guarantee services | B52: 0 | C52: 0 | D52: 0 | E52: 0 | F52: 0 | G52: 0 | H52: - | I52: - | J52: - | K52: -
J53: P-2
B54: EXPORTS OF SERVICES | I54: Rs. in Millions
I55: Dollars in Thousands
H56: % Change in July, 2026
B57: July, 2026 (P ) | D57: June, 2026 (R ) | F57: July, 2025 | H57: over
A58: Description | H58: June, 2026 | J58: July, 2025
B59: Rs | C59: $ | D59: Rs | E59: $ | F59: Rs | G59: $ | H59: Rs | I59: $ | J59: Rs | K59: $
A60: 7. Financial services | B60: =SUM(B61:B62) -> 2328.918 | C60: =SUM(C61:C62) -> 8370.2351 | D60: =SUM(D61:D62) -> 1103.9081 | E60: =SUM(E61:E62) -> 3962.6314 | F60: =SUM(F61:F62) -> 1314.722 | G60: =SUM(G61:G62) -> 4625.8285 | H60: =IFERROR(B60/D60*100-100,"0.00") -> 110.97028 | I60: =IFERROR(C60/E60*100-100,"0.00") -> 111.22921 | J60: =IFERROR(B60/F60*100-100,"0.00") -> 77.141488 | K60: =IFERROR(C60/G60*100-100,"0.00") -> 80.945643
A61: 7.1 Explicitly charged and other financial services | B61: 2328.918 | C61: 8370.2351 | D61: 1103.9081 | E61: 3962.6314 | F61: 1314.722 | G61: 4625.8285 | H61: =IFERROR(B61/D61*100-100,"0.00") -> 110.97028 | I61: =IFERROR(C61/E61*100-100,"0.00") -> 111.22921 | J61: =IFERROR(B61/F61*100-100,"0.00") -> 77.141488 | K61: =IFERROR(C61/G61*100-100,"0.00") -> 80.945643
A62: 7.2 Financial intermediation service charges indirectly measured (FISIM) | B62: 0 | C62: 0 | D62: 0 | E62: 0 | F62: 0 | G62: 0 | H62: - | I62: - | J62: - | K62: -
A63: 8. Charges for the use of intellectual services | B63: 271.56239 | C63: 976.0073 | D63: 659.80069 | E63: 2368.4462 | F63: 257.7945 | G63: 907.0459 | H63: =IFERROR(B63/D63*100-100,"0.00") -> -58.841755 | I63: =IFERROR(C63/E63*100-100,"0.00") -> -58.79124 | J63: =IFERROR(B63/F63*100-100,"0.00") -> 5.340642 | K63: =IFERROR(C63/G63*100-100,"0.00") -> 7.6028567
A64: 9. Telecommunication, Computer and information services | B64: =B65+B68+B75 -> 116139.18 | C64: =C65+C68+C75 -> 417409.37 | D64: =D65+D68+D75 -> 115831.73 | E64: =E65+E68+E75 -> 415794.09 | F64: =F65+F68+F75 -> 100792.11 | G64: =G65+G68+G75 -> 354635.44 | H64: =IFERROR(B64/D64*100-100,"0.00") -> 0.26542184 | I64: =IFERROR(C64/E64*100-100,"0.00") -> 0.38847918 | J64: =IFERROR(B64/F64*100-100,"0.00") -> 15.226459 | K64: =IFERROR(C64/G64*100-100,"0.00") -> 17.700973
A65: 9.1 Telecommunications services | B65: =SUM(B66:B67) -> 14599.158 | C65: =SUM(C66:C67) -> 52470.024 | D65: =SUM(D66:D67) -> 16110.378 | E65: =SUM(E66:E67) -> 57830.438 | F65: =SUM(F66:F67) -> 12379.124 | G65: =SUM(G66:G67) -> 43555.754 | H65: =IFERROR(B65/D65*100-100,"0.00") -> -9.380409 | I65: =IFERROR(C65/E65*100-100,"0.00") -> -9.2691901 | J65: =IFERROR(B65/F65*100-100,"0.00") -> 17.933691 | K65: =IFERROR(C65/G65*100-100,"0.00") -> 20.466344
A66: 9.1.1 Call centres | B66: 9397.0922 | C66: 33773.568 | D66: 9941.4809 | E66: 35686.326 | F66: 7878.6034 | G66: 27720.742 | H66: =IFERROR(B66/D66*100-100,"0.00") -> -5.4759311 | I66: =IFERROR(C66/E66*100-100,"0.00") -> -5.3599202 | J66: =IFERROR(B66/F66*100-100,"0.00") -> 19.273578 | K66: =IFERROR(C66/G66*100-100,"0.00") -> 21.835006
A67: 9.1.2 Telecommunication services | B67: 5202.066 | C67: 18696.457 | D67: 6168.8967 | E67: 22144.111 | F67: 4500.521 | G67: 15835.012 | H67: =IFERROR(B67/D67*100-100,"0.00") -> -15.672667 | I67: =IFERROR(C67/E67*100-100,"0.00") -> -15.569171 | J67: =IFERROR(B67/F67*100-100,"0.00") -> 15.588085 | K67: =IFERROR(C67/G67*100-100,"0.00") -> 18.070366
A68: 9.2 Computer services | B68: =SUM(B69:B74) -> 101443.23 | C68: =SUM(C69:C74) -> 364591.49 | D68: =SUM(D69:D74) -> 99629.101 | E68: =SUM(E69:E74) -> 357632.49 | F68: =SUM(F69:F74) -> 88273.291 | G68: =SUM(G69:G74) -> 310588.18 | H68: =IFERROR(B68/D68*100-100,"0.00") -> 1.820885 | I68: =IFERROR(C68/E68*100-100,"0.00") -> 1.9458513 | J68: =IFERROR(B68/F68*100-100,"0.00") -> 14.919509 | K68: =IFERROR(C68/G68*100-100,"0.00") -> 17.387432
A69: 9.2.1 Hardware consultancy services | B69: 43.234968 | C69: 155.3884 | D69: 35.992729 | E69: 129.2009 | F69: 15.867628 | G69: 55.83 | H69: =IFERROR(B69/D69*100-100,"0.00") -> 20.121395 | I69: =IFERROR(C69/E69*100-100,"0.00") -> 20.268822 | J69: =IFERROR(B69/F69*100-100,"0.00") -> 172.47278 | K69: =IFERROR(C69/G69*100-100,"0.00") -> 178.3242
A70: 9.2.2 Software consultancy services | B70: 34735.605 | C70: 124841.31 | D70: 32768.765 | E70: 117628.03 | F70: 29648.44 | G70: 104317.57 | H70: =IFERROR(B70/D70*100-100,"0.00") -> 6.0021784 | I70: =IFERROR(C70/E70*100-100,"0.00") -> 6.1322766 | J70: =IFERROR(B70/F70*100-100,"0.00") -> 17.158288 | K70: =IFERROR(C70/G70*100-100,"0.00") -> 19.674289
A71: 9.2.3 Maintenance & repairs of computer | B71: 11.255843 | C71: 40.454 | D71: 32.60197 | E71: 117.0293 | F71: 30.501629 | G71: 107.3195 | H71: =IFERROR(B71/D71*100-100,"0.00") -> -65.474961 | I71: =IFERROR(C71/E71*100-100,"0.00") -> -65.432588 | J71: =IFERROR(B71/F71*100-100,"0.00") -> -63.097568 | K71: =IFERROR(C71/G71*100-100,"0.00") -> -62.30508
A72: 9.2.4 Export / Import of Computer Software | B72: 16884.877 | C72: 60684.998 | D72: 17517.484 | E72: 62881.441 | F72: 13598.867 | G72: 47847.398 | H72: =IFERROR(B72/D72*100-100,"0.00") -> -3.6112903 | I72: =IFERROR(C72/E72*100-100,"0.00") -> -3.4929909 | J72: =IFERROR(B72/F72*100-100,"0.00") -> 24.163851 | K72: =IFERROR(C72/G72*100-100,"0.00") -> 26.830299
A73: 9.2.5 Freelance of Computer and Information Services | B73: 29709.786 | C73: 106778.29 | D73: 28965.923 | E73: 103977.2 | F73: 25542.804 | G73: 89871.952 | H73: =IFERROR(B73/D73*100-100,"0.00") -> 2.5680651 | I73: =IFERROR(C73/E73*100-100,"0.00") -> 2.6939485 | J73: =IFERROR(B73/F73*100-100,"0.00") -> 16.313725 | K73: =IFERROR(C73/G73*100-100,"0.00") -> 18.811589
A74: 9.2.6 Other Computer services | B74: 20058.474 | C74: 72091.047 | D74: 20308.335 | E74: 72899.588 | F74: 19436.811 | G74: 68388.114 | H74: =IFERROR(B74/D74*100-100,"0.00") -> -1.2303377 | I74: =IFERROR(C74/E74*100-100,"0.00") -> -1.1091161 | J74: =IFERROR(B74/F74*100-100,"0.00") -> 3.1983758 | K74: =IFERROR(C74/G74*100-100,"0.00") -> 5.4145849
A75: 9.3 Information services | B75: =SUM(B76:B77) -> 96.785863 | C75: =SUM(C76:C77) -> 347.8527 | D75: =SUM(D76:D77) -> 92.255157 | E75: =SUM(E76:E77) -> 331.1627 | F75: =SUM(F76:F77) -> 139.69248 | G75: =SUM(G76:G77) -> 491.5058 | H75: =IFERROR(B75/D75*100-100,"0.00") -> 4.9110598 | I75: =IFERROR(C75/E75*100-100,"0.00") -> 5.0398188 | J75: =IFERROR(B75/F75*100-100,"0.00") -> -30.715053 | K75: =IFERROR(C75/G75*100-100,"0.00") -> -29.227142
A76: 9.3.1 News agency services | B76: 60.410159 | C76: 217.1168 | D76: 53.939632 | E76: 193.6238 | F76: 83.04488 | G76: 292.1921 | H76: =IFERROR(B76/D76*100-100,"0.00") -> 11.995868 | I76: =IFERROR(C76/E76*100-100,"0.00") -> 12.133322 | J76: =IFERROR(B76/F76*100-100,"0.00") -> -27.25601 | K76: =IFERROR(C76/G76*100-100,"0.00") -> -25.693816
A77: 9.3.2 Other information services | B77: 36.375704 | C77: 130.7359 | D77: 38.315525 | E77: 137.5389 | F77: 56.647603 | G77: 199.3137 | H77: =IFERROR(B77/D77*100-100,"0.00") -> -5.062755 | I77: =IFERROR(C77/E77*100-100,"0.00") -> -4.946237 | J77: =IFERROR(B77/F77*100-100,"0.00") -> -35.785979 | K77: =IFERROR(C77/G77*100-100,"0.00") -> -34.406968
A78: 10. Other business services | B78: =B79+B80+B86 -> 60465.349 | C78: =C79+C80+C86 -> 217315.15 | D78: =D79+D80+D86 -> 61391.898 | E78: =E79+E80+E86 -> 220374.75 | F78: =F79+F80+F86 -> 42226.058 | G78: =G79+G80+G86 -> 148571.72 | H78: =IFERROR(B78/D78*100-100,"0.00") -> -1.5092378 | I78: =IFERROR(C78/E78*100-100,"0.00") -> -1.3883585 | J78: =IFERROR(B78/F78*100-100,"0.00") -> 43.194395 | K78: =IFERROR(C78/G78*100-100,"0.00") -> 46.269528
A79: 10.1 Research and development services | B79: 734.86878 | C79: 2641.1511 | D79: 860.03623 | E79: 3087.2195 | F79: 478.22118 | G79: 1682.6137 | H79: =IFERROR(B79/D79*100-100,"0.00") -> -14.553742 | I79: =IFERROR(C79/E79*100-100,"0.00") -> -14.448872 | J79: =IFERROR(B79/F79*100-100,"0.00") -> 53.667132 | K79: =IFERROR(C79/G79*100-100,"0.00") -> 56.96717
A80: 10.2 Professional and management consulting services | B80: =B81+B85 -> 13248.495 | C80: =C81+C85 -> 47615.681 | D80: =D81+D85 -> 14290.48 | E80: =E81+E85 -> 51297.661 | F80: =F81+F85 -> 11993.888 | G80: =G81+G85 -> 42200.307 | H80: =IFERROR(B80/D80*100-100,"0.00") -> -7.2914602 | I80: =IFERROR(C80/E80*100-100,"0.00") -> -7.1776775 | J80: =IFERROR(B80/F80*100-100,"0.00") -> 10.460382 | K80: =IFERROR(C80/G80*100-100,"0.00") -> 12.832545
A81: 10.2.1 Legal, accounting, management consulting, and public relations | B81: =SUM(B82:B84) -> 10363.691 | C81: =SUM(C82:C84) -> 37247.566 | D81: =SUM(D82:D84) -> 11213.65 | E81: =SUM(E82:E84) -> 40252.954 | F81: =SUM(F82:F84) -> 9500.757 | G81: =SUM(G82:G84) -> 33428.264 | H81: =IFERROR(B81/D81*100-100,"0.00") -> -7.5796847 | I81: =IFERROR(C81/E81*100-100,"0.00") -> -7.4662557 | J81: =IFERROR(B81/F81*100-100,"0.00") -> 9.0827887 | K81: =IFERROR(C81/G81*100-100,"0.00") -> 11.425367
A82: 10.2.1.1 Legal services | B82: 582.4355 | C82: 2093.2991 | D82: 710.55184 | E82: 2550.6245 | F82: 627.76407 | G82: 2208.778 | H82: =IFERROR(B82/D82*100-100,"0.00") -> -18.030541 | I82: =IFERROR(C82/E82*100-100,"0.00") -> -17.929938 | J82: =IFERROR(B82/F82*100-100,"0.00") -> -7.2206388 | K82: =IFERROR(C82/G82*100-100,"0.00") -> -5.2281805
A83: 10.2.1.2 Accounting, auditing, bookkeeping, and tax consulting services | B83: 2333.651 | C83: 8387.2456 | D83: 3144.6526 | E83: 11288.167 | F83: 2151.353 | G83: 7569.5018 | H83: =IFERROR(B83/D83*100-100,"0.00") -> -25.789862 | I83: =IFERROR(C83/E83*100-100,"0.00") -> -25.698783 | J83: =IFERROR(B83/F83*100-100,"0.00") -> 8.4736424 | K83: =IFERROR(C83/G83*100-100,"0.00") -> 10.803139
A84: 10.2.1.3 Business and management consulting and public relations services | B84: 7447.6042 | C84: 26767.021 | D84: 7358.4456 | E84: 26414.162 | F84: 6721.6399 | G84: 23649.984 | H84: =IFERROR(B84/D84*100-100,"0.00") -> 1.2116499 | I84: =IFERROR(C84/E84*100-100,"0.00") -> 1.3358686 | J84: =IFERROR(B84/F84*100-100,"0.00") -> 10.800405 | K84: =IFERROR(C84/G84*100-100,"0.00") -> 13.179869
A85: 10.2.2 Advertising, market research, and public opinion polling | B85: 2884.8043 | C85: 10368.115 | D85: 3076.8296 | E85: 11044.707 | F85: 2493.1314 | G85: 8772.0436 | H85: =IFERROR(B85/D85*100-100,"0.00") -> -6.2410124 | I85: =IFERROR(C85/E85*100-100,"0.00") -> -6.1259405 | J85: =IFERROR(B85/F85*100-100,"0.00") -> 15.710078 | K85: =IFERROR(C85/G85*100-100,"0.00") -> 18.194979
A86: 10.3 Technical, trade-related and other business services | B86: 46481.985 | C86: 167058.32 | D86: 46241.383 | E86: 165989.86 | F86: 29753.949 | G86: 104688.8 | H86: =IFERROR(B86/D86*100-100,"0.00") -> 0.52031821 | I86: =IFERROR(C86/E86*100-100,"0.00") -> 0.6436884 | J86: =IFERROR(B86/F86*100-100,"0.00") -> 56.221231 | K86: =IFERROR(C86/G86*100-100,"0.00") -> 59.576119
A87: 10.3.1 Architectural, engineering, scientific and other technical services | B87: 3438.8785 | C87: 12359.482 | D87: 2551.4137 | E87: 9158.654 | F87: 1906.7076 | G87: 6708.7208 | H87: =IFERROR(B87/D87*100-100,"0.00") -> 34.783254 | I87: =IFERROR(C87/E87*100-100,"0.00") -> 34.948676 | J87: =IFERROR(B87/F87*100-100,"0.00") -> 80.356883 | K87: =IFERROR(C87/G87*100-100,"0.00") -> 84.230089
A88: 10.3.2 Waste treatment and de-pollution, agricultural and mining services | B88: 67.326879 | C88: 241.9758 | D88: 264.92367 | E88: 950.9803 | F88: 102.47168 | G88: 360.545 | H88: =IFERROR(B88/D88*100-100,"0.00") -> -74.58631 | I88: =IFERROR(C88/E88*100-100,"0.00") -> -74.55512 | J88: =IFERROR(B88/F88*100-100,"0.00") -> -34.297088 | K88: =IFERROR(C88/G88*100-100,"0.00") -> -32.886103
A89: 10.3.3 Operating leasing services | B89: 1.8636942 | C89: 6.6982 | D89: 0.85170127 | E89: 3.0573 | F89: 1.4612827 | G89: 5.1415 | H89: =IFERROR(B89/D89*100-100,"0.00") -> 118.82018 | I89: =IFERROR(C89/E89*100-100,"0.00") -> 119.08874 | J89: =IFERROR(B89/F89*100-100,"0.00") -> 27.538243 | K89: =IFERROR(C89/G89*100-100,"0.00") -> 30.277156
A90: 10.3.4 Trade-related services | B90: 767.53209 | C90: 2758.5445 | D90: 4233.9293 | E90: 15198.277 | F90: 842.53397 | G90: 2964.4425 | H90: =IFERROR(B90/D90*100-100,"0.00") -> -81.871873 | I90: =IFERROR(C90/E90*100-100,"0.00") -> -81.849624 | J90: =IFERROR(B90/F90*100-100,"0.00") -> -8.9019412 | K90: =IFERROR(C90/G90*100-100,"0.00") -> -6.9455893
A91: 10.3.5 Other Freelance Services | B91: 19104.159 | C91: 68661.198 | D91: 16714.399 | E91: 59998.656 | F91: 8720.6606 | G91: 30683.507 | H91: =IFERROR(B91/D91*100-100,"0.00") -> 14.297615 | I91: =IFERROR(C91/E91*100-100,"0.00") -> 14.437894 | J91: =IFERROR(B91/F91*100-100,"0.00") -> 119.0678 | K91: =IFERROR(C91/G91*100-100,"0.00") -> 123.77233
A92: 10.3.6 Other business services n.i.e. | B92: 23102.225 | C92: 83030.423 | D92: 22475.865 | E92: 80680.24 | F92: 18180.113 | G92: 63966.442 | H92: =IFERROR(B92/D92*100-100,"0.00") -> 2.786808 | I92: =IFERROR(C92/E92*100-100,"0.00") -> 2.9129598 | J92: =IFERROR(B92/F92*100-100,"0.00") -> 27.07415 | K92: =IFERROR(C92/G92*100-100,"0.00") -> 29.803097
A93: 11. Personal, cultural, and recreational services | B93: =B94+B97 -> 4517.1489 | C93: =C94+C97 -> 16234.834 | D93: =D94+D97 -> 1328.7998 | E93: =E94+E97 -> 4769.9114 | F93: =F94+F97 -> 5122.3348 | G93: =G94+G97 -> 18022.854 | H93: =IFERROR(B93/D93*100-100,"0.00") -> 239.94202 | I93: =IFERROR(C93/E93*100-100,"0.00") -> 240.35924 | J93: =IFERROR(B93/F93*100-100,"0.00") -> -11.81465 | K93: =IFERROR(C93/G93*100-100,"0.00") -> -9.9208492
A94: 11.1 Audiovisual and related services | B94: =SUM(B95:B96) -> 494.5379 | C94: =SUM(C95:C96) -> 1777.3912 | D94: =SUM(D95:D96) -> 803.01098 | E94: =SUM(E95:E96) -> 2882.5194 | F94: =SUM(F95:F96) -> 1192.6495 | G94: =SUM(G95:G96) -> 4196.3186 | H94: =IFERROR(B94/D94*100-100,"0.00") -> -38.414553 | I94: =IFERROR(C94/E94*100-100,"0.00") -> -38.338968 | J94: =IFERROR(B94/F94*100-100,"0.00") -> -58.534516 | K94: =IFERROR(C94/G94*100-100,"0.00") -> -57.644035
A95: 11.1.1 Audiovisual services | B95: 410.03708 | C95: 1473.6915 | D95: 728.85245 | E95: 2616.3171 | F95: 418.17939 | G95: 1471.3576 | H95: =IFERROR(B95/D95*100-100,"0.00") -> -43.742101 | I95: =IFERROR(C95/E95*100-100,"0.00") -> -43.673055 | J95: =IFERROR(B95/F95*100-100,"0.00") -> -1.9470868 | K95: =IFERROR(C95/G95*100-100,"0.00") -> 0.15862221
A96: 11.1.2 Artistic related services | B96: 84.500825 | C96: 303.69973 | D96: 74.158525 | E96: 266.20232 | F96: 774.47015 | G96: 2724.961 | H96: =IFERROR(B96/D96*100-100,"0.00") -> 13.946205 | I96: =IFERROR(C96/E96*100-100,"0.00") -> 14.086053 | J96: =IFERROR(B96/F96*100-100,"0.00") -> -89.089208 | K96: =IFERROR(C96/G96*100-100,"0.00") -> -88.854897
A97: 11.2 Other personal, cultural, and recreational services | B97: 4022.611 | C97: 14457.443 | D97: 525.78882 | E97: 1887.392 | F97: 3929.6853 | G97: 13826.536 | H97: =IFERROR(B97/D97*100-100,"0.00") -> 665.0621 | I97: =IFERROR(C97/E97*100-100,"0.00") -> 666.00107 | J97: =IFERROR(B97/F97*100-100,"0.00") -> 2.3647113 | K97: =IFERROR(C97/G97*100-100,"0.00") -> 4.5630172
A98: 12. Government services, n.i.e. | B98: =SUM(B99+B100+B101) -> 18832.408 | C98: =SUM(C99+C100+C101) -> 67684.511 | D98: =SUM(D99+D100+D101) -> 23814.989 | E98: =SUM(E99+E100+E101) -> 85487.212 | F98: =SUM(F99+F100+F101) -> 18568.098 | G98: =SUM(G99+G100+G101) -> 65331.559 | H98: =IFERROR(B98/D98*100-100,"0.00") -> -20.92204 | I98: =IFERROR(C98/E98*100-100,"0.00") -> -20.824987 | J98: =IFERROR(B98/F98*100-100,"0.00") -> 1.4234636 | K98: =IFERROR(C98/G98*100-100,"0.00") -> 3.601556
A99: 12.1 Embassies and consulates | B99: 3253.4753 | C99: 11693.135 | D99: 2743.4164 | E99: 9847.8742 | F99: 3626.2707 | G99: 12758.976 | H99: =IFERROR(B99/D99*100-100,"0.00") -> 18.592107 | I99: =IFERROR(C99/E99*100-100,"0.00") -> 18.737657 | J99: =IFERROR(B99/F99*100-100,"0.00") -> -10.280406 | K99: =IFERROR(C99/G99*100-100,"0.00") -> -8.3536574
A100: 12.2 Military units and agencies | B100: 2664.2556 | C100: 9575.4533 | D100: 8295.6365 | E100: 29778.339 | F100: 97.37096 | G100: 342.59819 | H100: =IFERROR(B100/D100*100-100,"0.00") -> -67.88365 | I100: =IFERROR(C100/E100*100-100,"0.00") -> -67.844233 | J100: =IFERROR(B100/F100*100-100,"0.00") -> 2636.1912 | K100: =IFERROR(C100/G100*100-100,"0.00") -> 2694.9515
...
