Workbook

Sheet summary
A2: GOVERNMENT OF PAKISTAN
A3: PAKISTAN BUREAU OF STATISTICS
A6: TRADE IN SERVICES (SUMMARY)
A7: August, 2026
F8: Rs. In Million
F9: Dollars in Thousands
B10: August, 2026 (P ) | D10: July, 2026 (P ) | F10: % Change in August, 2026
A11: Description | F11: over July, 2026
B12: Rs | C12: $ | D12: Rs | E12: $ | F12: Rs | G12: $
A14: Export of Services (TOTAL) | B14: =detail!B7 -> 242625.95 | C14: =detail!C7 -> 873010.4 | D14: =detail!D7 -> 260989 | E14: =detail!E7 -> 938006.1 | F14: =IFERROR(B14/D14*100-100,"-") -> -7.0359488 | G14: =IFERROR(C14/E14*100-100,"-") -> -6.9291337
A15: 1.Manufacturing services on physical inputs owned by others | B15: =detail!$B$8 -> 0 | C15: =detail!$C$8 -> 0 | D15: =detail!$D$8 -> 0 | E15: =detail!$E$8 -> 0 | F15: =IFERROR(B15/D15*100-100,"-") -> - | G15: =IFERROR(C15/E15*100-100,"-") -> -
A16: 2.Maintenance and repair services n.i.e. | B16: =detail!$B$11 -> 35.574901 | C16: =detail!$C$11 -> 128.00469 | D16: =detail!$D$11 -> 123.85817 | E16: =detail!$E$11 -> 445.15179 | F16: =IFERROR(B16/D16*100-100,"-") -> -71.277712 | G16: =IFERROR(C16/E16*100-100,"-") -> -71.24471
A17: 3. Transport | B17: =detail!$B$12 -> 23923.091 | C17: =detail!$C$12 -> 86079.444 | D17: =detail!$D$12 -> 25233.644 | E17: =detail!$E$12 -> 90690.84 | F17: =IFERROR(B17/D17*100-100,"-") -> -5.1936746 | G17: =IFERROR(C17/E17*100-100,"-") -> -5.0847427
A18: 4. Travel | B18: =detail!$B$32 -> 30681.831 | C18: =detail!$C$32 -> 110398.57 | D18: =detail!$D$32 -> 31156.178 | E18: =detail!$E$32 -> 111976.69 | F18: =IFERROR(B18/D18*100-100,"-") -> -1.5224807 | G18: =IFERROR(C18/E18*100-100,"-") -> -1.4093306
A19: 5.Construction services | B19: =detail!$B$42 -> 1182.0425 | C19: =detail!$C$42 -> 4253.1946 | D19: =detail!$D$42 -> 1060.0308 | E19: =detail!$E$42 -> 3809.798 | F19: =IFERROR(B19/D19*100-100,"-") -> 11.510199 | G19: =IFERROR(C19/E19*100-100,"-") -> 11.638323
A20: 6. Insurance and Pension services | B20: =detail!$B$45 -> 2162.8476 | C20: =detail!$C$45 -> 7782.302 | D20: =detail!$D$45 -> 2235.2267 | E20: =detail!$E$45 -> 8033.5043 | F20: =IFERROR(B20/D20*100-100,"-") -> -3.2381119 | G20: =IFERROR(C20/E20*100-100,"-") -> -3.126933
A21: 7. Financial services | B21: =detail!$B$60 -> 1306.6818 | C21: =detail!$C$60 -> 4701.6685 | D21: =detail!$D$60 -> 2328.918 | E21: =detail!$E$60 -> 8370.2351 | F21: =IFERROR(B21/D21*100-100,"-") -> -43.893183 | G21: =IFERROR(C21/E21*100-100,"-") -> -43.828717
A22: 8. Charges for the use of intellectual services | B22: =detail!$B$63 -> 250.96299 | C22: =detail!$C$63 -> 903.0085 | D22: =detail!$D$63 -> 271.56239 | E22: =detail!$E$63 -> 976.0073 | F22: =IFERROR(B22/D22*100-100,"-") -> -7.585513 | G22: =IFERROR(C22/E22*100-100,"-") -> -7.4793293
A23: 9. Telecommunication, Computer and information services | B23: =detail!$B$64 -> 109675.66 | C23: =detail!$C$64 -> 394632.1 | D23: =detail!$D$64 -> 116139.18 | E23: =detail!$E$64 -> 417409.37 | F23: =IFERROR(B23/D23*100-100,"-") -> -5.5653228 | G23: =IFERROR(C23/E23*100-100,"-") -> -5.4568179
A24: 10. Other business services | B24: =detail!$B$78 -> 58108.359 | C24: =detail!$C$78 -> 209083.99 | D24: =detail!$D$78 -> 58496.102 | E24: =detail!$E$78 -> 210237.6 | F24: =IFERROR(B24/D24*100-100,"-") -> -0.66285336 | G24: =IFERROR(C24/E24*100-100,"-") -> -0.54871556
A25: 11. Personal, cultural, and recreational services | B25: =detail!$B$93 -> 586.3308 | C25: =detail!$C$93 -> 2109.7203 | D25: =detail!$D$93 -> 4582.0426 | E25: =detail!$E$93 -> 16468.065 | F25: =IFERROR(B25/D25*100-100,"-") -> -87.203724 | G25: =IFERROR(C25/E25*100-100,"-") -> -87.189022
A26: 12. Government services, n.i.e. | B26: =detail!$B$98 -> 14712.574 | C26: =detail!$C$98 -> 52938.402 | D26: =detail!$D$98 -> 19362.265 | E26: =detail!$E$98 -> 69588.842 | F26: =IFERROR(B26/D26*100-100,"-") -> -24.014189 | G26: =IFERROR(C26/E26*100-100,"-") -> -23.926882
A27: Import of Services (TOTAL) | B27: =detail!B110 -> 321201.73 | C27: =detail!C110 -> 1155739.7 | D27: =detail!D110 -> 338002.97 | E27: =detail!E110 -> 1214797.7 | F27: =IFERROR(B27/D27*100-100,"-") -> -4.9707355 | G27: =IFERROR(C27/E27*100-100,"-") -> -4.8615475
A28: 1.Manufacturing services on physical inputs owned by others | B28: =detail!B111 -> 0 | C28: =detail!C111 -> 0 | D28: =detail!D111 -> 0 | E28: =detail!E111 -> 0 | F28: =IFERROR(B28/D28*100-100,"-") -> - | G28: =IFERROR(C28/E28*100-100,"-") -> -
A29: 2.Maintenance and repair services n.i.e. | B29: =detail!B114 -> 5754.7172 | C29: =detail!C114 -> 20706.474 | D29: =detail!D114 -> 4680.8408 | E29: =detail!E114 -> 16823.15 | F29: =IFERROR(B29/D29*100-100,"-") -> 22.941957 | G29: =IFERROR(C29/E29*100-100,"-") -> 23.083216
A30: 3. Transport | B30: =detail!B115 -> 131284.39 | C30: =detail!C115 -> 472384.07 | D30: =detail!D115 -> 139585.03 | E30: =detail!E115 -> 501674.82 | F30: =IFERROR(B30/D30*100-100,"-") -> -5.9466603 | G30: =IFERROR(C30/E30*100-100,"-") -> -5.8385935
A31: 4. Travel | B31: =detail!B135 -> 88319.39 | C31: =detail!C135 -> 317788.54 | D31: =detail!D135 -> 80625.222 | E31: =detail!E135 -> 289770.64 | F31: =IFERROR(B31/D31*100-100,"-") -> 9.5431272 | G31: =IFERROR(C31/E31*100-100,"-") -> 9.6689916
A32: 5.Construction services | B32: =detail!B145 -> 2678.6112 | C32: =detail!C145 -> 9638.1093 | D32: =detail!D145 -> 765.08309 | E32: =detail!E145 -> 2749.7427 | F32: =IFERROR(B32/D32*100-100,"-") -> 250.10723 | G32: =IFERROR(C32/E32*100-100,"-") -> 250.5095
A33: 6. Insurance and Pension services | B33: =detail!B148 -> 6380.075 | C33: =detail!C148 -> 22956.62 | D33: =detail!D148 -> 9499.3811 | E33: =detail!E148 -> 34141.198 | F33: =IFERROR(B33/D33*100-100,"-") -> -32.836941 | G33: =IFERROR(C33/E33*100-100,"-") -> -32.759771
A34: 7. Financial services | B34: =detail!B163 -> 13967.427 | C34: =detail!C163 -> 50257.232 | D34: =detail!D163 -> 15372.033 | E34: =detail!E163 -> 55247.771 | F34: =IFERROR(B34/D34*100-100,"-") -> -9.1374133 | G34: =IFERROR(C34/E34*100-100,"-") -> -9.0330128
A35: 8. Charges for the use of intellectual services | B35: =detail!B166 -> 4930.1576 | C35: =detail!C166 -> 17739.565 | D35: =detail!D166 -> 8164.2625 | E35: =detail!E166 -> 29342.723 | F35: =IFERROR(B35/D35*100-100,"-") -> -39.612947 | G35: =IFERROR(C35/E35*100-100,"-") -> -39.543562
A36: 9. Telecommunication, Computer and information services | B36: =detail!B167 -> 16063.741 | C36: =detail!C167 -> 57800.135 | D36: =detail!D167 -> 20237.491 | E36: =detail!E167 -> 72734.444 | F36: =IFERROR(B36/D36*100-100,"-") -> -20.623854 | G36: =IFERROR(C36/E36*100-100,"-") -> -20.532651
A37: 10. Other business services | B37: =detail!B181 -> 35408.161 | C37: =detail!C181 -> 127404.73 | D37: =detail!D181 -> 40377.287 | E37: =detail!E181 -> 145117.77 | F37: =IFERROR(B37/D37*100-100,"-") -> -12.306735 | G37: =IFERROR(C37/E37*100-100,"-") -> -12.205976
A38: 11. Personal, cultural, and recreational services | B38: =detail!B196 -> 3239.5524 | C38: =detail!C196 -> 11656.473 | D38: =detail!D196 -> 3572.4656 | E38: =detail!E196 -> 12839.6 | F38: =IFERROR(B38/D38*100-100,"-") -> -9.3188644 | G38: =IFERROR(C38/E38*100-100,"-") -> -9.2146723
A39: 12. Government services, n.i.e. | B39: =detail!B201 -> 13175.517 | C39: =detail!C201 -> 47407.803 | D39: =detail!D201 -> 15123.868 | E39: =detail!E201 -> 54355.855 | F39: =IFERROR(B39/D39*100-100,"-") -> -12.882623 | G39: =IFERROR(C39/E39*100-100,"-") -> -12.782526
F42: Rs. In Million
F43: Dollars in Thousands
F44: % Change in July - August, 2026
A45: Description | B45: July - August, 2026 | D45: July - August 2025 | F45: over
F46: July - August, 2025
...

Sheet detail
B1: EXPORTS OF SERVICES | I1: Rs. in Millions | O1: EXPORTS OF SERVICES | T1: Rs. in Millions
I2: Dollars in Thousands | T2: Dollars in Thousands
H3: % Change in August, 2026 | S3: % Change in July - August, 2026
B4: August, 2026 (P ) | D4: July, 2026 (R ) | F4: August, 2025 | H4: over | O4: July - August, 2026 | Q4: July - August, 2025 | S4: over
A5: Description | H5: July, 2026 | J5: August, 2025 | N5: Description | S5: July - August, 2025
B6: Rs | C6: $ | D6: Rs | E6: $ | F6: Rs | G6: $ | H6: Rs | I6: $ | J6: Rs | K6: $ | O6: Rs | P6: $ | Q6: Rs | R6: $ | S6: Rs | T6: $
A7: Services | B7: =B8+B11+B12+B32+B42+B45+B60+B63+B64+B78+B93+B98 -> 242625.95 | C7: =C8+C11+C12+C32+C42+C45+C60+C63+C64+C78+C93+C98 -> 873010.4 | D7: =D8+D11+D12+D32+D42+D45+D60+D63+D64+D78+D93+D98 -> 260989 | E7: =E8+E11+E12+E32+E42+E45+E60+E63+E64+E78+E93+E98 -> 938006.1 | F7: =F8+F11+F12+F32+F42+F45+F60+F63+F64+F78+F93+F98 -> 191054.31 | G7: =G8+G11+G12+G32+G42+G45+G60+G63+G64+G78+G93+G98 -> 676910.11 | H7: =IFERROR(B7/D7*100-100,"-") -> -7.0359488 | I7: =IFERROR(C7/E7*100-100,"-") -> -6.9291337 | J7: =IFERROR(B7/F7*100-100,"-") -> 26.993183 | K7: =IFERROR(C7/G7*100-100,"-") -> 28.969917 | N7: Services | O7: =O8+O11+O12+O32+O42+O45+O60+O63+O64+O78+O93+O98 -> 503604.58 | P7: =P8+P11+P12+P32+P42+P45+P60+P63+P64+P78+P93+P98 -> 1811016.5 | Q7: =Q8+Q11+Q12+Q32+Q42+Q45+Q60+Q63+Q64+Q78+Q93+Q98 -> 397953.38 | R7: =R8+R11+R12+R32+R42+R45+R60+R63+R64+R78+R93+R98 -> 1405058.7 | S7: =IFERROR(O7/Q7*100-100,"-") -> 26.548636 | T7: =IFERROR(P7/R7*100-100,"-") -> 28.892589
A8: 1.Manufacturing services on physical inputs owned by others | B8: =SUM(B9:B10) -> 0 | C8: =SUM(C9:C10) -> 0 | D8: =SUM(D9:D10) -> 0 | E8: =SUM(E9:E10) -> 0 | F8: =SUM(F9:F10) -> 0 | G8: =SUM(G9:G10) -> 0 | H8: =IFERROR(B8/D8*100-100,"-") -> - | I8: =IFERROR(C8/E8*100-100,"-") -> - | J8: =IFERROR(B8/F8*100-100,"-") -> - | K8: =IFERROR(C8/G8*100-100,"-") -> - | N8: 1.Manufacturing services on physical inputs owned by others | O8: =SUM(O9:O10) -> 0 | P8: =SUM(P9:P10) -> 0 | Q8: =SUM(Q9:Q10) -> 0 | R8: =SUM(R9:R10) -> 0 | S8: =IFERROR(O8/Q8*100-100,"-") -> - | T8: =IFERROR(P8/R8*100-100,"-") -> -
A9: 1.1 Goods for processing in reporting economy | B9: 0 | C9: 0 | D9: 0 | E9: 0 | F9: 0 | G9: 0 | H9: =IFERROR(B9/D9*100-100,"-") -> - | I9: =IFERROR(C9/E9*100-100,"-") -> - | J9: =IFERROR(B9/F9*100-100,"-") -> - | K9: =IFERROR(C9/G9*100-100,"-") -> - | N9: 1.1 Goods for processing in reporting economy | O9: 0 | P9: 0 | Q9: 0 | R9: 0 | S9: =IFERROR(O9/Q9*100-100,"-") -> - | T9: =IFERROR(P9/R9*100-100,"-") -> -
A10: 1.2 Goods for processing abroad | B10: 0 | C10: 0 | D10: 0 | E10: 0 | F10: 0 | G10: 0 | H10: =IFERROR(B10/D10*100-100,"-") -> - | I10: =IFERROR(C10/E10*100-100,"-") -> - | J10: =IFERROR(B10/F10*100-100,"-") -> - | K10: =IFERROR(C10/G10*100-100,"-") -> - | N10: 1.2 Goods for processing abroad | O10: 0 | P10: 0 | Q10: 0 | R10: 0 | S10: =IFERROR(O10/Q10*100-100,"-") -> - | T10: =IFERROR(P10/R10*100-100,"-") -> -
A11: 2.Maintenance and repair services n.i.e. | B11: 35.574901 | C11: 128.00469 | D11: 123.85817 | E11: 445.15179 | F11: 99.170988 | G11: 351.36524 | H11: =IFERROR(B11/D11*100-100,"-") -> -71.277712 | I11: =IFERROR(C11/E11*100-100,"-") -> -71.24471 | J11: =IFERROR(B11/F11*100-100,"-") -> -64.127713 | K11: =IFERROR(C11/G11*100-100,"-") -> -63.569337 | N11: 2.Maintenance and repair services n.i.e. | O11: 159.38244 | P11: 573.15647 | Q11: 202.28852 | R11: 714.22244 | S11: =IFERROR(O11/Q11*100-100,"-") -> -21.210338 | T11: =IFERROR(P11/R11*100-100,"-") -> -19.750985
A12: 3. Transport | B12: =B13+B17+B21+B25+B29+B30+B31 -> 23923.091 | C12: =C13+C17+C21+C25+C29+C30+C31 -> 86079.444 | D12: =D13+D17+D21+D25+D29+D30+D31 -> 25233.644 | E12: =E13+E17+E21+E25+E29+E30+E31 -> 90690.84 | F12: =F13+F17+F21+F25+F29+F30+F31 -> 19013.404 | G12: =G13+G17+G21+G25+G29+G30+G31 -> 67364.956 | H12: =IFERROR(B12/D12*100-100,"-") -> -5.1936746 | I12: =IFERROR(C12/E12*100-100,"-") -> -5.0847427 | J12: =IFERROR(B12/F12*100-100,"-") -> 25.822241 | K12: =IFERROR(C12/G12*100-100,"-") -> 27.780748 | N12: 3. Transport | O12: =O13+O17+O21+O25+O29+O30+O31 -> 49155.999 | P12: =P13+P17+P21+P25+P29+P30+P31 -> 176770.28 | Q12: =Q13+Q17+Q21+Q25+Q29+Q30+Q31 -> 37069.44 | R12: =R13+R17+R21+R25+R29+R30+R31 -> 130881.51 | S12: =IFERROR(O12/Q12*100-100,"-") -> 32.605184 | T12: =IFERROR(P12/R12*100-100,"-") -> 35.061317
A13: 3.1 Sea transport | B13: =SUM(B14:B16) -> 4471.5313 | C13: =SUM(C14:C16) -> 16089.348 | D13: =SUM(D14:D16) -> 5103.3443 | E13: =SUM(E14:E16) -> 18341.647 | F13: =SUM(F14:F16) -> 2172.0132 | G13: =SUM(G14:G16) -> 7695.4958 | H13: =IFERROR(B13/D13*100-100,"-") -> -12.380373 | I13: =IFERROR(C13/E13*100-100,"-") -> -12.279698 | J13: =IFERROR(B13/F13*100-100,"-") -> 105.87036 | K13: =IFERROR(C13/G13*100-100,"-") -> 109.07487 | N13: 3.1 Sea transport | O13: =SUM(O14:O16) -> 9574.516 | P13: =SUM(P14:P16) -> 34430.994 | Q13: =SUM(Q14:Q16) -> 4748.1245 | R13: =SUM(R14:R16) -> 16764.259 | S13: =IFERROR(O13/Q13*100-100,"-") -> 101.64838 | T13: =IFERROR(P13/R13*100-100,"-") -> 105.38334
A14: 3.1.1 Passenger | B14: 0 | C14: 0 | D14: 0 | E14: 0 | F14: 0 | G14: 0 | H14: =IFERROR(B14/D14*100-100,"-") -> - | I14: =IFERROR(C14/E14*100-100,"-") -> - | J14: =IFERROR(B14/F14*100-100,"-") -> - | K14: =IFERROR(C14/G14*100-100,"-") -> - | N14: 3.1.1 Passenger | O14: 0 | P14: 0 | Q14: 0 | R14: 0 | S14: =IFERROR(O14/Q14*100-100,"-") -> - | T14: =IFERROR(P14/R14*100-100,"-") -> -
A15: 3.1.2 Freight | B15: 4222.2542 | C15: 15192.406 | D15: 4805.8591 | E15: 17272.471 | F15: 1790.5433 | G15: 6343.9387 | H15: =IFERROR(B15/D15*100-100,"-") -> -12.143612 | I15: =IFERROR(C15/E15*100-100,"-") -> -12.042665 | J15: =IFERROR(B15/F15*100-100,"-") -> 135.80856 | K15: =IFERROR(C15/G15*100-100,"-") -> 139.47907 | N15: 3.1.2 Freight | O15: 9027.7812 | P15: 32464.877 | Q15: 3902.4583 | R15: 13778.455 | S15: =IFERROR(O15/Q15*100-100,"-") -> 131.33575 | T15: =IFERROR(P15/R15*100-100,"-") -> 135.62059
A16: 3.1.3 Other | B16: 249.27704 | C16: 896.94219 | D16: 297.48524 | E16: 1069.1752 | F16: 381.46989 | G16: 1351.5572 | H16: =IFERROR(B16/D16*100-100,"-") -> -16.205239 | I16: =IFERROR(C16/E16*100-100,"-") -> -16.10896 | J16: =IFERROR(B16/F16*100-100,"-") -> -34.653547 | K16: =IFERROR(C16/G16*100-100,"-") -> -33.636385 | N16: 3.1.3 Other | O16: 546.73478 | P16: 1966.1174 | Q16: 845.66626 | R16: 2985.8038 | S16: =IFERROR(O16/Q16*100-100,"-") -> -35.348635 | T16: =IFERROR(P16/R16*100-100,"-") -> -34.151153
A17: 3.2 Air transport | B17: =SUM(B18:B20) -> 18584.047 | C17: =SUM(C18:C20) -> 66868.634 | D17: =SUM(D18:D20) -> 18593.828 | E17: =SUM(E18:E20) -> 66827.044 | F17: =SUM(F18:F20) -> 15652.528 | G17: =SUM(G18:G20) -> 55457.288 | H17: =IFERROR(B17/D17*100-100,"-") -> -0.052603688 | I17: =IFERROR(C17/E17*100-100,"-") -> 0.062235283 | J17: =IFERROR(B17/F17*100-100,"-") -> 18.728726 | K17: =IFERROR(C17/G17*100-100,"-") -> 20.576818 | N17: 3.2 Air transport | O17: =SUM(O18:O20) -> 37177.881 | P17: =SUM(P18:P20) -> 133695.68 | Q17: =SUM(Q18:Q20) -> 30258.945 | R17: =SUM(R18:R20) -> 106835.61 | S17: =IFERROR(O17/Q17*100-100,"-") -> 22.865754 | T17: =IFERROR(P17/R17*100-100,"-") -> 25.141491
A18: 3.1.1 Passenger | B18: 7911.2922 | C18: 28466.206 | D18: 7946.2708 | E18: 28559.251 | F18: 7701.2011 | G18: 27285.544 | H18: =IFERROR(B18/D18*100-100,"-") -> -0.44018965 | I18: =IFERROR(C18/E18*100-100,"-") -> -0.32579601 | J18: =IFERROR(B18/F18*100-100,"-") -> 2.7280294 | K18: =IFERROR(C18/G18*100-100,"-") -> 4.3270599 | N18: 3.1.1 Passenger | O18: 15857.548 | P18: 57025.457 | Q18: 17373.073 | R18: 61339.312 | S18: =IFERROR(O18/Q18*100-100,"-") -> -8.723412 | T18: =IFERROR(P18/R18*100-100,"-") -> -7.0327736
A19: 3.1.2 Freight | B19: 2624.0036 | C19: 9441.6218 | D19: 2589.5581 | E19: 9306.9869 | F19: 580.87515 | G19: 2058.0549 | H19: =IFERROR(B19/D19*100-100,"-") -> 1.3301725 | I19: =IFERROR(C19/E19*100-100,"-") -> 1.4466003 | J19: =IFERROR(B19/F19*100-100,"-") -> 351.73281 | K19: =IFERROR(C19/G19*100-100,"-") -> 358.76433 | N19: 3.1.2 Freight | O19: 5213.5832 | P19: 18748.609 | Q19: 1469.7039 | R19: 5189.1007 | S19: =IFERROR(O19/Q19*100-100,"-") -> 254.73698 | T19: =IFERROR(P19/R19*100-100,"-") -> 261.30747
A20: 3.1.3 Other | B20: 8048.7507 | C20: 28960.806 | D20: 8057.9987 | E20: 28960.806 | F20: 7370.4512 | G20: 26113.689 | H20: =IFERROR(B20/D20*100-100,"-") -> -0.11476755 | I20: =IFERROR(C20/E20*100-100,"-") -> 0 | J20: =IFERROR(B20/F20*100-100,"-") -> 9.2029574 | K20: =IFERROR(C20/G20*100-100,"-") -> 10.902774 | N20: 3.1.3 Other | O20: 16106.749 | P20: 57921.612 | Q20: 11416.168 | R20: 40307.199 | S20: =IFERROR(O20/Q20*100-100,"-") -> 41.087177 | T20: =IFERROR(P20/R20*100-100,"-") -> 43.700415
A21: 3.3 Road transport | B21: =SUM(B22:B24) -> 726.09798 | C21: =SUM(C22:C24) -> 2612.6269 | D21: =SUM(D22:D24) -> 1367.9685 | E21: =SUM(E22:E24) -> 4916.5397 | F21: =SUM(F22:F24) -> 905.37407 | G21: =SUM(G22:G24) -> 3207.7625 | H21: =IFERROR(B21/D21*100-100,"-") -> -46.92144 | I21: =IFERROR(C21/E21*100-100,"-") -> -46.860454 | J21: =IFERROR(B21/F21*100-100,"-") -> -19.801328 | K21: =IFERROR(C21/G21*100-100,"-") -> -18.552982 | N21: 3.3 Road transport | O21: =SUM(O22:O24) -> 2093.6986 | P21: =SUM(P22:P24) -> 7529.1666 | Q21: =SUM(Q22:Q24) -> 1605.2676 | R21: =SUM(R22:R24) -> 5667.7371 | S21: =IFERROR(O21/Q21*100-100,"-") -> 30.426768 | T21: =IFERROR(P21/R21*100-100,"-") -> 32.842552
A22: 3.3.1 Passenger | B22: 0 | C22: 0 | D22: 0 | E22: 0 | F22: 0 | G22: 0 | H22: =IFERROR(B22/D22*100-100,"-") -> - | I22: =IFERROR(C22/E22*100-100,"-") -> - | J22: =IFERROR(B22/F22*100-100,"-") -> - | K22: =IFERROR(C22/G22*100-100,"-") -> - | N22: 3.3.1 Passenger | O22: 0 | P22: 0 | Q22: 0 | R22: 0 | S22: =IFERROR(O22/Q22*100-100,"-") -> - | T22: =IFERROR(P22/R22*100-100,"-") -> -
A23: 3.3.2 Freight | B23: 122.25329 | C23: 439.8886 | D23: 37.226028 | E23: 133.792 | F23: 125.92072 | G23: 446.1402 | H23: =IFERROR(B23/D23*100-100,"-") -> 228.40809 | I23: =IFERROR(C23/E23*100-100,"-") -> 228.78543 | J23: =IFERROR(B23/F23*100-100,"-") -> -2.9124955 | K23: =IFERROR(C23/G23*100-100,"-") -> -1.4012635 | N23: 3.3.2 Freight | O23: 159.52819 | P23: 573.6806 | Q23: 205.62469 | R23: 726.0015 | S23: =IFERROR(O23/Q23*100-100,"-") -> -22.417786 | T23: =IFERROR(P23/R23*100-100,"-") -> -20.980797
A24: 3.3.3 Other | B24: 603.84469 | C24: 2172.7383 | D24: 1330.7425 | E24: 4782.7477 | F24: 779.45335 | G24: 2761.6223 | H24: =IFERROR(B24/D24*100-100,"-") -> -54.623475 | I24: =IFERROR(C24/E24*100-100,"-") -> -54.571338 | J24: =IFERROR(B24/F24*100-100,"-") -> -22.52972 | K24: =IFERROR(C24/G24*100-100,"-") -> -21.323843 | N24: 3.3.3 Other | O24: 1934.1704 | P24: 6955.486 | Q24: 1399.6429 | R24: 4941.7356 | S24: =IFERROR(O24/Q24*100-100,"-") -> 38.190281 | T24: =IFERROR(P24/R24*100-100,"-") -> 40.749861
A25: 3.4 Rail transport | B25: =SUM(B26:B28) -> 0 | C25: =SUM(C26:C28) -> 0 | D25: =SUM(D26:D28) -> 0 | E25: =SUM(E26:E28) -> 0 | F25: =SUM(F26:F28) -> 0 | G25: =SUM(G26:G28) -> 0 | H25: =IFERROR(B25/D25*100-100,"-") -> - | I25: =IFERROR(C25/E25*100-100,"-") -> - | J25: =IFERROR(B25/F25*100-100,"-") -> - | K25: =IFERROR(C25/G25*100-100,"-") -> - | N25: 3.4 Rail transport | O25: =SUM(O26:O28) -> 0 | P25: =SUM(P26:P28) -> 0 | Q25: =SUM(Q26:Q28) -> 0 | R25: =SUM(R26:R28) -> 0 | S25: =IFERROR(O25/Q25*100-100,"-") -> - | T25: =IFERROR(P25/R25*100-100,"-") -> -
A26: 3.4.1 Passenger | B26: 0 | C26: 0 | D26: 0 | E26: 0 | F26: 0 | G26: 0 | H26: =IFERROR(B26/D26*100-100,"-") -> - | I26: =IFERROR(C26/E26*100-100,"-") -> - | J26: =IFERROR(B26/F26*100-100,"-") -> - | K26: =IFERROR(C26/G26*100-100,"-") -> - | N26: 3.4.1 Passenger | O26: 0 | P26: 0 | Q26: 0 | R26: 0 | S26: =IFERROR(O26/Q26*100-100,"-") -> - | T26: =IFERROR(P26/R26*100-100,"-") -> -
A27: 3.4.2 Freight | B27: 0 | C27: 0 | D27: 0 | E27: 0 | F27: 0 | G27: 0 | H27: =IFERROR(B27/D27*100-100,"-") -> - | I27: =IFERROR(C27/E27*100-100,"-") -> - | J27: =IFERROR(B27/F27*100-100,"-") -> - | K27: =IFERROR(C27/G27*100-100,"-") -> - | N27: 3.4.2 Freight | O27: 0 | P27: 0 | Q27: 0 | R27: 0 | S27: =IFERROR(O27/Q27*100-100,"-") -> - | T27: =IFERROR(P27/R27*100-100,"-") -> -
A28: 3.4.3 Other | B28: 0 | C28: 0 | D28: 0 | E28: 0 | F28: 0 | G28: 0 | H28: =IFERROR(B28/D28*100-100,"-") -> - | I28: =IFERROR(C28/E28*100-100,"-") -> - | J28: =IFERROR(B28/F28*100-100,"-") -> - | K28: =IFERROR(C28/G28*100-100,"-") -> - | N28: 3.4.3 Other | O28: 0 | P28: 0 | Q28: 0 | R28: 0 | S28: =IFERROR(O28/Q28*100-100,"-") -> - | T28: =IFERROR(P28/R28*100-100,"-") -> -
A29: 3.5 Postal and courier services | B29: 141.41506 | C29: 508.836 | D29: 168.50381 | E29: 605.6102 | F29: 283.48918 | G29: 1004.4091 | H29: =IFERROR(B29/D29*100-100,"-") -> -16.076047 | I29: =IFERROR(C29/E29*100-100,"-") -> -15.979619 | J29: =IFERROR(B29/F29*100-100,"-") -> -50.11624 | K29: =IFERROR(C29/G29*100-100,"-") -> -49.339766 | N29: 3.5 Postal and courier services | O29: 309.90342 | P29: 1114.4462 | Q29: 457.10274 | R29: 1613.898 | S29: =IFERROR(O29/Q29*100-100,"-") -> -32.202677 | T29: =IFERROR(P29/R29*100-100,"-") -> -30.946925
A30: 3.6 Electricity transmission | B30: 0 | C30: 0 | D30: 0 | E30: 0 | F30: 0 | G30: 0 | H30: =IFERROR(B30/D30*100-100,"-") -> - | I30: =IFERROR(C30/E30*100-100,"-") -> - | J30: =IFERROR(B30/F30*100-100,"-") -> - | K30: =IFERROR(C30/G30*100-100,"-") -> - | N30: 3.6 Electricity transmission | O30: 0 | P30: 0 | Q30: 0 | R30: 0 | S30: =IFERROR(O30/Q30*100-100,"-") -> - | T30: =IFERROR(P30/R30*100-100,"-") -> -
A31: 3.7 Other supporting and auxiliary transport service | B31: 0 | C31: 0 | D31: 0 | E31: 0 | F31: 0 | G31: 0 | H31: =IFERROR(B31/D31*100-100,"-") -> - | I31: =IFERROR(C31/E31*100-100,"-") -> - | J31: =IFERROR(B31/F31*100-100,"-") -> - | K31: =IFERROR(C31/G31*100-100,"-") -> - | N31: 3.7 Other supporting and auxiliary transport service | O31: 0 | P31: 0 | Q31: 0 | R31: 0 | S31: =IFERROR(O31/Q31*100-100,"-") -> - | T31: =IFERROR(P31/R31*100-100,"-") -> -
A32: 4. Travel | B32: =B33+B36 -> 30681.831 | C32: =C33+C36 -> 110398.57 | D32: =D33+D36 -> 31156.178 | E32: =E33+E36 -> 111976.69 | F32: =F33+F36 -> 11811.403 | G32: =G33+G36 -> 41848.089 | H32: =IFERROR(B32/D32*100-100,"-") -> -1.5224807 | I32: =IFERROR(C32/E32*100-100,"-") -> -1.4093306 | J32: =IFERROR(B32/F32*100-100,"-") -> 159.76451 | K32: =IFERROR(C32/G32*100-100,"-") -> 163.80791 | N32: 4. Travel | O32: =O33+O36 -> 61837.758 | P32: =P33+P36 -> 222375.26 | Q32: =Q33+Q36 -> 25053.143 | R32: =R33+R36 -> 88455.425 | S32: =IFERROR(O32/Q32*100-100,"-") -> 146.82635 | T32: =IFERROR(P32/R32*100-100,"-") -> 151.3981
A33: 4.1 Business | B33: =SUM(B34:B35) -> 361.21745 | C33: =SUM(C34:C35) -> 1299.7232 | D33: =SUM(D34:D35) -> 295.09594 | E33: =SUM(E34:E35) -> 1060.5879 | F33: =SUM(F34:F35) -> 176.22077 | G33: =SUM(G34:G35) -> 624.35451 | H33: =IFERROR(B33/D33*100-100,"-") -> 22.406785 | I33: =IFERROR(C33/E33*100-100,"-") -> 22.54743 | J33: =IFERROR(B33/F33*100-100,"-") -> 104.98006 | K33: =IFERROR(C33/G33*100-100,"-") -> 108.17072 | N33: 4.1 Business | O33: =SUM(O34:O35) -> 656.35156 | P33: =SUM(P34:P35) -> 2360.3112 | Q33: =SUM(Q34:Q35) -> 358.63311 | R33: =SUM(R34:R35) -> 1266.2301 | S33: =IFERROR(O33/Q33*100-100,"-") -> 83.014769 | T33: =IFERROR(P33/R33*100-100,"-") -> 86.404595
A34: 4.1.1 Acquisition of goods and services by border, seasonal, and other short-term workers | B34: 0 | C34: 0 | D34: 0 | E34: 0 | F34: 0 | G34: 0 | H34: =IFERROR(B34/D34*100-100,"-") -> - | I34: =IFERROR(C34/E34*100-100,"-") -> - | J34: =IFERROR(B34/F34*100-100,"-") -> - | K34: =IFERROR(C34/G34*100-100,"-") -> - | N34: 4.1.1 Acquisition of goods and services by border, seasonal, and other short-term workers | O34: 0 | P34: 0 | Q34: 0 | R34: 0 | S34: =IFERROR(O34/Q34*100-100,"-") -> - | T34: =IFERROR(P34/R34*100-100,"-") -> -
A35: 4.1.2 Other | B35: 361.21745 | C35: 1299.7232 | D35: 295.09594 | E35: 1060.5879 | F35: 176.22077 | G35: 624.35451 | H35: =IFERROR(B35/D35*100-100,"-") -> 22.406785 | I35: =IFERROR(C35/E35*100-100,"-") -> 22.54743 | J35: =IFERROR(B35/F35*100-100,"-") -> 104.98006 | K35: =IFERROR(C35/G35*100-100,"-") -> 108.17072 | N35: 4.1.2 Other | O35: 656.35156 | P35: 2360.3112 | Q35: 358.63311 | R35: 1266.2301 | S35: =IFERROR(O35/Q35*100-100,"-") -> 83.014769 | T35: =IFERROR(P35/R35*100-100,"-") -> 86.404595
A36: 4.2 Personal | B36: =SUM(B37:B39) -> 30320.614 | C36: =SUM(C37:C39) -> 109098.85 | D36: =SUM(D37:D39) -> 30861.082 | E36: =SUM(E37:E39) -> 110916.1 | F36: =SUM(F37:F39) -> 11635.182 | G36: =SUM(G37:G39) -> 41223.734 | H36: =IFERROR(B36/D36*100-100,"-") -> -1.7512941 | I36: =IFERROR(C36/E36*100-100,"-") -> -1.6384069 | J36: =IFERROR(B36/F36*100-100,"-") -> 160.59424 | K36: =IFERROR(C36/G36*100-100,"-") -> 164.65057 | N36: 4.2 Personal | O36: =SUM(O37:O39) -> 61181.406 | P36: =SUM(P37:P39) -> 220014.95 | Q36: =SUM(Q37:Q39) -> 24694.51 | R36: =SUM(R37:R39) -> 87189.195 | S36: =IFERROR(O36/Q36*100-100,"-") -> 147.75307 | T36: =IFERROR(P36/R36*100-100,"-") -> 152.34199
A37: 4.2.1 Health-related expenditure | B37: 101.18509 | C37: 364.08155 | D37: 155.54694 | E37: 559.04262 | F37: 145.19143 | G37: 514.4168 | H37: =IFERROR(B37/D37*100-100,"-") -> -34.948841 | I37: =IFERROR(C37/E37*100-100,"-") -> -34.874098 | J37: =IFERROR(B37/F37*100-100,"-") -> -30.30919 | K37: =IFERROR(C37/G37*100-100,"-") -> -29.224406 | N37: 4.2.1 Health-related expenditure | O37: 256.70089 | P37: 923.12416 | Q37: 311.16564 | R37: 1098.6362 | S37: =IFERROR(O37/Q37*100-100,"-") -> -17.503456 | T37: =IFERROR(P37/R37*100-100,"-") -> -15.975443
A38: 4.2.2 Education-related expenditure | B38: 238.46776 | C38: 858.04851 | D38: 346.38267 | E38: 1244.9147 | F38: 337.99806 | G38: 1197.5354 | H38: =IFERROR(B38/D38*100-100,"-") -> -31.154823 | I38: =IFERROR(C38/E38*100-100,"-") -> -31.07572 | J38: =IFERROR(B38/F38*100-100,"-") -> -29.447003 | K38: =IFERROR(C38/G38*100-100,"-") -> -28.348798 | N38: 4.2.2 Education-related expenditure | O38: 584.78866 | P38: 2102.9632 | Q38: 968.29215 | R38: 3418.7604 | S38: =IFERROR(O38/Q38*100-100,"-") -> -39.606176 | T38: =IFERROR(P38/R38*100-100,"-") -> -38.487552
A39: 4.2.3 Other | B39: =SUM(B40:B41) -> 29980.961 | C39: =SUM(C40:C41) -> 107876.72 | D39: =SUM(D40:D41) -> 30359.153 | E39: =SUM(E40:E41) -> 109112.15 | F39: =SUM(F40:F41) -> 11151.992 | G39: =SUM(G40:G41) -> 39511.782 | H39: =IFERROR(B39/D39*100-100,"-") -> -1.245725 | I39: =IFERROR(C39/E39*100-100,"-") -> -1.1322569 | J39: =IFERROR(B39/F39*100-100,"-") -> 168.83951 | K39: =IFERROR(C39/G39*100-100,"-") -> 173.02417 | N39: 4.2.3 Other | O39: =SUM(O40:O41) -> 60339.917 | P39: =SUM(P40:P41) -> 216988.86 | Q39: =SUM(Q40:Q41) -> 23415.052 | R39: =SUM(R40:R41) -> 82671.799 | S39: =IFERROR(O39/Q39*100-100,"-") -> 157.69713 | T39: =IFERROR(P39/R39*100-100,"-") -> 162.47023
A40: 4.2.3.1 Religious travel | B40: 175.87194 | C40: 632.81784 | D40: 86.01892 | E40: 309.15583 | F40: 52.31917 | G40: 185.3681 | H40: =IFERROR(B40/D40*100-100,"-") -> 104.45727 | I40: =IFERROR(C40/E40*100-100,"-") -> 104.69219 | J40: =IFERROR(B40/F40*100-100,"-") -> 236.152 | K40: =IFERROR(C40/G40*100-100,"-") -> 241.38443 | N40: 4.2.3.1 Religious travel | O40: 261.94253 | P40: 941.97366 | Q40: 67.965183 | R40: 239.96547 | S40: =IFERROR(O40/Q40*100-100,"-") -> 285.40694 | T40: =IFERROR(P40/R40*100-100,"-") -> 292.5455
...
