Workbook

Sheet summary
A2: GOVERNMENT OF PAKISTAN
A3: PAKISTAN BUREAU OF STATISTICS
A6: TRADE IN SERVICES (SUMMARY)
A7: August, 2026
F8: Rs. In Million
F9: Dollars in Thousands
B10: August, 2026 (P ) | D10: July, 2026 (P ) | F10: % Change in August, 2026
A11: Description | F11: over July, 2026
B12: Rs | C12: $ | D12: Rs | E12: $ | F12: Rs | G12: $
A14: Export of Services (TOTAL) | B14: =detail!B7 -> 242625.95 | C14: =detail!C7 -> 873010.4 | D14: =detail!D7 -> 260989 | E14: =detail!E7 -> 938006.1 | F14: =IFERROR(B14/D14*100-100,"-") -> -7.0359488 | G14: =IFERROR(C14/E14*100-100,"-") -> -6.9291337
A15: 1.Manufacturing services on physical inputs owned by others | B15: =detail!$B$8 -> 0 | C15: =detail!$C$8 -> 0 | D15: =detail!$D$8 -> 0 | E15: =detail!$E$8 -> 0 | F15: =IFERROR(B15/D15*100-100,"-") -> - | G15: =IFERROR(C15/E15*100-100,"-") -> -
A16: 2.Maintenance and repair services n.i.e. | B16: =detail!$B$11 -> 35.574901 | C16: =detail!$C$11 -> 128.00469 | D16: =detail!$D$11 -> 123.85817 | E16: =detail!$E$11 -> 445.15179 | F16: =IFERROR(B16/D16*100-100,"-") -> -71.277712 | G16: =IFERROR(C16/E16*100-100,"-") -> -71.24471
A17: 3. Transport | B17: =detail!$B$12 -> 23923.091 | C17: =detail!$C$12 -> 86079.444 | D17: =detail!$D$12 -> 25233.644 | E17: =detail!$E$12 -> 90690.84 | F17: =IFERROR(B17/D17*100-100,"-") -> -5.1936746 | G17: =IFERROR(C17/E17*100-100,"-") -> -5.0847427
A18: 4. Travel | B18: =detail!$B$32 -> 30681.831 | C18: =detail!$C$32 -> 110398.57 | D18: =detail!$D$32 -> 31156.178 | E18: =detail!$E$32 -> 111976.69 | F18: =IFERROR(B18/D18*100-100,"-") -> -1.5224807 | G18: =IFERROR(C18/E18*100-100,"-") -> -1.4093306
A19: 5.Construction services | B19: =detail!$B$42 -> 1182.0425 | C19: =detail!$C$42 -> 4253.1946 | D19: =detail!$D$42 -> 1060.0308 | E19: =detail!$E$42 -> 3809.798 | F19: =IFERROR(B19/D19*100-100,"-") -> 11.510199 | G19: =IFERROR(C19/E19*100-100,"-") -> 11.638323
A20: 6. Insurance and Pension services | B20: =detail!$B$45 -> 2162.8476 | C20: =detail!$C$45 -> 7782.302 | D20: =detail!$D$45 -> 2235.2267 | E20: =detail!$E$45 -> 8033.5043 | F20: =IFERROR(B20/D20*100-100,"-") -> -3.2381119 | G20: =IFERROR(C20/E20*100-100,"-") -> -3.126933
A21: 7. Financial services | B21: =detail!$B$60 -> 1306.6818 | C21: =detail!$C$60 -> 4701.6685 | D21: =detail!$D$60 -> 2328.918 | E21: =detail!$E$60 -> 8370.2351 | F21: =IFERROR(B21/D21*100-100,"-") -> -43.893183 | G21: =IFERROR(C21/E21*100-100,"-") -> -43.828717
A22: 8. Charges for the use of intellectual services | B22: =detail!$B$63 -> 250.96299 | C22: =detail!$C$63 -> 903.0085 | D22: =detail!$D$63 -> 271.56239 | E22: =detail!$E$63 -> 976.0073 | F22: =IFERROR(B22/D22*100-100,"-") -> -7.585513 | G22: =IFERROR(C22/E22*100-100,"-") -> -7.4793293
A23: 9. Telecommunication, Computer and information services | B23: =detail!$B$64 -> 109675.66 | C23: =detail!$C$64 -> 394632.1 | D23: =detail!$D$64 -> 116139.18 | E23: =detail!$E$64 -> 417409.37 | F23: =IFERROR(B23/D23*100-100,"-") -> -5.5653228 | G23: =IFERROR(C23/E23*100-100,"-") -> -5.4568179
A24: 10. Other business services | B24: =detail!$B$78 -> 58108.359 | C24: =detail!$C$78 -> 209083.99 | D24: =detail!$D$78 -> 58496.102 | E24: =detail!$E$78 -> 210237.6 | F24: =IFERROR(B24/D24*100-100,"-") -> -0.66285336 | G24: =IFERROR(C24/E24*100-100,"-") -> -0.54871556
A25: 11. Personal, cultural, and recreational services | B25: =detail!$B$93 -> 586.3308 | C25: =detail!$C$93 -> 2109.7203 | D25: =detail!$D$93 -> 4582.0426 | E25: =detail!$E$93 -> 16468.065 | F25: =IFERROR(B25/D25*100-100,"-") -> -87.203724 | G25: =IFERROR(C25/E25*100-100,"-") -> -87.189022
A26: 12. Government services, n.i.e. | B26: =detail!$B$98 -> 14712.574 | C26: =detail!$C$98 -> 52938.402 | D26: =detail!$D$98 -> 19362.265 | E26: =detail!$E$98 -> 69588.842 | F26: =IFERROR(B26/D26*100-100,"-") -> -24.014189 | G26: =IFERROR(C26/E26*100-100,"-") -> -23.926882
A27: Import of Services (TOTAL) | B27: =detail!B110 -> 321201.73 | C27: =detail!C110 -> 1155739.7 | D27: =detail!D110 -> 338002.97 | E27: =detail!E110 -> 1214797.7 | F27: =IFERROR(B27/D27*100-100,"-") -> -4.9707355 | G27: =IFERROR(C27/E27*100-100,"-") -> -4.8615475
A28: 1.Manufacturing services on physical inputs owned by others | B28: =detail!B111 -> 0 | C28: =detail!C111 -> 0 | D28: =detail!D111 -> 0 | E28: =detail!E111 -> 0 | F28: =IFERROR(B28/D28*100-100,"-") -> - | G28: =IFERROR(C28/E28*100-100,"-") -> -
A29: 2.Maintenance and repair services n.i.e. | B29: =detail!B114 -> 5754.7172 | C29: =detail!C114 -> 20706.474 | D29: =detail!D114 -> 4680.8408 | E29: =detail!E114 -> 16823.15 | F29: =IFERROR(B29/D29*100-100,"-") -> 22.941957 | G29: =IFERROR(C29/E29*100-100,"-") -> 23.083216
A30: 3. Transport | B30: =detail!B115 -> 131284.39 | C30: =detail!C115 -> 472384.07 | D30: =detail!D115 -> 139585.03 | E30: =detail!E115 -> 501674.82 | F30: =IFERROR(B30/D30*100-100,"-") -> -5.9466603 | G30: =IFERROR(C30/E30*100-100,"-") -> -5.8385935
A31: 4. Travel | B31: =detail!B135 -> 88319.39 | C31: =detail!C135 -> 317788.54 | D31: =detail!D135 -> 80625.222 | E31: =detail!E135 -> 289770.64 | F31: =IFERROR(B31/D31*100-100,"-") -> 9.5431272 | G31: =IFERROR(C31/E31*100-100,"-") -> 9.6689916
A32: 5.Construction services | B32: =detail!B145 -> 2678.6112 | C32: =detail!C145 -> 9638.1093 | D32: =detail!D145 -> 765.08309 | E32: =detail!E145 -> 2749.7427 | F32: =IFERROR(B32/D32*100-100,"-") -> 250.10723 | G32: =IFERROR(C32/E32*100-100,"-") -> 250.5095
A33: 6. Insurance and Pension services | B33: =detail!B148 -> 6380.075 | C33: =detail!C148 -> 22956.62 | D33: =detail!D148 -> 9499.3811 | E33: =detail!E148 -> 34141.198 | F33: =IFERROR(B33/D33*100-100,"-") -> -32.836941 | G33: =IFERROR(C33/E33*100-100,"-") -> -32.759771
A34: 7. Financial services | B34: =detail!B163 -> 13967.427 | C34: =detail!C163 -> 50257.232 | D34: =detail!D163 -> 15372.033 | E34: =detail!E163 -> 55247.771 | F34: =IFERROR(B34/D34*100-100,"-") -> -9.1374133 | G34: =IFERROR(C34/E34*100-100,"-") -> -9.0330128
A35: 8. Charges for the use of intellectual services | B35: =detail!B166 -> 4930.1576 | C35: =detail!C166 -> 17739.565 | D35: =detail!D166 -> 8164.2625 | E35: =detail!E166 -> 29342.723 | F35: =IFERROR(B35/D35*100-100,"-") -> -39.612947 | G35: =IFERROR(C35/E35*100-100,"-") -> -39.543562
A36: 9. Telecommunication, Computer and information services | B36: =detail!B167 -> 16063.741 | C36: =detail!C167 -> 57800.135 | D36: =detail!D167 -> 20237.491 | E36: =detail!E167 -> 72734.444 | F36: =IFERROR(B36/D36*100-100,"-") -> -20.623854 | G36: =IFERROR(C36/E36*100-100,"-") -> -20.532651
A37: 10. Other business services | B37: =detail!B181 -> 35408.161 | C37: =detail!C181 -> 127404.73 | D37: =detail!D181 -> 40377.287 | E37: =detail!E181 -> 145117.77 | F37: =IFERROR(B37/D37*100-100,"-") -> -12.306735 | G37: =IFERROR(C37/E37*100-100,"-") -> -12.205976
A38: 11. Personal, cultural, and recreational services | B38: =detail!B196 -> 3239.5524 | C38: =detail!C196 -> 11656.473 | D38: =detail!D196 -> 3572.4656 | E38: =detail!E196 -> 12839.6 | F38: =IFERROR(B38/D38*100-100,"-") -> -9.3188644 | G38: =IFERROR(C38/E38*100-100,"-") -> -9.2146723
A39: 12. Government services, n.i.e. | B39: =detail!B201 -> 13175.517 | C39: =detail!C201 -> 47407.803 | D39: =detail!D201 -> 15123.868 | E39: =detail!E201 -> 54355.855 | F39: =IFERROR(B39/D39*100-100,"-") -> -12.882623 | G39: =IFERROR(C39/E39*100-100,"-") -> -12.782526
F42: Rs. In Million
F43: Dollars in Thousands
F44: % Change in July - August, 2026
A45: Description | B45: July - August, 2026 | D45: July - August 2025 | F45: over
F46: July - August, 2025
A48: Export of Services (TOTAL) | B48: =detail!O7 -> 503604.58 | C48: =detail!P7 -> 1811016.5 | D48: =detail!Q7 -> 397953.38 | E48: =detail!R7 -> 1405058.7 | F48: =IFERROR(B48/D48*100-100,"-") -> 26.548636 | G48: =IFERROR(C48/E48*100-100,"-") -> 28.892589
A49: 1.Manufacturing services on physical inputs owned by others | B49: =detail!O8 -> 0 | C49: =detail!P8 -> 0 | D49: =detail!Q8 -> 0 | E49: =detail!R8 -> 0 | F49: =IFERROR(B49/D49*100-100,"-") -> - | G49: =IFERROR(C49/E49*100-100,"-") -> -
A50: 2.Maintenance and repair services n.i.e. | B50: =detail!O11 -> 159.38244 | C50: =detail!P11 -> 573.15647 | D50: =detail!Q11 -> 202.28852 | E50: =detail!R11 -> 714.22244 | F50: =IFERROR(B50/D50*100-100,"-") -> -21.210338 | G50: =IFERROR(C50/E50*100-100,"-") -> -19.750985
A51: 3. Transport | B51: =detail!O12 -> 49155.999 | C51: =detail!P12 -> 176770.28 | D51: =detail!Q12 -> 37069.44 | E51: =detail!R12 -> 130881.51 | F51: =IFERROR(B51/D51*100-100,"-") -> 32.605184 | G51: =IFERROR(C51/E51*100-100,"-") -> 35.061317
A52: 4. Travel | B52: =detail!O32 -> 61837.758 | C52: =detail!P32 -> 222375.26 | D52: =detail!Q32 -> 25053.143 | E52: =detail!R32 -> 88455.425 | F52: =IFERROR(B52/D52*100-100,"-") -> 146.82635 | G52: =IFERROR(C52/E52*100-100,"-") -> 151.3981
A53: 5.Construction services | B53: =detail!O42 -> 2242.1441 | C53: =detail!P42 -> 8062.9926 | D53: =detail!Q42 -> 4709.1145 | E53: =detail!R42 -> 16626.526 | F53: =IFERROR(B53/D53*100-100,"-") -> -52.38714 | G53: =IFERROR(C53/E53*100-100,"-") -> -51.505247
A54: 6. Insurance and Pension services | B54: =detail!O45 -> 4398.0342 | C54: =detail!P45 -> 15815.806 | D54: =detail!Q45 -> 6420.5142 | E54: =detail!R45 -> 22668.985 | F54: =IFERROR(B54/D54*100-100,"-") -> -31.500281 | G54: =IFERROR(C54/E54*100-100,"-") -> -30.231519
A55: 7. Financial services | B55: =detail!O60 -> 3635.0141 | C55: =detail!P60 -> 13071.904 | D55: =detail!Q60 -> 2574.7127 | E55: =detail!R60 -> 9090.5684 | F55: =IFERROR(B55/D55*100-100,"-") -> 41.181346 | G55: =IFERROR(C55/E55*100-100,"-") -> 43.796328
A56: 8. Charges for the use of intellectual services | B56: =detail!O63 -> 522.51372 | C56: =detail!P63 -> 1879.0158 | D56: =detail!Q63 -> 459.62855 | E56: =detail!R63 -> 1622.8159 | F56: =IFERROR(B56/D56*100-100,"-") -> 13.681737 | G56: =IFERROR(C56/E56*100-100,"-") -> 15.787367
A57: 9. Telecommunication, Computer and information services | B57: =detail!O64 -> 225811.2 | C57: =detail!P64 -> 812041.47 | D57: =detail!Q64 -> 195908.3 | E57: =detail!R64 -> 691695.73 | F57: =IFERROR(B57/D57*100-100,"-") -> 15.263722 | G57: =IFERROR(C57/E57*100-100,"-") -> 17.398653
A58: 10. Other business services | B58: =detail!O78 -> 116604.28 | C58: =detail!P78 -> 419321.58 | D58: =detail!Q78 -> 85626.474 | E58: =detail!R78 -> 302322.4 | F58: =IFERROR(B58/D58*100-100,"-") -> 36.177833 | G58: =IFERROR(C58/E58*100-100,"-") -> 38.700139
A59: 11. Personal, cultural, and recreational services | B59: =detail!O93 -> 5166.0809 | C59: =detail!P93 -> 18577.785 | D59: =detail!Q93 -> 6388.2634 | E59: =detail!R93 -> 22555.116 | F59: =IFERROR(B59/D59*100-100,"-") -> -19.131685 | G59: =IFERROR(C59/E59*100-100,"-") -> -17.63383
A60: 12. Government services, n.i.e. | B60: =detail!O98 -> 34072.18 | C60: =detail!P98 -> 122527.24 | D60: =detail!Q98 -> 33541.506 | E60: =detail!R98 -> 118425.39 | F60: =IFERROR(B60/D60*100-100,"-") -> 1.5821417 | G60: =IFERROR(C60/E60*100-100,"-") -> 3.463661
A61: Import of Services (TOTAL) | B61: =detail!O110 -> 659195.27 | C61: =detail!P110 -> 2370537.5 | D61: =detail!Q110 -> 611646.78 | E61: =detail!R110 -> 2159548.5 | F61: =IFERROR(B61/D61*100-100,"-") -> 7.773848 | G61: =IFERROR(C61/E61*100-100,"-") -> 9.7700511
A62: 1.Manufacturing services on physical inputs owned by others | B62: =detail!O111 -> 0 | C62: =detail!P111 -> 0 | D62: =detail!Q111 -> 0 | E62: =detail!R111 -> 0 | F62: =IFERROR(B62/D62*100-100,"-") -> - | G62: =IFERROR(C62/E62*100-100,"-") -> -
A63: 2.Maintenance and repair services n.i.e. | B63: =detail!O114 -> 10436.178 | C63: =detail!P114 -> 37529.624 | D63: =detail!Q114 -> 3570.2283 | E63: =detail!R114 -> 12605.447 | F63: =IFERROR(B63/D63*100-100,"-") -> 192.31123 | G63: =IFERROR(C63/E63*100-100,"-") -> 197.72546
A64: 3. Transport | B64: =detail!O115 -> 270864.74 | C64: =detail!P115 -> 974058.89 | D64: =detail!Q115 -> 244631.81 | E64: =detail!R115 -> 863724.4 | F64: =IFERROR(B64/D64*100-100,"-") -> 10.723435 | G64: =IFERROR(C64/E64*100-100,"-") -> 12.774271
A65: 4. Travel | B65: =detail!O135 -> 168949.09 | C65: =detail!P135 -> 607559.17 | D65: =detail!Q135 -> 171002.7 | E65: =detail!R135 -> 603761.23 | F65: =IFERROR(B65/D65*100-100,"-") -> -1.200924 | G65: =IFERROR(C65/E65*100-100,"-") -> 0.62904698
A66: 5.Construction services | B66: =detail!O145 -> 3444.7941 | C66: =detail!P145 -> 12387.852 | D66: =detail!Q145 -> 3084.0479 | E66: =detail!R145 -> 10888.884 | F66: =IFERROR(B66/D66*100-100,"-") -> 11.697167 | G66: =IFERROR(C66/E66*100-100,"-") -> 13.766038
A67: 6. Insurance and Pension services | B67: =detail!O148 -> 15877.67 | C67: =detail!P148 -> 57097.819 | D67: =detail!Q148 -> 18865.356 | E67: =detail!R148 -> 66608.133 | F67: =IFERROR(B67/D67*100-100,"-") -> -15.83689 | G67: =IFERROR(C67/E67*100-100,"-") -> -14.278008
A68: 7. Financial services | B68: =detail!O163 -> 29338.663 | C68: =detail!P163 -> 105505 | D68: =detail!Q163 -> 39344.964 | E68: =detail!R163 -> 138915.73 | F68: =IFERROR(B68/D68*100-100,"-") -> -25.432228 | G68: =IFERROR(C68/E68*100-100,"-") -> -24.051073
A69: 8. Charges for the use of intellectual services | B69: =detail!O166 -> 13092.567 | C69: =detail!P166 -> 47082.288 | D69: =detail!Q166 -> 9017.8229 | E69: =detail!R166 -> 31839.333 | F69: =IFERROR(B69/D69*100-100,"-") -> 45.185458 | G69: =IFERROR(C69/E69*100-100,"-") -> 47.874604
A70: 9. Telecommunication, Computer and information services | B70: =detail!O167 -> 36298.847 | C70: =detail!P167 -> 130534.58 | D70: =detail!Q167 -> 28049.429 | E70: =detail!R167 -> 99034.447 | F70: =IFERROR(B70/D70*100-100,"-") -> 29.410291 | G70: =IFERROR(C70/E70*100-100,"-") -> 31.807248
A71: 10. Other business services | B71: =detail!O181 -> 75782.62 | C71: =detail!P181 -> 272522.49 | D71: =detail!Q181 -> 48465.667 | E71: =detail!R181 -> 171118.3 | F71: =IFERROR(B71/D71*100-100,"-") -> 56.363512 | G71: =IFERROR(C71/E71*100-100,"-") -> 59.2597
A72: 11. Personal, cultural, and recreational services | B72: =detail!O196 -> 6811.8291 | C72: =detail!P196 -> 24496.074 | D72: =detail!Q196 -> 7011.7322 | E72: =detail!R196 -> 24756.405 | F72: =IFERROR(B72/D72*100-100,"-") -> -2.8509808 | G72: =IFERROR(C72/E72*100-100,"-") -> -1.0515724
A73: 12. Government services, n.i.e. | B73: =detail!O201 -> 28298.276 | C73: =detail!P201 -> 101763.66 | D73: =detail!Q201 -> 38603.027 | E73: =detail!R201 -> 136296.16 | F73: =IFERROR(B73/D73*100-100,"-") -> -26.694154 | G73: =IFERROR(C73/E73*100-100,"-") -> -25.336372
A75: Provisional figures based on figures provided by the State Bank of Pakistan.
A76: Revised by SBP
A77: Note:- SBP has swiched over from BPM-5 to BPM 6th addition from August, 2014.
A78: Dollar value converted into Rupees on the basis of monthly Banks' Floating Average exchange rate provided by SBP.
A79: August, 2026 (1$=Rs.277.918741) , July, 2026 (1$=Rs.278.238068) and August, 2025 (1$=Rs.282.244732)

Sheet detail
B1: EXPORTS OF SERVICES | I1: Rs. in Millions | O1: EXPORTS OF SERVICES | T1: Rs. in Millions
I2: Dollars in Thousands | T2: Dollars in Thousands
H3: % Change in August, 2026 | S3: % Change in July - August, 2026
B4: August, 2026 (P ) | D4: July, 2026 (R ) | F4: August, 2025 | H4: over | O4: July - August, 2026 | Q4: July - August, 2025 | S4: over
A5: Description | H5: July, 2026 | J5: August, 2025 | N5: Description | S5: July - August, 2025
B6: Rs | C6: $ | D6: Rs | E6: $ | F6: Rs | G6: $ | H6: Rs | I6: $ | J6: Rs | K6: $ | O6: Rs | P6: $ | Q6: Rs | R6: $ | S6: Rs | T6: $
A7: Services | B7: =B8+B11+B12+B32+B42+B45+B60+B63+B64+B78+B93+B98 -> 242625.95 | C7: =C8+C11+C12+C32+C42+C45+C60+C63+C64+C78+C93+C98 -> 873010.4 | D7: =D8+D11+D12+D32+D42+D45+D60+D63+D64+D78+D93+D98 -> 260989 | E7: =E8+E11+E12+E32+E42+E45+E60+E63+E64+E78+E93+E98 -> 938006.1 | F7: =F8+F11+F12+F32+F42+F45+F60+F63+F64+F78+F93+F98 -> 191054.31 | G7: =G8+G11+G12+G32+G42+G45+G60+G63+G64+G78+G93+G98 -> 676910.11 | H7: =IFERROR(B7/D7*100-100,"-") -> -7.0359488 | I7: =IFERROR(C7/E7*100-100,"-") -> -6.9291337 | J7: =IFERROR(B7/F7*100-100,"-") -> 26.993183 | K7: =IFERROR(C7/G7*100-100,"-") -> 28.969917 | N7: Services | O7: =O8+O11+O12+O32+O42+O45+O60+O63+O64+O78+O93+O98 -> 503604.58 | P7: =P8+P11+P12+P32+P42+P45+P60+P63+P64+P78+P93+P98 -> 1811016.5 | Q7: =Q8+Q11+Q12+Q32+Q42+Q45+Q60+Q63+Q64+Q78+Q93+Q98 -> 397953.38 | R7: =R8+R11+R12+R32+R42+R45+R60+R63+R64+R78+R93+R98 -> 1405058.7 | S7: =IFERROR(O7/Q7*100-100,"-") -> 26.548636 | T7: =IFERROR(P7/R7*100-100,"-") -> 28.892589
A8: 1.Manufacturing services on physical inputs owned by others | B8: =SUM(B9:B10) -> 0 | C8: =SUM(C9:C10) -> 0 | D8: =SUM(D9:D10) -> 0 | E8: =SUM(E9:E10) -> 0 | F8: =SUM(F9:F10) -> 0 | G8: =SUM(G9:G10) -> 0 | H8: =IFERROR(B8/D8*100-100,"-") -> - | I8: =IFERROR(C8/E8*100-100,"-") -> - | J8: =IFERROR(B8/F8*100-100,"-") -> - | K8: =IFERROR(C8/G8*100-100,"-") -> - | N8: 1.Manufacturing services on physical inputs owned by others | O8: =SUM(O9:O10) -> 0 | P8: =SUM(P9:P10) -> 0 | Q8: =SUM(Q9:Q10) -> 0 | R8: =SUM(R9:R10) -> 0 | S8: =IFERROR(O8/Q8*100-100,"-") -> - | T8: =IFERROR(P8/R8*100-100,"-") -> -
A9: 1.1 Goods for processing in reporting economy | B9: 0 | C9: 0 | D9: 0 | E9: 0 | F9: 0 | G9: 0 | H9: =IFERROR(B9/D9*100-100,"-") -> - | I9: =IFERROR(C9/E9*100-100,"-") -> - | J9: =IFERROR(B9/F9*100-100,"-") -> - | K9: =IFERROR(C9/G9*100-100,"-") -> - | N9: 1.1 Goods for processing in reporting economy | O9: 0 | P9: 0 | Q9: 0 | R9: 0 | S9: =IFERROR(O9/Q9*100-100,"-") -> - | T9: =IFERROR(P9/R9*100-100,"-") -> -
A10: 1.2 Goods for processing abroad | B10: 0 | C10: 0 | D10: 0 | E10: 0 | F10: 0 | G10: 0 | H10: =IFERROR(B10/D10*100-100,"-") -> - | I10: =IFERROR(C10/E10*100-100,"-") -> - | J10: =IFERROR(B10/F10*100-100,"-") -> - | K10: =IFERROR(C10/G10*100-100,"-") -> - | N10: 1.2 Goods for processing abroad | O10: 0 | P10: 0 | Q10: 0 | R10: 0 | S10: =IFERROR(O10/Q10*100-100,"-") -> - | T10: =IFERROR(P10/R10*100-100,"-") -> -
A11: 2.Maintenance and repair services n.i.e. | B11: 35.574901 | C11: 128.00469 | D11: 123.85817 | E11: 445.15179 | F11: 99.170988 | G11: 351.36524 | H11: =IFERROR(B11/D11*100-100,"-") -> -71.277712 | I11: =IFERROR(C11/E11*100-100,"-") -> -71.24471 | J11: =IFERROR(B11/F11*100-100,"-") -> -64.127713 | K11: =IFERROR(C11/G11*100-100,"-") -> -63.569337 | N11: 2.Maintenance and repair services n.i.e. | O11: 159.38244 | P11: 573.15647 | Q11: 202.28852 | R11: 714.22244 | S11: =IFERROR(O11/Q11*100-100,"-") -> -21.210338 | T11: =IFERROR(P11/R11*100-100,"-") -> -19.750985
A12: 3. Transport | B12: =B13+B17+B21+B25+B29+B30+B31 -> 23923.091 | C12: =C13+C17+C21+C25+C29+C30+C31 -> 86079.444 | D12: =D13+D17+D21+D25+D29+D30+D31 -> 25233.644 | E12: =E13+E17+E21+E25+E29+E30+E31 -> 90690.84 | F12: =F13+F17+F21+F25+F29+F30+F31 -> 19013.404 | G12: =G13+G17+G21+G25+G29+G30+G31 -> 67364.956 | H12: =IFERROR(B12/D12*100-100,"-") -> -5.1936746 | I12: =IFERROR(C12/E12*100-100,"-") -> -5.0847427 | J12: =IFERROR(B12/F12*100-100,"-") -> 25.822241 | K12: =IFERROR(C12/G12*100-100,"-") -> 27.780748 | N12: 3. Transport | O12: =O13+O17+O21+O25+O29+O30+O31 -> 49155.999 | P12: =P13+P17+P21+P25+P29+P30+P31 -> 176770.28 | Q12: =Q13+Q17+Q21+Q25+Q29+Q30+Q31 -> 37069.44 | R12: =R13+R17+R21+R25+R29+R30+R31 -> 130881.51 | S12: =IFERROR(O12/Q12*100-100,"-") -> 32.605184 | T12: =IFERROR(P12/R12*100-100,"-") -> 35.061317
A13: 3.1 Sea transport | B13: =SUM(B14:B16) -> 4471.5313 | C13: =SUM(C14:C16) -> 16089.348 | D13: =SUM(D14:D16) -> 5103.3443 | E13: =SUM(E14:E16) -> 18341.647 | F13: =SUM(F14:F16) -> 2172.0132 | G13: =SUM(G14:G16) -> 7695.4958 | H13: =IFERROR(B13/D13*100-100,"-") -> -12.380373 | I13: =IFERROR(C13/E13*100-100,"-") -> -12.279698 | J13: =IFERROR(B13/F13*100-100,"-") -> 105.87036 | K13: =IFERROR(C13/G13*100-100,"-") -> 109.07487 | N13: 3.1 Sea transport | O13: =SUM(O14:O16) -> 9574.516 | P13: =SUM(P14:P16) -> 34430.994 | Q13: =SUM(Q14:Q16) -> 4748.1245 | R13: =SUM(R14:R16) -> 16764.259 | S13: =IFERROR(O13/Q13*100-100,"-") -> 101.64838 | T13: =IFERROR(P13/R13*100-100,"-") -> 105.38334
A14: 3.1.1 Passenger | B14: 0 | C14: 0 | D14: 0 | E14: 0 | F14: 0 | G14: 0 | H14: =IFERROR(B14/D14*100-100,"-") -> - | I14: =IFERROR(C14/E14*100-100,"-") -> - | J14: =IFERROR(B14/F14*100-100,"-") -> - | K14: =IFERROR(C14/G14*100-100,"-") -> - | N14: 3.1.1 Passenger | O14: 0 | P14: 0 | Q14: 0 | R14: 0 | S14: =IFERROR(O14/Q14*100-100,"-") -> - | T14: =IFERROR(P14/R14*100-100,"-") -> -
A15: 3.1.2 Freight | B15: 4222.2542 | C15: 15192.406 | D15: 4805.8591 | E15: 17272.471 | F15: 1790.5433 | G15: 6343.9387 | H15: =IFERROR(B15/D15*100-100,"-") -> -12.143612 | I15: =IFERROR(C15/E15*100-100,"-") -> -12.042665 | J15: =IFERROR(B15/F15*100-100,"-") -> 135.80856 | K15: =IFERROR(C15/G15*100-100,"-") -> 139.47907 | N15: 3.1.2 Freight | O15: 9027.7812 | P15: 32464.877 | Q15: 3902.4583 | R15: 13778.455 | S15: =IFERROR(O15/Q15*100-100,"-") -> 131.33575 | T15: =IFERROR(P15/R15*100-100,"-") -> 135.62059
A16: 3.1.3 Other | B16: 249.27704 | C16: 896.94219 | D16: 297.48524 | E16: 1069.1752 | F16: 381.46989 | G16: 1351.5572 | H16: =IFERROR(B16/D16*100-100,"-") -> -16.205239 | I16: =IFERROR(C16/E16*100-100,"-") -> -16.10896 | J16: =IFERROR(B16/F16*100-100,"-") -> -34.653547 | K16: =IFERROR(C16/G16*100-100,"-") -> -33.636385 | N16: 3.1.3 Other | O16: 546.73478 | P16: 1966.1174 | Q16: 845.66626 | R16: 2985.8038 | S16: =IFERROR(O16/Q16*100-100,"-") -> -35.348635 | T16: =IFERROR(P16/R16*100-100,"-") -> -34.151153
A17: 3.2 Air transport | B17: =SUM(B18:B20) -> 18584.047 | C17: =SUM(C18:C20) -> 66868.634 | D17: =SUM(D18:D20) -> 18593.828 | E17: =SUM(E18:E20) -> 66827.044 | F17: =SUM(F18:F20) -> 15652.528 | G17: =SUM(G18:G20) -> 55457.288 | H17: =IFERROR(B17/D17*100-100,"-") -> -0.052603688 | I17: =IFERROR(C17/E17*100-100,"-") -> 0.062235283 | J17: =IFERROR(B17/F17*100-100,"-") -> 18.728726 | K17: =IFERROR(C17/G17*100-100,"-") -> 20.576818 | N17: 3.2 Air transport | O17: =SUM(O18:O20) -> 37177.881 | P17: =SUM(P18:P20) -> 133695.68 | Q17: =SUM(Q18:Q20) -> 30258.945 | R17: =SUM(R18:R20) -> 106835.61 | S17: =IFERROR(O17/Q17*100-100,"-") -> 22.865754 | T17: =IFERROR(P17/R17*100-100,"-") -> 25.141491
A18: 3.1.1 Passenger | B18: 7911.2922 | C18: 28466.206 | D18: 7946.2708 | E18: 28559.251 | F18: 7701.2011 | G18: 27285.544 | H18: =IFERROR(B18/D18*100-100,"-") -> -0.44018965 | I18: =IFERROR(C18/E18*100-100,"-") -> -0.32579601 | J18: =IFERROR(B18/F18*100-100,"-") -> 2.7280294 | K18: =IFERROR(C18/G18*100-100,"-") -> 4.3270599 | N18: 3.1.1 Passenger | O18: 15857.548 | P18: 57025.457 | Q18: 17373.073 | R18: 61339.312 | S18: =IFERROR(O18/Q18*100-100,"-") -> -8.723412 | T18: =IFERROR(P18/R18*100-100,"-") -> -7.0327736
A19: 3.1.2 Freight | B19: 2624.0036 | C19: 9441.6218 | D19: 2589.5581 | E19: 9306.9869 | F19: 580.87515 | G19: 2058.0549 | H19: =IFERROR(B19/D19*100-100,"-") -> 1.3301725 | I19: =IFERROR(C19/E19*100-100,"-") -> 1.4466003 | J19: =IFERROR(B19/F19*100-100,"-") -> 351.73281 | K19: =IFERROR(C19/G19*100-100,"-") -> 358.76433 | N19: 3.1.2 Freight | O19: 5213.5832 | P19: 18748.609 | Q19: 1469.7039 | R19: 5189.1007 | S19: =IFERROR(O19/Q19*100-100,"-") -> 254.73698 | T19: =IFERROR(P19/R19*100-100,"-") -> 261.30747
A20: 3.1.3 Other | B20: 8048.7507 | C20: 28960.806 | D20: 8057.9987 | E20: 28960.806 | F20: 7370.4512 | G20: 26113.689 | H20: =IFERROR(B20/D20*100-100,"-") -> -0.11476755 | I20: =IFERROR(C20/E20*100-100,"-") -> 0 | J20: =IFERROR(B20/F20*100-100,"-") -> 9.2029574 | K20: =IFERROR(C20/G20*100-100,"-") -> 10.902774 | N20: 3.1.3 Other | O20: 16106.749 | P20: 57921.612 | Q20: 11416.168 | R20: 40307.199 | S20: =IFERROR(O20/Q20*100-100,"-") -> 41.087177 | T20: =IFERROR(P20/R20*100-100,"-") -> 43.700415
A21: 3.3 Road transport | B21: =SUM(B22:B24) -> 726.09798 | C21: =SUM(C22:C24) -> 2612.6269 | D21: =SUM(D22:D24) -> 1367.9685 | E21: =SUM(E22:E24) -> 4916.5397 | F21: =SUM(F22:F24) -> 905.37407 | G21: =SUM(G22:G24) -> 3207.7625 | H21: =IFERROR(B21/D21*100-100,"-") -> -46.92144 | I21: =IFERROR(C21/E21*100-100,"-") -> -46.860454 | J21: =IFERROR(B21/F21*100-100,"-") -> -19.801328 | K21: =IFERROR(C21/G21*100-100,"-") -> -18.552982 | N21: 3.3 Road transport | O21: =SUM(O22:O24) -> 2093.6986 | P21: =SUM(P22:P24) -> 7529.1666 | Q21: =SUM(Q22:Q24) -> 1605.2676 | R21: =SUM(R22:R24) -> 5667.7371 | S21: =IFERROR(O21/Q21*100-100,"-") -> 30.426768 | T21: =IFERROR(P21/R21*100-100,"-") -> 32.842552
A22: 3.3.1 Passenger | B22: 0 | C22: 0 | D22: 0 | E22: 0 | F22: 0 | G22: 0 | H22: =IFERROR(B22/D22*100-100,"-") -> - | I22: =IFERROR(C22/E22*100-100,"-") -> - | J22: =IFERROR(B22/F22*100-100,"-") -> - | K22: =IFERROR(C22/G22*100-100,"-") -> - | N22: 3.3.1 Passenger | O22: 0 | P22: 0 | Q22: 0 | R22: 0 | S22: =IFERROR(O22/Q22*100-100,"-") -> - | T22: =IFERROR(P22/R22*100-100,"-") -> -
A23: 3.3.2 Freight | B23: 122.25329 | C23: 439.8886 | D23: 37.226028 | E23: 133.792 | F23: 125.92072 | G23: 446.1402 | H23: =IFERROR(B23/D23*100-100,"-") -> 228.40809 | I23: =IFERROR(C23/E23*100-100,"-") -> 228.78543 | J23: =IFERROR(B23/F23*100-100,"-") -> -2.9124955 | K23: =IFERROR(C23/G23*100-100,"-") -> -1.4012635 | N23: 3.3.2 Freight | O23: 159.52819 | P23: 573.6806 | Q23: 205.62469 | R23: 726.0015 | S23: =IFERROR(O23/Q23*100-100,"-") -> -22.417786 | T23: =IFERROR(P23/R23*100-100,"-") -> -20.980797
A24: 3.3.3 Other | B24: 603.84469 | C24: 2172.7383 | D24: 1330.7425 | E24: 4782.7477 | F24: 779.45335 | G24: 2761.6223 | H24: =IFERROR(B24/D24*100-100,"-") -> -54.623475 | I24: =IFERROR(C24/E24*100-100,"-") -> -54.571338 | J24: =IFERROR(B24/F24*100-100,"-") -> -22.52972 | K24: =IFERROR(C24/G24*100-100,"-") -> -21.323843 | N24: 3.3.3 Other | O24: 1934.1704 | P24: 6955.486 | Q24: 1399.6429 | R24: 4941.7356 | S24: =IFERROR(O24/Q24*100-100,"-") -> 38.190281 | T24: =IFERROR(P24/R24*100-100,"-") -> 40.749861
A25: 3.4 Rail transport | B25: =SUM(B26:B28) -> 0 | C25: =SUM(C26:C28) -> 0 | D25: =SUM(D26:D28) -> 0 | E25: =SUM(E26:E28) -> 0 | F25: =SUM(F26:F28) -> 0 | G25: =SUM(G26:G28) -> 0 | H25: =IFERROR(B25/D25*100-100,"-") -> - | I25: =IFERROR(C25/E25*100-100,"-") -> - | J25: =IFERROR(B25/F25*100-100,"-") -> - | K25: =IFERROR(C25/G25*100-100,"-") -> - | N25: 3.4 Rail transport | O25: =SUM(O26:O28) -> 0 | P25: =SUM(P26:P28) -> 0 | Q25: =SUM(Q26:Q28) -> 0 | R25: =SUM(R26:R28) -> 0 | S25: =IFERROR(O25/Q25*100-100,"-") -> - | T25: =IFERROR(P25/R25*100-100,"-") -> -
A26: 3.4.1 Passenger | B26: 0 | C26: 0 | D26: 0 | E26: 0 | F26: 0 | G26: 0 | H26: =IFERROR(B26/D26*100-100,"-") -> - | I26: =IFERROR(C26/E26*100-100,"-") -> - | J26: =IFERROR(B26/F26*100-100,"-") -> - | K26: =IFERROR(C26/G26*100-100,"-") -> - | N26: 3.4.1 Passenger | O26: 0 | P26: 0 | Q26: 0 | R26: 0 | S26: =IFERROR(O26/Q26*100-100,"-") -> - | T26: =IFERROR(P26/R26*100-100,"-") -> -
A27: 3.4.2 Freight | B27: 0 | C27: 0 | D27: 0 | E27: 0 | F27: 0 | G27: 0 | H27: =IFERROR(B27/D27*100-100,"-") -> - | I27: =IFERROR(C27/E27*100-100,"-") -> - | J27: =IFERROR(B27/F27*100-100,"-") -> - | K27: =IFERROR(C27/G27*100-100,"-") -> - | N27: 3.4.2 Freight | O27: 0 | P27: 0 | Q27: 0 | R27: 0 | S27: =IFERROR(O27/Q27*100-100,"-") -> - | T27: =IFERROR(P27/R27*100-100,"-") -> -
A28: 3.4.3 Other | B28: 0 | C28: 0 | D28: 0 | E28: 0 | F28: 0 | G28: 0 | H28: =IFERROR(B28/D28*100-100,"-") -> - | I28: =IFERROR(C28/E28*100-100,"-") -> - | J28: =IFERROR(B28/F28*100-100,"-") -> - | K28: =IFERROR(C28/G28*100-100,"-") -> - | N28: 3.4.3 Other | O28: 0 | P28: 0 | Q28: 0 | R28: 0 | S28: =IFERROR(O28/Q28*100-100,"-") -> - | T28: =IFERROR(P28/R28*100-100,"-") -> -
A29: 3.5 Postal and courier services | B29: 141.41506 | C29: 508.836 | D29: 168.50381 | E29: 605.6102 | F29: 283.48918 | G29: 1004.4091 | H29: =IFERROR(B29/D29*100-100,"-") -> -16.076047 | I29: =IFERROR(C29/E29*100-100,"-") -> -15.979619 | J29: =IFERROR(B29/F29*100-100,"-") -> -50.11624 | K29: =IFERROR(C29/G29*100-100,"-") -> -49.339766 | N29: 3.5 Postal and courier services | O29: 309.90342 | P29: 1114.4462 | Q29: 457.10274 | R29: 1613.898 | S29: =IFERROR(O29/Q29*100-100,"-") -> -32.202677 | T29: =IFERROR(P29/R29*100-100,"-") -> -30.946925
A30: 3.6 Electricity transmission | B30: 0 | C30: 0 | D30: 0 | E30: 0 | F30: 0 | G30: 0 | H30: =IFERROR(B30/D30*100-100,"-") -> - | I30: =IFERROR(C30/E30*100-100,"-") -> - | J30: =IFERROR(B30/F30*100-100,"-") -> - | K30: =IFERROR(C30/G30*100-100,"-") -> - | N30: 3.6 Electricity transmission | O30: 0 | P30: 0 | Q30: 0 | R30: 0 | S30: =IFERROR(O30/Q30*100-100,"-") -> - | T30: =IFERROR(P30/R30*100-100,"-") -> -
A31: 3.7 Other supporting and auxiliary transport service | B31: 0 | C31: 0 | D31: 0 | E31: 0 | F31: 0 | G31: 0 | H31: =IFERROR(B31/D31*100-100,"-") -> - | I31: =IFERROR(C31/E31*100-100,"-") -> - | J31: =IFERROR(B31/F31*100-100,"-") -> - | K31: =IFERROR(C31/G31*100-100,"-") -> - | N31: 3.7 Other supporting and auxiliary transport service | O31: 0 | P31: 0 | Q31: 0 | R31: 0 | S31: =IFERROR(O31/Q31*100-100,"-") -> - | T31: =IFERROR(P31/R31*100-100,"-") -> -
A32: 4. Travel | B32: =B33+B36 -> 30681.831 | C32: =C33+C36 -> 110398.57 | D32: =D33+D36 -> 31156.178 | E32: =E33+E36 -> 111976.69 | F32: =F33+F36 -> 11811.403 | G32: =G33+G36 -> 41848.089 | H32: =IFERROR(B32/D32*100-100,"-") -> -1.5224807 | I32: =IFERROR(C32/E32*100-100,"-") -> -1.4093306 | J32: =IFERROR(B32/F32*100-100,"-") -> 159.76451 | K32: =IFERROR(C32/G32*100-100,"-") -> 163.80791 | N32: 4. Travel | O32: =O33+O36 -> 61837.758 | P32: =P33+P36 -> 222375.26 | Q32: =Q33+Q36 -> 25053.143 | R32: =R33+R36 -> 88455.425 | S32: =IFERROR(O32/Q32*100-100,"-") -> 146.82635 | T32: =IFERROR(P32/R32*100-100,"-") -> 151.3981
A33: 4.1 Business | B33: =SUM(B34:B35) -> 361.21745 | C33: =SUM(C34:C35) -> 1299.7232 | D33: =SUM(D34:D35) -> 295.09594 | E33: =SUM(E34:E35) -> 1060.5879 | F33: =SUM(F34:F35) -> 176.22077 | G33: =SUM(G34:G35) -> 624.35451 | H33: =IFERROR(B33/D33*100-100,"-") -> 22.406785 | I33: =IFERROR(C33/E33*100-100,"-") -> 22.54743 | J33: =IFERROR(B33/F33*100-100,"-") -> 104.98006 | K33: =IFERROR(C33/G33*100-100,"-") -> 108.17072 | N33: 4.1 Business | O33: =SUM(O34:O35) -> 656.35156 | P33: =SUM(P34:P35) -> 2360.3112 | Q33: =SUM(Q34:Q35) -> 358.63311 | R33: =SUM(R34:R35) -> 1266.2301 | S33: =IFERROR(O33/Q33*100-100,"-") -> 83.014769 | T33: =IFERROR(P33/R33*100-100,"-") -> 86.404595
A34: 4.1.1 Acquisition of goods and services by border, seasonal, and other short-term workers | B34: 0 | C34: 0 | D34: 0 | E34: 0 | F34: 0 | G34: 0 | H34: =IFERROR(B34/D34*100-100,"-") -> - | I34: =IFERROR(C34/E34*100-100,"-") -> - | J34: =IFERROR(B34/F34*100-100,"-") -> - | K34: =IFERROR(C34/G34*100-100,"-") -> - | N34: 4.1.1 Acquisition of goods and services by border, seasonal, and other short-term workers | O34: 0 | P34: 0 | Q34: 0 | R34: 0 | S34: =IFERROR(O34/Q34*100-100,"-") -> - | T34: =IFERROR(P34/R34*100-100,"-") -> -
A35: 4.1.2 Other | B35: 361.21745 | C35: 1299.7232 | D35: 295.09594 | E35: 1060.5879 | F35: 176.22077 | G35: 624.35451 | H35: =IFERROR(B35/D35*100-100,"-") -> 22.406785 | I35: =IFERROR(C35/E35*100-100,"-") -> 22.54743 | J35: =IFERROR(B35/F35*100-100,"-") -> 104.98006 | K35: =IFERROR(C35/G35*100-100,"-") -> 108.17072 | N35: 4.1.2 Other | O35: 656.35156 | P35: 2360.3112 | Q35: 358.63311 | R35: 1266.2301 | S35: =IFERROR(O35/Q35*100-100,"-") -> 83.014769 | T35: =IFERROR(P35/R35*100-100,"-") -> 86.404595
A36: 4.2 Personal | B36: =SUM(B37:B39) -> 30320.614 | C36: =SUM(C37:C39) -> 109098.85 | D36: =SUM(D37:D39) -> 30861.082 | E36: =SUM(E37:E39) -> 110916.1 | F36: =SUM(F37:F39) -> 11635.182 | G36: =SUM(G37:G39) -> 41223.734 | H36: =IFERROR(B36/D36*100-100,"-") -> -1.7512941 | I36: =IFERROR(C36/E36*100-100,"-") -> -1.6384069 | J36: =IFERROR(B36/F36*100-100,"-") -> 160.59424 | K36: =IFERROR(C36/G36*100-100,"-") -> 164.65057 | N36: 4.2 Personal | O36: =SUM(O37:O39) -> 61181.406 | P36: =SUM(P37:P39) -> 220014.95 | Q36: =SUM(Q37:Q39) -> 24694.51 | R36: =SUM(R37:R39) -> 87189.195 | S36: =IFERROR(O36/Q36*100-100,"-") -> 147.75307 | T36: =IFERROR(P36/R36*100-100,"-") -> 152.34199
A37: 4.2.1 Health-related expenditure | B37: 101.18509 | C37: 364.08155 | D37: 155.54694 | E37: 559.04262 | F37: 145.19143 | G37: 514.4168 | H37: =IFERROR(B37/D37*100-100,"-") -> -34.948841 | I37: =IFERROR(C37/E37*100-100,"-") -> -34.874098 | J37: =IFERROR(B37/F37*100-100,"-") -> -30.30919 | K37: =IFERROR(C37/G37*100-100,"-") -> -29.224406 | N37: 4.2.1 Health-related expenditure | O37: 256.70089 | P37: 923.12416 | Q37: 311.16564 | R37: 1098.6362 | S37: =IFERROR(O37/Q37*100-100,"-") -> -17.503456 | T37: =IFERROR(P37/R37*100-100,"-") -> -15.975443
A38: 4.2.2 Education-related expenditure | B38: 238.46776 | C38: 858.04851 | D38: 346.38267 | E38: 1244.9147 | F38: 337.99806 | G38: 1197.5354 | H38: =IFERROR(B38/D38*100-100,"-") -> -31.154823 | I38: =IFERROR(C38/E38*100-100,"-") -> -31.07572 | J38: =IFERROR(B38/F38*100-100,"-") -> -29.447003 | K38: =IFERROR(C38/G38*100-100,"-") -> -28.348798 | N38: 4.2.2 Education-related expenditure | O38: 584.78866 | P38: 2102.9632 | Q38: 968.29215 | R38: 3418.7604 | S38: =IFERROR(O38/Q38*100-100,"-") -> -39.606176 | T38: =IFERROR(P38/R38*100-100,"-") -> -38.487552
A39: 4.2.3 Other | B39: =SUM(B40:B41) -> 29980.961 | C39: =SUM(C40:C41) -> 107876.72 | D39: =SUM(D40:D41) -> 30359.153 | E39: =SUM(E40:E41) -> 109112.15 | F39: =SUM(F40:F41) -> 11151.992 | G39: =SUM(G40:G41) -> 39511.782 | H39: =IFERROR(B39/D39*100-100,"-") -> -1.245725 | I39: =IFERROR(C39/E39*100-100,"-") -> -1.1322569 | J39: =IFERROR(B39/F39*100-100,"-") -> 168.83951 | K39: =IFERROR(C39/G39*100-100,"-") -> 173.02417 | N39: 4.2.3 Other | O39: =SUM(O40:O41) -> 60339.917 | P39: =SUM(P40:P41) -> 216988.86 | Q39: =SUM(Q40:Q41) -> 23415.052 | R39: =SUM(R40:R41) -> 82671.799 | S39: =IFERROR(O39/Q39*100-100,"-") -> 157.69713 | T39: =IFERROR(P39/R39*100-100,"-") -> 162.47023
A40: 4.2.3.1 Religious travel | B40: 175.87194 | C40: 632.81784 | D40: 86.01892 | E40: 309.15583 | F40: 52.31917 | G40: 185.3681 | H40: =IFERROR(B40/D40*100-100,"-") -> 104.45727 | I40: =IFERROR(C40/E40*100-100,"-") -> 104.69219 | J40: =IFERROR(B40/F40*100-100,"-") -> 236.152 | K40: =IFERROR(C40/G40*100-100,"-") -> 241.38443 | N40: 4.2.3.1 Religious travel | O40: 261.94253 | P40: 941.97366 | Q40: 67.965183 | R40: 239.96547 | S40: =IFERROR(O40/Q40*100-100,"-") -> 285.40694 | T40: =IFERROR(P40/R40*100-100,"-") -> 292.5455
A41: 4.2.3.2 Other | B41: 29805.089 | C41: 107243.9 | D41: 30273.134 | E41: 108802.99 | F41: 11099.673 | G41: 39326.414 | H41: =IFERROR(B41/D41*100-100,"-") -> -1.5460724 | I41: =IFERROR(C41/E41*100-100,"-") -> -1.4329494 | J41: =IFERROR(B41/F41*100-100,"-") -> 168.52222 | K41: =IFERROR(C41/G41*100-100,"-") -> 172.70195 | N41: 4.2.3.2 Other | O41: 60077.974 | P41: 216046.89 | Q41: 23347.087 | R41: 82431.833 | S41: =IFERROR(O41/Q41*100-100,"-") -> 157.32536 | T41: =IFERROR(P41/R41*100-100,"-") -> 162.09157
A42: 5.Construction services | B42: =SUM(B43:B44) -> 1182.0425 | C42: =SUM(C43:C44) -> 4253.1946 | D42: =SUM(D43:D44) -> 1060.0308 | E42: =SUM(E43:E44) -> 3809.798 | F42: =SUM(F43:F44) -> 2677.0148 | G42: =SUM(G43:G44) -> 9484.7291 | H42: =IFERROR(B42/D42*100-100,"-") -> 11.510199 | I42: =IFERROR(C42/E42*100-100,"-") -> 11.638323 | J42: =IFERROR(B42/F42*100-100,"-") -> -55.844754 | K42: =IFERROR(C42/G42*100-100,"-") -> -55.157448 | N42: 5.Construction services | O42: =SUM(O43:O44) -> 2242.1441 | P42: =SUM(P43:P44) -> 8062.9926 | Q42: =SUM(Q43:Q44) -> 4709.1145 | R42: =SUM(R43:R44) -> 16626.526 | S42: =IFERROR(O42/Q42*100-100,"-") -> -52.38714 | T42: =IFERROR(P42/R42*100-100,"-") -> -51.505247
A43: 5.1 Construction abroad | B43: 1182.0425 | C43: 4253.1946 | D43: 1060.0308 | E43: 3809.798 | F43: 2677.0148 | G43: 9484.7291 | H43: =IFERROR(B43/D43*100-100,"-") -> 11.510199 | I43: =IFERROR(C43/E43*100-100,"-") -> 11.638323 | J43: =IFERROR(B43/F43*100-100,"-") -> -55.844754 | K43: =IFERROR(C43/G43*100-100,"-") -> -55.157448 | N43: 5.1 Construction abroad | O43: 2242.1441 | P43: 8062.9926 | Q43: 4709.1145 | R43: 16626.526 | S43: =IFERROR(O43/Q43*100-100,"-") -> -52.38714 | T43: =IFERROR(P43/R43*100-100,"-") -> -51.505247
A44: 5.2 Construction in the compiling economy | B44: 0 | C44: 0 | D44: 0 | E44: 0 | F44: 0 | G44: 0 | H44: =IFERROR(B44/D44*100-100,"-") -> - | I44: =IFERROR(C44/E44*100-100,"-") -> - | J44: =IFERROR(B44/F44*100-100,"-") -> - | K44: =IFERROR(C44/G44*100-100,"-") -> - | N44: 5.2 Construction in the compiling economy | O44: 0 | P44: 0 | Q44: 0 | R44: 0 | S44: =IFERROR(O44/Q44*100-100,"-") -> - | T44: =IFERROR(P44/R44*100-100,"-") -> -
A45: 6. Insurance and Pension services | B45: =B46+B50+B51+B52 -> 2162.8476 | C45: =C46+C50+C51+C52 -> 7782.302 | D45: =D46+D50+D51+D52 -> 2235.2267 | E45: =E46+E50+E51+E52 -> 8033.5043 | F45: =F46+F50+F51+F52 -> 1197.6792 | G45: =G46+G50+G51+G52 -> 4243.4069 | H45: =IFERROR(B45/D45*100-100,"-") -> -3.2381119 | I45: =IFERROR(C45/E45*100-100,"-") -> -3.126933 | J45: =IFERROR(B45/F45*100-100,"-") -> 80.586546 | K45: =IFERROR(C45/G45*100-100,"-") -> 83.397496 | N45: 6. Insurance and Pension services | O45: =O46+O50+O51+O52 -> 4398.0342 | P45: =P46+P50+P51+P52 -> 15815.806 | Q45: =Q46+Q50+Q51+Q52 -> 6420.5142 | R45: =R46+R50+R51+R52 -> 22668.985 | S45: =IFERROR(O45/Q45*100-100,"-") -> -31.500281 | T45: =IFERROR(P45/R45*100-100,"-") -> -30.231519
A46: 6.1 Direct Insurance | B46: =SUM(B47:B49) -> 1245.0967 | C46: =SUM(C47:C49) -> 4480.0746 | D46: =SUM(D47:D49) -> 1351.5907 | E46: =SUM(E47:E49) -> 4857.6772 | F46: =SUM(F47:F49) -> 172.49054 | G46: =SUM(G47:G49) -> 611.1382 | H46: =IFERROR(B46/D46*100-100,"-") -> -7.8791623 | I46: =IFERROR(C46/E46*100-100,"-") -> -7.773316 | J46: =IFERROR(B46/F46*100-100,"-") -> 621.83478 | K46: =IFERROR(C46/G46*100-100,"-") -> 633.07062 | N46: 6.1 Direct Insurance | O46: =SUM(O47:O49) -> 2596.6271 | P46: =SUM(P47:P49) -> 9337.7518 | Q46: =SUM(Q47:Q49) -> 4202.4228 | R46: =SUM(R47:R49) -> 14837.544 | S46: =IFERROR(O46/Q46*100-100,"-") -> -38.211189 | T46: =IFERROR(P46/R46*100-100,"-") -> -37.066727
A47: 6.1.1 Life insurance | B47: 57.937664 | C47: 208.4698 | D47: 44.426801 | E47: 159.6719 | F47: 92.406417 | G47: 327.3982 | H47: =IFERROR(B47/D47*100-100,"-") -> 30.411515 | I47: =IFERROR(C47/E47*100-100,"-") -> 30.561357 | J47: =IFERROR(B47/F47*100-100,"-") -> -37.301255 | K47: =IFERROR(C47/G47*100-100,"-") -> -36.325307 | N47: 6.1.1 Life insurance | O47: 102.37226 | P47: 368.1417 | Q47: 157.57027 | R47: 556.3352 | S47: =IFERROR(O47/Q47*100-100,"-") -> -35.030728 | T47: =IFERROR(P47/R47*100-100,"-") -> -33.827358
A48: 6.1.2 Freight insurance | B48: 0 | C48: 0 | D48: 0 | E48: 0 | F48: 0 | G48: 0 | H48: =IFERROR(B48/D48*100-100,"-") -> - | I48: =IFERROR(C48/E48*100-100,"-") -> - | J48: =IFERROR(B48/F48*100-100,"-") -> - | K48: =IFERROR(C48/G48*100-100,"-") -> - | N48: 6.1.2 Freight insurance | O48: 0 | P48: 0 | Q48: 0 | R48: 0 | S48: =IFERROR(O48/Q48*100-100,"-") -> - | T48: =IFERROR(P48/R48*100-100,"-") -> -
A49: 6.1.3 Other direct insurance | B49: 1187.159 | C49: 4271.6048 | D49: 1307.1639 | E49: 4698.0053 | F49: 80.08412 | G49: 283.74 | H49: =IFERROR(B49/D49*100-100,"-") -> -9.1805541 | I49: =IFERROR(C49/E49*100-100,"-") -> -9.076203 | J49: =IFERROR(B49/F49*100-100,"-") -> 1382.39 | K49: =IFERROR(C49/G49*100-100,"-") -> 1405.4644 | N49: 6.1.3 Other direct insurance | O49: 2494.2549 | P49: 8969.6101 | Q49: 4044.8526 | R49: 14281.208 | S49: =IFERROR(O49/Q49*100-100,"-") -> -38.335086 | T49: =IFERROR(P49/R49*100-100,"-") -> -37.192919
A50: 6.2 Reinsurance | B50: 698.70022 | C50: 2514.045 | D50: 244.29091 | E50: 877.9924 | F50: 742.8324 | G50: 2631.8734 | H50: =IFERROR(B50/D50*100-100,"-") -> 186.01155 | I50: =IFERROR(C50/E50*100-100,"-") -> 186.34018 | J50: =IFERROR(B50/F50*100-100,"-") -> -5.9410684 | K50: =IFERROR(C50/G50*100-100,"-") -> -4.4769783 | N50: 6.2 Reinsurance | O50: 943.25235 | P50: 3392.0374 | Q50: 1195.7996 | R50: 4222.0235 | S50: =IFERROR(O50/Q50*100-100,"-") -> -21.119526 | T50: =IFERROR(P50/R50*100-100,"-") -> -19.658491
A51: 6.3 Auxiliary insurance services | B51: 219.05066 | C51: 788.1824 | D51: 639.34509 | E51: 2297.8347 | F51: 282.3563 | G51: 1000.3953 | H51: =IFERROR(B51/D51*100-100,"-") -> -65.738274 | I51: =IFERROR(C51/E51*100-100,"-") -> -65.698908 | J51: =IFERROR(B51/F51*100-100,"-") -> -22.420482 | K51: =IFERROR(C51/G51*100-100,"-") -> -21.212905 | N51: 6.3 Auxiliary insurance services | O51: 858.15471 | P51: 3086.0171 | Q51: 1022.2918 | R51: 3609.4176 | S51: =IFERROR(O51/Q51*100-100,"-") -> -16.055795 | T51: =IFERROR(P51/R51*100-100,"-") -> -14.500968
A52: 6.4 Pension and standardized guarantee services | B52: 0 | C52: 0 | D52: 0 | E52: 0 | F52: 0 | G52: 0 | H52: =IFERROR(B52/D52*100-100,"-") -> - | I52: =IFERROR(C52/E52*100-100,"-") -> - | J52: =IFERROR(B52/F52*100-100,"-") -> - | K52: =IFERROR(C52/G52*100-100,"-") -> - | N52: 6.4 Pension and standardized guarantee services | O52: 0 | P52: 0 | Q52: 0 | R52: 0 | S52: =IFERROR(O52/Q52*100-100,"-") -> - | T52: =IFERROR(P52/R52*100-100,"-") -> -
J53: P-2 | S53: P-4
B54: EXPORTS OF SERVICES | I54: Rs. in Millions | O54: EXPORTS OF SERVICES | T54: Rs. in Millions
I55: Dollars in Thousands | T55: Dollars in Thousands
H56: % Change in August, 2026 | S56: % Change in July - August, 2026
B57: August, 2026 (P ) | D57: July, 2026 (R ) | F57: August, 2025 | H57: over | O57: July - August, 2026 | Q57: July - August, 2025 | S57: over
A58: Description | H58: July, 2026 | J58: August, 2025 | N58: Description | S58: July - August, 2025
B59: Rs | C59: $ | D59: Rs | E59: $ | F59: Rs | G59: $ | H59: Rs | I59: $ | J59: Rs | K59: $ | O59: Rs | P59: $ | Q59: Rs | R59: $ | S59: Rs | T59: $
A60: 7. Financial services | B60: =SUM(B61:B62) -> 1306.6818 | C60: =SUM(C61:C62) -> 4701.6685 | D60: =SUM(D61:D62) -> 2328.918 | E60: =SUM(E61:E62) -> 8370.2351 | F60: =SUM(F61:F62) -> 1260.1493 | G60: =SUM(G61:G62) -> 4464.7399 | H60: =IFERROR(B60/D60*100-100,"-") -> -43.893183 | I60: =IFERROR(C60/E60*100-100,"-") -> -43.828717 | J60: =IFERROR(B60/F60*100-100,"-") -> 3.6926148 | K60: =IFERROR(C60/G60*100-100,"-") -> 5.3066596 | N60: 7. Financial services | O60: =SUM(O61:O62) -> 3635.0141 | P60: =SUM(P61:P62) -> 13071.904 | Q60: =SUM(Q61:Q62) -> 2574.7127 | R60: =SUM(R61:R62) -> 9090.5684 | S60: =IFERROR(O60/Q60*100-100,"-") -> 41.181346 | T60: =IFERROR(P60/R60*100-100,"-") -> 43.796328
A61: 7.1 Explicitly charged and other financial services | B61: 1306.6818 | C61: 4701.6685 | D61: 2328.918 | E61: 8370.2351 | F61: 1260.1493 | G61: 4464.7399 | H61: =IFERROR(B61/D61*100-100,"-") -> -43.893183 | I61: =IFERROR(C61/E61*100-100,"-") -> -43.828717 | J61: =IFERROR(B61/F61*100-100,"-") -> 3.6926148 | K61: =IFERROR(C61/G61*100-100,"-") -> 5.3066596 | N61: 7.1 Explicitly charged and other financial services | O61: 3635.0141 | P61: 13071.904 | Q61: 2574.7127 | R61: 9090.5684 | S61: =IFERROR(O61/Q61*100-100,"-") -> 41.181346 | T61: =IFERROR(P61/R61*100-100,"-") -> 43.796328
A62: 7.2 Financial intermediation service charges indirectly measured (FISIM) | B62: 0 | C62: 0 | D62: 0 | E62: 0 | F62: 0 | G62: 0 | H62: =IFERROR(B62/D62*100-100,"-") -> - | I62: =IFERROR(C62/E62*100-100,"-") -> - | J62: =IFERROR(B62/F62*100-100,"-") -> - | K62: =IFERROR(C62/G62*100-100,"-") -> - | N62: 7.2 Financial intermediation service charges indirectly measured (FISIM) | O62: 0 | P62: 0 | Q62: 0 | R62: 0 | S62: =IFERROR(O62/Q62*100-100,"-") -> - | T62: =IFERROR(P62/R62*100-100,"-") -> -
A63: 8. Charges for the use of intellectual services | B63: 250.96299 | C63: 903.0085 | D63: 271.56239 | E63: 976.0073 | F63: 202.02231 | G63: 715.77 | H63: =IFERROR(B63/D63*100-100,"-") -> -7.585513 | I63: =IFERROR(C63/E63*100-100,"-") -> -7.4793293 | J63: =IFERROR(B63/F63*100-100,"-") -> 24.22538 | K63: =IFERROR(C63/G63*100-100,"-") -> 26.159032 | N63: 8. Charges for the use of intellectual services | O63: 522.51372 | P63: 1879.0158 | Q63: 459.62855 | R63: 1622.8159 | S63: =IFERROR(O63/Q63*100-100,"-") -> 13.681737 | T63: =IFERROR(P63/R63*100-100,"-") -> 15.787367
A64: 9. Telecommunication, Computer and information services | B64: =B65+B68+B75 -> 109675.66 | C64: =C65+C68+C75 -> 394632.1 | D64: =D65+D68+D75 -> 116139.18 | E64: =E65+E68+E75 -> 417409.37 | F64: =F65+F68+F75 -> 95133.489 | G64: =G65+G68+G75 -> 337060.28 | H64: =IFERROR(B64/D64*100-100,"-") -> -5.5653228 | I64: =IFERROR(C64/E64*100-100,"-") -> -5.4568179 | J64: =IFERROR(B64/F64*100-100,"-") -> 15.286065 | K64: =IFERROR(C64/G64*100-100,"-") -> 17.080569 | N64: 9. Telecommunication, Computer and information services | O64: =O65+O68+O75 -> 225811.2 | P64: =P65+P68+P75 -> 812041.47 | Q64: =Q65+Q68+Q75 -> 195908.3 | R64: =R65+R68+R75 -> 691695.73 | S64: =IFERROR(O64/Q64*100-100,"-") -> 15.263722 | T64: =IFERROR(P64/R64*100-100,"-") -> 17.398653
A65: 9.1 Telecommunications services | B65: =SUM(B66:B67) -> 17506.149 | C65: =SUM(C66:C67) -> 62990.172 | D65: =SUM(D66:D67) -> 14599.158 | E65: =SUM(E66:E67) -> 52470.024 | F65: =SUM(F66:F67) -> 15972.536 | G65: =SUM(G66:G67) -> 56591.085 | H65: =IFERROR(B65/D65*100-100,"-") -> 19.912046 | I65: =IFERROR(C65/E65*100-100,"-") -> 20.049824 | J65: =IFERROR(B65/F65*100-100,"-") -> 9.6015662 | K65: =IFERROR(C65/G65*100-100,"-") -> 11.307588 | N65: 9.1 Telecommunications services | O65: =SUM(O66:O67) -> 32106.987 | P65: =SUM(P66:P67) -> 115460.2 | Q65: =SUM(Q66:Q67) -> 28364.491 | R65: =SUM(R66:R67) -> 100146.84 | S65: =IFERROR(O65/Q65*100-100,"-") -> 13.194303 | T65: =IFERROR(P65/R65*100-100,"-") -> 15.290904
A66: 9.1.1 Call centres | B66: 9489.0439 | C66: 34143.231 | D66: 9397.0922 | E66: 33773.568 | F66: 7891.289 | G66: 27959.03 | H66: =IFERROR(B66/D66*100-100,"-") -> 0.97851182 | I66: =IFERROR(C66/E66*100-100,"-") -> 1.0945355 | J66: =IFERROR(B66/F66*100-100,"-") -> 20.247071 | K66: =IFERROR(C66/G66*100-100,"-") -> 22.118797 | N66: 9.1.1 Call centres | O66: 18886.195 | P66: 67916.799 | Q66: 15770.127 | R66: 55679.772 | S66: =IFERROR(O66/Q66*100-100,"-") -> 19.759309 | T66: =IFERROR(P66/R66*100-100,"-") -> 21.977509
A67: 9.1.2 Telecommunication services | B67: 8017.1054 | C67: 28846.941 | D67: 5202.066 | E67: 18696.457 | F67: 8081.2467 | G67: 28632.055 | H67: =IFERROR(B67/D67*100-100,"-") -> 54.113873 | I67: =IFERROR(C67/E67*100-100,"-") -> 54.290949 | J67: =IFERROR(B67/F67*100-100,"-") -> -0.79370557 | K67: =IFERROR(C67/G67*100-100,"-") -> 0.75050673 | N67: 9.1.2 Telecommunication services | O67: 13220.792 | P67: 47543.397 | Q67: 12594.364 | R67: 44467.067 | S67: =IFERROR(O67/Q67*100-100,"-") -> 4.9738799 | T67: =IFERROR(P67/R67*100-100,"-") -> 6.9182215
A68: 9.2 Computer services | B68: =SUM(B69:B74) -> 92062.714 | C68: =SUM(C69:C74) -> 331257.67 | D68: =SUM(D69:D74) -> 101443.23 | E68: =SUM(E69:E74) -> 364591.49 | F68: =SUM(F69:F74) -> 79062.525 | G68: =SUM(G69:G74) -> 280120.46 | H68: =IFERROR(B68/D68*100-100,"-") -> -9.2470614 | I68: =IFERROR(C68/E68*100-100,"-") -> -9.1427868 | J68: =IFERROR(B68/F68*100-100,"-") -> 16.442922 | K68: =IFERROR(C68/G68*100-100,"-") -> 18.255434 | N68: 9.2 Computer services | O68: =SUM(O69:O74) -> 193500.62 | P68: =SUM(P69:P74) -> 695849.16 | Q68: =SUM(Q69:Q74) -> 167305.83 | R68: =SUM(R69:R74) -> 590708.64 | S68: =IFERROR(O68/Q68*100-100,"-") -> 15.656835 | T68: =IFERROR(P68/R68*100-100,"-") -> 17.799048
A69: 9.2.1 Hardware consultancy services | B69: 29.421284 | C69: 105.8629 | D69: 43.234968 | E69: 155.3884 | F69: 115.7563 | G69: 410.1274 | H69: =IFERROR(B69/D69*100-100,"-") -> -31.950259 | I69: =IFERROR(C69/E69*100-100,"-") -> -31.87207 | J69: =IFERROR(B69/F69*100-100,"-") -> -74.583427 | K69: =IFERROR(C69/G69*100-100,"-") -> -74.187801 | N69: 9.2.1 Hardware consultancy services | O69: 72.648345 | P69: 261.2513 | Q69: 131.97265 | R69: 465.9574 | S69: =IFERROR(O69/Q69*100-100,"-") -> -44.951971 | T69: =IFERROR(P69/R69*100-100,"-") -> -43.932364
A70: 9.2.2 Software consultancy services | B70: 31775.973 | C70: 114335.48 | D70: 34735.605 | E70: 124841.31 | F70: 24863.26 | G70: 88091.138 | H70: =IFERROR(B70/D70*100-100,"-") -> -8.5204561 | I70: =IFERROR(C70/E70*100-100,"-") -> -8.4153466 | J70: =IFERROR(B70/F70*100-100,"-") -> 27.802923 | K70: =IFERROR(C70/G70*100-100,"-") -> 29.792261 | N70: 9.2.2 Software consultancy services | O70: 66509.9 | P70: 239176.79 | Q70: 54495.728 | R70: 192408.71 | S70: =IFERROR(O70/Q70*100-100,"-") -> 22.04608 | T70: =IFERROR(P70/R70*100-100,"-") -> 24.306635
A71: 9.2.3 Maintenance & repairs of computer | B71: 11.331803 | C71: 40.7738 | D71: 11.255843 | E71: 40.454 | F71: 8.4972881 | G71: 30.1061 | H71: =IFERROR(B71/D71*100-100,"-") -> 0.6748527 | I71: =IFERROR(C71/E71*100-100,"-") -> 0.79052751 | J71: =IFERROR(B71/F71*100-100,"-") -> 33.357878 | K71: =IFERROR(C71/G71*100-100,"-") -> 35.433683 | N71: 9.2.3 Maintenance & repairs of computer | O71: 22.587697 | P71: 81.2278 | Q71: 38.922917 | R71: 137.4256 | S71: =IFERROR(O71/Q71*100-100,"-") -> -41.968129 | T71: =IFERROR(P71/R71*100-100,"-") -> -40.893254
A72: 9.2.4 Export / Import of Computer Software | B72: 12243.485 | C72: 44054.192 | D72: 16884.877 | E72: 60684.998 | F72: 12366.263 | G72: 43813.974 | H72: =IFERROR(B72/D72*100-100,"-") -> -27.488452 | I72: =IFERROR(C72/E72*100-100,"-") -> -27.405137 | J72: =IFERROR(B72/F72*100-100,"-") -> -0.99284478 | K72: =IFERROR(C72/G72*100-100,"-") -> 0.54826778 | N72: 9.2.4 Export / Import of Computer Software | O72: 29125.707 | P72: 104739.19 | Q72: 25961.16 | R72: 91661.372 | S72: =IFERROR(O72/Q72*100-100,"-") -> 12.189543 | T72: =IFERROR(P72/R72*100-100,"-") -> 14.267534
A73: 9.2.5 Freelance of Computer and Information Services | B73: 29453.53 | C73: 105978.93 | D73: 29709.786 | E73: 106778.29 | F73: 25852.912 | G73: 91597.501 | H73: =IFERROR(B73/D73*100-100,"-") -> -0.86253243 | I73: =IFERROR(C73/E73*100-100,"-") -> -0.74862406 | J73: =IFERROR(B73/F73*100-100,"-") -> 13.927319 | K73: =IFERROR(C73/G73*100-100,"-") -> 15.700674 | N73: 9.2.5 Freelance of Computer and Information Services | O73: 59163.188 | P73: 212757.22 | Q73: 51397.414 | R73: 181469.45 | S73: =IFERROR(O73/Q73*100-100,"-") -> 15.10927 | T73: =IFERROR(P73/R73*100-100,"-") -> 17.241341
A74: 9.2.6 Other Computer services | B74: 18548.973 | C74: 66742.434 | D74: 20058.474 | E74: 72091.047 | F74: 15855.836 | G74: 56177.615 | H74: =IFERROR(B74/D74*100-100,"-") -> -7.5255004 | I74: =IFERROR(C74/E74*100-100,"-") -> -7.4192478 | J74: =IFERROR(B74/F74*100-100,"-") -> 16.985149 | K74: =IFERROR(C74/G74*100-100,"-") -> 18.806101 | N74: 9.2.6 Other Computer services | O74: 38606.593 | P74: 138833.48 | Q74: 35280.629 | R74: 124565.73 | S74: =IFERROR(O74/Q74*100-100,"-") -> 9.4271682 | T74: =IFERROR(P74/R74*100-100,"-") -> 11.453994
A75: 9.3 Information services | B75: =SUM(B76:B77) -> 106.79272 | C75: =SUM(C76:C77) -> 384.2588 | D75: =SUM(D76:D77) -> 96.785863 | E75: =SUM(E76:E77) -> 347.8527 | F75: =SUM(F76:F77) -> 98.429153 | G75: =SUM(G76:G77) -> 348.7369 | H75: =IFERROR(B75/D75*100-100,"-") -> 10.339174 | I75: =IFERROR(C75/E75*100-100,"-") -> 10.465953 | J75: =IFERROR(B75/F75*100-100,"-") -> 8.4970446 | K75: =IFERROR(C75/G75*100-100,"-") -> 10.185874 | N75: 9.3 Information services | O75: =SUM(O76:O77) -> 203.5844 | P75: =SUM(P76:P77) -> 732.1115 | Q75: =SUM(Q76:Q77) -> 237.98111 | R75: =SUM(R76:R77) -> 840.2427 | S75: =IFERROR(O75/Q75*100-100,"-") -> -14.453548 | T75: =IFERROR(P75/R75*100-100,"-") -> -12.869044
A76: 9.3.1 News agency services | B76: 61.65794 | C76: 221.856 | D76: 60.410159 | E76: 217.1168 | F76: 65.757829 | G76: 232.9816 | H76: =IFERROR(B76/D76*100-100,"-") -> 2.0655156 | I76: =IFERROR(C76/E76*100-100,"-") -> 2.1827883 | J76: =IFERROR(B76/F76*100-100,"-") -> -6.2348303 | K76: =IFERROR(C76/G76*100-100,"-") -> -4.7753127 | N76: 9.3.1 News agency services | O76: 122.06886 | P76: 438.9728 | Q76: 148.74443 | R76: 525.1737 | S76: =IFERROR(O76/Q76*100-100,"-") -> -17.93383 | T76: =IFERROR(P76/R76*100-100,"-") -> -16.413788
A77: 9.3.2 Other information services | B77: 45.134782 | C77: 162.4028 | D77: 36.375704 | E77: 130.7359 | F77: 32.671324 | G77: 115.7553 | H77: =IFERROR(B77/D77*100-100,"-") -> 24.079472 | I77: =IFERROR(C77/E77*100-100,"-") -> 24.222038 | J77: =IFERROR(B77/F77*100-100,"-") -> 38.148005 | K77: =IFERROR(C77/G77*100-100,"-") -> 40.298371 | N77: 9.3.2 Other information services | O77: 81.515542 | P77: 293.1387 | Q77: 89.236682 | R77: 315.069 | S77: =IFERROR(O77/Q77*100-100,"-") -> -8.6524284 | T77: =IFERROR(P77/R77*100-100,"-") -> -6.9604753
A78: 10. Other business services | B78: =B79+B80+B86 -> 58108.359 | C78: =C79+C80+C86 -> 209083.99 | D78: =D79+D80+D86 -> 58496.102 | E78: =E79+E80+E86 -> 210237.6 | F78: =F79+F80+F86 -> 43395.319 | G78: =G79+G80+G86 -> 153750.68 | H78: =IFERROR(B78/D78*100-100,"-") -> -0.66285336 | I78: =IFERROR(C78/E78*100-100,"-") -> -0.54871556 | J78: =IFERROR(B78/F78*100-100,"-") -> 33.904672 | K78: =IFERROR(C78/G78*100-100,"-") -> 35.988988 | N78: 10. Other business services | O78: =O79+O80+O86 -> 116604.28 | P78: =P79+P80+P86 -> 419321.58 | Q78: =Q79+Q80+Q86 -> 85626.474 | R78: =R79+R80+R86 -> 302322.4 | S78: =IFERROR(O78/Q78*100-100,"-") -> 36.177833 | T78: =IFERROR(P78/R78*100-100,"-") -> 38.700139
A79: 10.1 Research and development services | B79: 789.47985 | C79: 2840.6859 | D79: 734.86878 | E79: 2641.1511 | F79: 1077.7173 | G79: 3818.3788 | H79: =IFERROR(B79/D79*100-100,"-") -> 7.4314042 | I79: =IFERROR(C79/E79*100-100,"-") -> 7.5548423 | J79: =IFERROR(B79/F79*100-100,"-") -> -26.745182 | K79: =IFERROR(C79/G79*100-100,"-") -> -25.604922 | N79: 10.1 Research and development services | O79: 1524.3805 | P79: 5481.837 | Q79: 1558.0407 | R79: 5500.9925 | S79: =IFERROR(O79/Q79*100-100,"-") -> -2.1604181 | T79: =IFERROR(P79/R79*100-100,"-") -> -0.34821898
A80: 10.2 Professional and management consulting services | B80: =B81+B85 -> 12718.976 | C80: =C81+C85 -> 45765.091 | D80: =D81+D85 -> 13224.566 | E80: =E81+E85 -> 47529.68 | F80: =F81+F85 -> 11013.782 | G80: =G81+G85 -> 39022.099 | H80: =IFERROR(B80/D80*100-100,"-") -> -3.8231119 | I80: =IFERROR(C80/E80*100-100,"-") -> -3.7126052 | J80: =IFERROR(B80/F80*100-100,"-") -> 15.482371 | K80: =IFERROR(C80/G80*100-100,"-") -> 17.279931 | N80: 10.2 Professional and management consulting services | O80: =O81+O85 -> 25943.261 | P80: =P81+P85 -> 93294.771 | Q80: =Q81+Q85 -> 23004.542 | R80: =R81+R85 -> 81222.407 | S80: =IFERROR(O80/Q80*100-100,"-") -> 12.774517 | T80: =IFERROR(P80/R80*100-100,"-") -> 14.863343
A81: 10.2.1 Legal, accounting, management consulting, and public relations | B81: =SUM(B82:B84) -> 10079.338 | C81: =SUM(C82:C84) -> 36267.211 | D81: =SUM(D82:D84) -> 10363.691 | E81: =SUM(E82:E84) -> 37247.566 | F81: =SUM(F82:F84) -> 8624.1459 | G81: =SUM(G82:G84) -> 30555.56 | H81: =IFERROR(B81/D81*100-100,"-") -> -2.7437444 | I81: =IFERROR(C81/E81*100-100,"-") -> -2.6319975 | J81: =IFERROR(B81/F81*100-100,"-") -> 16.873458 | K81: =IFERROR(C81/G81*100-100,"-") -> 18.692671 | N81: 10.2.1 Legal, accounting, management consulting, and public relations | O81: =SUM(O82:O84) -> 20442.872 | P81: =SUM(P82:P84) -> 73514.776 | Q81: =SUM(Q82:Q84) -> 18122.075 | R81: =SUM(R82:R84) -> 63983.824 | S81: =IFERROR(O81/Q81*100-100,"-") -> 12.80646 | T81: =IFERROR(P81/R81*100-100,"-") -> 14.895878
A82: 10.2.1.1 Legal services | B82: 691.60251 | C82: 2488.5062 | D82: 582.4355 | E82: 2093.2991 | F82: 600.32182 | G82: 2126.9549 | H82: =IFERROR(B82/D82*100-100,"-") -> 18.743194 | I82: =IFERROR(C82/E82*100-100,"-") -> 18.879629 | J82: =IFERROR(B82/F82*100-100,"-") -> 15.205294 | K82: =IFERROR(C82/G82*100-100,"-") -> 16.998541 | N82: 10.2.1.1 Legal services | O82: 1274.1011 | P82: 4581.8053 | Q82: 1228.0054 | R82: 4335.7329 | S82: =IFERROR(O82/Q82*100-100,"-") -> 3.7537097 | T82: =IFERROR(P82/R82*100-100,"-") -> 5.6754511
A83: 10.2.1.2 Accounting, auditing, bookkeeping, and tax consulting services | B83: 1724.6681 | C83: 6205.6559 | D83: 2333.651 | E83: 8387.2456 | F83: 1677.5499 | G83: 5943.6005 | H83: =IFERROR(B83/D83*100-100,"-") -> -26.095716 | I83: =IFERROR(C83/E83*100-100,"-") -> -26.0108 | J83: =IFERROR(B83/F83*100-100,"-") -> 2.8087477 | K83: =IFERROR(C83/G83*100-100,"-") -> 4.4090346 | N83: 10.2.1.2 Accounting, auditing, bookkeeping, and tax consulting services | O83: 4057.9708 | P83: 14592.901 | Q83: 3827.3026 | R83: 13513.102 | S83: =IFERROR(O83/Q83*100-100,"-") -> 6.0269112 | T83: =IFERROR(P83/R83*100-100,"-") -> 7.9907572
A84: 10.2.1.3 Business and management consulting and public relations services | B84: 7663.067 | C84: 27573.049 | D84: 7447.6042 | E84: 26767.021 | F84: 6346.2742 | G84: 22485.005 | H84: =IFERROR(B84/D84*100-100,"-") -> 2.8930477 | I84: =IFERROR(C84/E84*100-100,"-") -> 3.0112712 | J84: =IFERROR(B84/F84*100-100,"-") -> 20.749068 | K84: =IFERROR(C84/G84*100-100,"-") -> 22.628608 | N84: 10.2.1.3 Business and management consulting and public relations services | O84: 15110.8 | P84: 54340.07 | Q84: 13066.767 | R84: 46134.989 | S84: =IFERROR(O84/Q84*100-100,"-") -> 15.642985 | T84: =IFERROR(P84/R84*100-100,"-") -> 17.784941
A85: 10.2.2 Advertising, market research, and public opinion polling | B85: 2639.6389 | C85: 9497.8802 | D85: 2860.8757 | E85: 10282.115 | F85: 2389.636 | G85: 8466.5388 | H85: =IFERROR(B85/D85*100-100,"-") -> -7.7331844 | I85: =IFERROR(C85/E85*100-100,"-") -> -7.6271704 | J85: =IFERROR(B85/F85*100-100,"-") -> 10.461968 | K85: =IFERROR(C85/G85*100-100,"-") -> 12.181382 | N85: 10.2.2 Advertising, market research, and public opinion polling | O85: 5500.3894 | P85: 19779.995 | Q85: 4882.4667 | R85: 17238.582 | S85: =IFERROR(O85/Q85*100-100,"-") -> 12.655954 | T85: =IFERROR(P85/R85*100-100,"-") -> 14.742584
A86: 10.3 Technical, trade-related and other business services | B86: 44599.903 | C86: 160478.21 | D86: 44536.667 | E86: 160066.76 | F86: 31303.819 | G86: 110910.2 | H86: =IFERROR(B86/D86*100-100,"-") -> 0.14198531 | I86: =IFERROR(C86/E86*100-100,"-") -> 0.25704786 | J86: =IFERROR(B86/F86*100-100,"-") -> 42.474317 | K86: =IFERROR(C86/G86*100-100,"-") -> 44.692025 | N86: 10.3 Technical, trade-related and other business services | O86: 89136.636 | P86: 320544.98 | Q86: 61063.892 | R86: 215599 | S86: =IFERROR(O86/Q86*100-100,"-") -> 45.97274 | T86: =IFERROR(P86/R86*100-100,"-") -> 48.676469
A87: 10.3.1 Architectural, engineering, scientific and other technical services | B87: 2550.4507 | C87: 9176.9655 | D87: 3438.8785 | E87: 12359.482 | F87: 4414.5809 | G87: 15640.968 | H87: =IFERROR(B87/D87*100-100,"-") -> -25.834812 | I87: =IFERROR(C87/E87*100-100,"-") -> -25.749596 | J87: =IFERROR(B87/F87*100-100,"-") -> -42.226663 | K87: =IFERROR(C87/G87*100-100,"-") -> -41.327383 | N87: 10.3.1 Architectural, engineering, scientific and other technical services | O87: 5988.821 | P87: 21536.448 | Q87: 6330.0804 | R87: 22349.689 | S87: =IFERROR(O87/Q87*100-100,"-") -> -5.3910745 | T87: =IFERROR(P87/R87*100-100,"-") -> -3.6387142
A88: 10.3.2 Waste treatment and de-pollution, agricultural and mining services | B88: 164.82755 | C88: 593.0782 | D88: 67.326879 | E88: 241.9758 | F88: 5.3863585 | G88: 19.084 | H88: =IFERROR(B88/D88*100-100,"-") -> 144.81685 | I88: =IFERROR(C88/E88*100-100,"-") -> 145.09815 | J88: =IFERROR(B88/F88*100-100,"-") -> 2960.0924 | K88: =IFERROR(C88/G88*100-100,"-") -> 3007.7248 | N88: 10.3.2 Waste treatment and de-pollution, agricultural and mining services | O88: 232.21048 | P88: 835.054 | Q88: 107.52195 | R88: 379.629 | S88: =IFERROR(O88/Q88*100-100,"-") -> 115.96566 | T88: =IFERROR(P88/R88*100-100,"-") -> 119.96581
A89: 10.3.3 Operating leasing services | B89: 0 | C89: 0 | D89: 1.8636942 | E89: 6.6982 | F89: 0.15001308 | G89: 0.5315 | H89: - | I89: - | J89: - | K89: - | N89: 10.3.3 Operating leasing services | O89: 1.8626248 | P89: 6.6982 | Q89: 1.6067582 | R89: 5.673 | S89: =IFERROR(O89/Q89*100-100,"-") -> 15.924398 | T89: =IFERROR(P89/R89*100-100,"-") -> 18.071567
A90: 10.3.4 Trade-related services | B90: 600.36548 | C90: 2160.2195 | D90: 767.53209 | E90: 2758.5445 | F90: 626.58071 | G90: 2219.9908 | H90: =IFERROR(B90/D90*100-100,"-") -> -21.779755 | I90: =IFERROR(C90/E90*100-100,"-") -> -21.68988 | J90: =IFERROR(B90/F90*100-100,"-") -> -4.1838544 | K90: =IFERROR(C90/G90*100-100,"-") -> -2.6924121 | N90: 10.3.4 Trade-related services | O90: 1367.802 | P90: 4918.764 | Q90: 1468.3819 | R90: 5184.4333 | S90: =IFERROR(O90/Q90*100-100,"-") -> -6.8497086 | T90: =IFERROR(P90/R90*100-100,"-") -> -5.1243653
A91: 10.3.5 Other Freelance Services | B91: 19646.374 | C91: 70691.074 | D91: 19104.159 | E91: 68661.198 | F91: 9264.5803 | G91: 32824.635 | H91: =IFERROR(B91/D91*100-100,"-") -> 2.838204 | I91: =IFERROR(C91/E91*100-100,"-") -> 2.9563645 | J91: =IFERROR(B91/F91*100-100,"-") -> 112.05898 | K91: =IFERROR(C91/G91*100-100,"-") -> 115.35982 | N91: 10.3.5 Other Freelance Services | O91: 38750.857 | P91: 139352.27 | Q91: 17987.348 | R91: 63508.142 | S91: =IFERROR(O91/Q91*100-100,"-") -> 115.43396 | T91: =IFERROR(P91/R91*100-100,"-") -> 119.42426
A92: 10.3.6 Other business services n.i.e. | B92: 21637.885 | C92: 77856.876 | D92: 21156.907 | E92: 76038.865 | F92: 16992.541 | G92: 60204.99 | H92: =IFERROR(B92/D92*100-100,"-") -> 2.2733849 | I92: =IFERROR(C92/E92*100-100,"-") -> 2.3908964 | J92: =IFERROR(B92/F92*100-100,"-") -> 27.337546 | K92: =IFERROR(C92/G92*100-100,"-") -> 29.31964 | N92: 10.3.6 Other business services n.i.e. | O92: 42795.082 | P92: 153895.74 | Q92: 35168.952 | R92: 124171.43 | S92: =IFERROR(O92/Q92*100-100,"-") -> 21.684268 | T92: =IFERROR(P92/R92*100-100,"-") -> 23.938122
A93: 11. Personal, cultural, and recreational services | B93: =B94+B97 -> 586.3308 | C93: =C94+C97 -> 2109.7203 | D93: =D94+D97 -> 4582.0426 | E93: =E94+E97 -> 16468.065 | F93: =F94+F97 -> 1279.2071 | G93: =G94+G97 -> 4532.2621 | H93: =IFERROR(B93/D93*100-100,"-") -> -87.203724 | I93: =IFERROR(C93/E93*100-100,"-") -> -87.189022 | J93: =IFERROR(B93/F93*100-100,"-") -> -54.164513 | K93: =IFERROR(C93/G93*100-100,"-") -> -53.451053 | N93: 11. Personal, cultural, and recreational services | O93: =O94+O97 -> 5166.0809 | P93: =P94+P97 -> 18577.785 | Q93: =Q94+Q97 -> 6388.2634 | R93: =R94+R97 -> 22555.116 | S93: =IFERROR(O93/Q93*100-100,"-") -> -19.131685 | T93: =IFERROR(P93/R93*100-100,"-") -> -17.63383
A94: 11.1 Audiovisual and related services | B94: =SUM(B95:B96) -> 299.61046 | C94: =SUM(C95:C96) -> 1078.0506 | D94: =SUM(D95:D96) -> 559.43165 | E94: =SUM(E95:E96) -> 2010.6223 | F94: =SUM(F95:F96) -> 373.73718 | G94: =SUM(G95:G96) -> 1324.16 | H94: =IFERROR(B94/D94*100-100,"-") -> -46.443779 | I94: =IFERROR(C94/E94*100-100,"-") -> -46.382243 | J94: =IFERROR(B94/F94*100-100,"-") -> -19.833918 | K94: =IFERROR(C94/G94*100-100,"-") -> -18.586079 | N94: 11.1 Audiovisual and related services | O94: =SUM(O95:O96) -> 858.89321 | P94: =SUM(P95:P96) -> 3088.6728 | Q94: =SUM(Q95:Q96) -> 1563.5597 | R94: =SUM(R95:R96) -> 5520.4786 | S94: =IFERROR(O94/Q94*100-100,"-") -> -45.06809 | T94: =IFERROR(P94/R94*100-100,"-") -> -44.050633
A95: 11.1.1 Audiovisual services | B95: 172.63264 | C95: 621.1623 | D95: 410.03708 | E95: 1473.6915 | F95: 328.95025 | G95: 1165.4788 | H95: =IFERROR(B95/D95*100-100,"-") -> -57.898284 | I95: =IFERROR(C95/E95*100-100,"-") -> -57.84991 | J95: =IFERROR(B95/F95*100-100,"-") -> -47.520136 | K95: =IFERROR(C95/G95*100-100,"-") -> -46.703252 | N95: 11.1.1 Audiovisual services | O95: 582.5336 | P95: 2094.8538 | Q95: 746.82857 | R95: 2636.8364 | S95: =IFERROR(O95/Q95*100-100,"-") -> -21.99902 | T95: =IFERROR(P95/R95*100-100,"-") -> -20.554275
A96: 11.1.2 Artistic related services | B96: 126.97781 | C96: 456.88826 | D96: 149.39458 | E96: 536.93076 | F96: 44.786927 | G96: 158.68118 | H96: =IFERROR(B96/D96*100-100,"-") -> -15.005074 | I96: =IFERROR(C96/E96*100-100,"-") -> -14.907416 | J96: =IFERROR(B96/F96*100-100,"-") -> 183.51534 | K96: =IFERROR(C96/G96*100-100,"-") -> 187.92845 | N96: 11.1.2 Artistic related services | O96: 276.35961 | P96: 993.81903 | Q96: 816.73113 | R96: 2883.6422 | S96: =IFERROR(O96/Q96*100-100,"-") -> -66.162719 | T96: =IFERROR(P96/R96*100-100,"-") -> -65.53598
A97: 11.2 Other personal, cultural, and recreational services | B97: 286.72034 | C97: 1031.6697 | D97: 4022.611 | E97: 14457.443 | F97: 905.46992 | G97: 3208.1021 | H97: =IFERROR(B97/D97*100-100,"-") -> -92.872283 | I97: =IFERROR(C97/E97*100-100,"-") -> -92.864093 | J97: =IFERROR(B97/F97*100-100,"-") -> -68.334636 | K97: =IFERROR(C97/G97*100-100,"-") -> -67.841744 | N97: 11.2 Other personal, cultural, and recreational services | O97: 4307.1877 | P97: 15489.113 | Q97: 4824.7037 | R97: 17034.638 | S97: =IFERROR(O97/Q97*100-100,"-") -> -10.726378 | T97: =IFERROR(P97/R97*100-100,"-") -> -9.0728386
A98: 12. Government services, n.i.e. | B98: =SUM(B99+B100+B101) -> 14712.574 | C98: =SUM(C99+C100+C101) -> 52938.402 | D98: =SUM(D99+D100+D101) -> 19362.265 | E98: =SUM(E99+E100+E101) -> 69588.842 | F98: =SUM(F99+F100+F101) -> 14985.454 | G98: =SUM(G99+G100+G101) -> 53093.831 | H98: =IFERROR(B98/D98*100-100,"-") -> -24.014189 | I98: =IFERROR(C98/E98*100-100,"-") -> -23.926882 | J98: =IFERROR(B98/F98*100-100,"-") -> -1.8209666 | K98: =IFERROR(C98/G98*100-100,"-") -> -0.29274432 | N98: 12. Government services, n.i.e. | O98: =SUM(O99+O100+O101) -> 34072.18 | P98: =SUM(P99+P100+P101) -> 122527.24 | Q98: =SUM(Q99+Q100+Q101) -> 33541.506 | R98: =SUM(R99+R100+R101) -> 118425.39 | S98: =IFERROR(O98/Q98*100-100,"-") -> 1.5821417 | T98: =IFERROR(P98/R98*100-100,"-") -> 3.463661
A99: 12.1 Embassies and consulates | B99: 1903.9292 | C99: 6850.6686 | D99: 3269.0739 | E99: 11749.197 | F99: 2117.5202 | G99: 7502.4259 | H99: =IFERROR(B99/D99*100-100,"-") -> -41.759371 | I99: =IFERROR(C99/E99*100-100,"-") -> -41.692453 | J99: =IFERROR(B99/F99*100-100,"-") -> -10.086846 | K99: =IFERROR(C99/G99*100-100,"-") -> -8.6872881 | N99: 12.1 Embassies and consulates | O99: 5172.2209 | P99: 18599.866 | Q99: 5738.617 | R99: 20261.402 | S99: =IFERROR(O99/Q99*100-100,"-") -> -9.8699048 | T99: =IFERROR(P99/R99*100-100,"-") -> -8.2005019
A100: 12.2 Military units and agencies | B100: 84.500721 | C100: 304.0483 | D100: 2664.2555 | E100: 9575.453 | F100: 164.1191 | G100: 581.478 | H100: =IFERROR(B100/D100*100-100,"-") -> -96.828355 | I100: =IFERROR(C100/E100*100-100,"-") -> -96.824711 | J100: =IFERROR(B100/F100*100-100,"-") -> -48.512562 | K100: =IFERROR(C100/G100*100-100,"-") -> -47.711126 | N100: 12.2 Military units and agencies | O100: 2747.276 | P100: 9879.5013 | Q100: 261.72519 | R100: 924.07619 | S100: =IFERROR(O100/Q100*100-100,"-") -> 949.67962 | T100: =IFERROR(P100/R100*100-100,"-") -> 969.12194
...
